BEGIN:VCALENDAR
VERSION:2.0
PRODID:-//East Side Riders Bike Club - ECPv6.15.20//NONSGML v1.0//EN
CALSCALE:GREGORIAN
METHOD:PUBLISH
X-WR-CALNAME:East Side Riders Bike Club
X-ORIGINAL-URL:https://esrbc.org
X-WR-CALDESC:Events for East Side Riders Bike Club
REFRESH-INTERVAL;VALUE=DURATION:PT1H
X-Robots-Tag:noindex
X-PUBLISHED-TTL:PT1H
BEGIN:VTIMEZONE
TZID:America/Los_Angeles
BEGIN:DAYLIGHT
TZOFFSETFROM:-0800
TZOFFSETTO:-0700
TZNAME:PDT
DTSTART:20290311T100000
END:DAYLIGHT
BEGIN:STANDARD
TZOFFSETFROM:-0700
TZOFFSETTO:-0800
TZNAME:PST
DTSTART:20291104T090000
END:STANDARD
BEGIN:DAYLIGHT
TZOFFSETFROM:-0800
TZOFFSETTO:-0700
TZNAME:PDT
DTSTART:20300310T100000
END:DAYLIGHT
BEGIN:STANDARD
TZOFFSETFROM:-0700
TZOFFSETTO:-0800
TZNAME:PST
DTSTART:20301103T090000
END:STANDARD
BEGIN:DAYLIGHT
TZOFFSETFROM:-0800
TZOFFSETTO:-0700
TZNAME:PDT
DTSTART:20310309T100000
END:DAYLIGHT
BEGIN:STANDARD
TZOFFSETFROM:-0700
TZOFFSETTO:-0800
TZNAME:PST
DTSTART:20311102T090000
END:STANDARD
END:VTIMEZONE
BEGIN:VEVENT
DTSTART;TZID=America/Los_Angeles:20300604T110000
DTEND;TZID=America/Los_Angeles:20300604T120000
DTSTAMP:20260425T060043
CREATED:20260115T032221Z
LAST-MODIFIED:20260115T032628Z
UID:10004781-1906801200-1906804800@esrbc.org
SUMMARY:Watts - Food Distribution Every Tuesday
DESCRIPTION:
URL:https://esrbc.org/event/watts-food-distribution-every-tuesday/2030-06-04/
LOCATION:Watts Civic Center\, 1513\, Los Angeles\, CA\, 90002\, United States
END:VEVENT
BEGIN:VEVENT
DTSTART;TZID=America/Los_Angeles:20300604T140000
DTEND;TZID=America/Los_Angeles:20300604T180000
DTSTAMP:20260425T060043
CREATED:20260115T034104Z
LAST-MODIFIED:20260115T034140Z
UID:10007262-1906812000-1906826400@esrbc.org
SUMMARY:Huntington Park - After School Program (Tues.)
DESCRIPTION:
URL:https://esrbc.org/event/huntington-park-after-school-program-tues/2030-06-04/
LOCATION:ESRBC H.P. Office\, 6013 State Street\, Huntington Park\, CA\, 90255\, United States
END:VEVENT
BEGIN:VEVENT
DTSTART;TZID=America/Los_Angeles:20300605T150000
DTEND;TZID=America/Los_Angeles:20300605T180000
DTSTAMP:20260425T060043
CREATED:20260115T033113Z
LAST-MODIFIED:20260115T033311Z
UID:10004829-1906902000-1906912800@esrbc.org
SUMMARY:Huntington Park - After School Program (Wed.)
DESCRIPTION:
URL:https://esrbc.org/event/huntington-park-after-school-program-2-2/2030-06-05/
LOCATION:ESRBC H.P. Office\, 6013 State Street\, Huntington Park\, CA\, 90255\, United States
END:VEVENT
BEGIN:VEVENT
DTSTART;TZID=America/Los_Angeles:20300606T150000
DTEND;TZID=America/Los_Angeles:20300606T180000
DTSTAMP:20260425T060043
CREATED:20260115T033402Z
LAST-MODIFIED:20260115T033402Z
UID:10005902-1906988400-1906999200@esrbc.org
SUMMARY:Huntington Park - After School Program (Thur.)
DESCRIPTION:
URL:https://esrbc.org/event/huntington-park-after-school-program-thur/2030-06-06/
LOCATION:ESRBC H.P. Office\, 6013 State Street\, Huntington Park\, CA\, 90255\, United States
END:VEVENT
BEGIN:VEVENT
DTSTART;TZID=America/Los_Angeles:20300607T180000
DTEND;TZID=America/Los_Angeles:20300607T200000
DTSTAMP:20260425T060043
CREATED:20260115T033649Z
LAST-MODIFIED:20260115T033649Z
UID:10006505-1907085600-1907092800@esrbc.org
SUMMARY:Friday Night Bike Ride
DESCRIPTION:
URL:https://esrbc.org/event/friday-night-bike-ride-2/2030-06-07/
LOCATION:ESRBC H.P. Office\, 6013 State Street\, Huntington Park\, CA\, 90255\, United States
END:VEVENT
BEGIN:VEVENT
DTSTART;TZID=America/Los_Angeles:20300611T110000
DTEND;TZID=America/Los_Angeles:20300611T120000
DTSTAMP:20260425T060043
CREATED:20260115T032221Z
LAST-MODIFIED:20260115T032628Z
UID:10004782-1907406000-1907409600@esrbc.org
SUMMARY:Watts - Food Distribution Every Tuesday
DESCRIPTION:
URL:https://esrbc.org/event/watts-food-distribution-every-tuesday/2030-06-11/
LOCATION:Watts Civic Center\, 1513\, Los Angeles\, CA\, 90002\, United States
END:VEVENT
BEGIN:VEVENT
DTSTART;TZID=America/Los_Angeles:20300611T140000
DTEND;TZID=America/Los_Angeles:20300611T180000
DTSTAMP:20260425T060043
CREATED:20260115T034104Z
LAST-MODIFIED:20260115T034140Z
UID:10007263-1907416800-1907431200@esrbc.org
SUMMARY:Huntington Park - After School Program (Tues.)
DESCRIPTION:
URL:https://esrbc.org/event/huntington-park-after-school-program-tues/2030-06-11/
LOCATION:ESRBC H.P. Office\, 6013 State Street\, Huntington Park\, CA\, 90255\, United States
END:VEVENT
BEGIN:VEVENT
DTSTART;TZID=America/Los_Angeles:20300612T150000
DTEND;TZID=America/Los_Angeles:20300612T180000
DTSTAMP:20260425T060043
CREATED:20260115T033113Z
LAST-MODIFIED:20260115T033311Z
UID:10004831-1907506800-1907517600@esrbc.org
SUMMARY:Huntington Park - After School Program (Wed.)
DESCRIPTION:
URL:https://esrbc.org/event/huntington-park-after-school-program-2-2/2030-06-12/
LOCATION:ESRBC H.P. Office\, 6013 State Street\, Huntington Park\, CA\, 90255\, United States
END:VEVENT
BEGIN:VEVENT
DTSTART;TZID=America/Los_Angeles:20300613T150000
DTEND;TZID=America/Los_Angeles:20300613T180000
DTSTAMP:20260425T060043
CREATED:20260115T033402Z
LAST-MODIFIED:20260115T033402Z
UID:10005903-1907593200-1907604000@esrbc.org
SUMMARY:Huntington Park - After School Program (Thur.)
DESCRIPTION:
URL:https://esrbc.org/event/huntington-park-after-school-program-thur/2030-06-13/
LOCATION:ESRBC H.P. Office\, 6013 State Street\, Huntington Park\, CA\, 90255\, United States
END:VEVENT
BEGIN:VEVENT
DTSTART;TZID=America/Los_Angeles:20300618T110000
DTEND;TZID=America/Los_Angeles:20300618T120000
DTSTAMP:20260425T060043
CREATED:20260115T032221Z
LAST-MODIFIED:20260115T032628Z
UID:10004783-1908010800-1908014400@esrbc.org
SUMMARY:Watts - Food Distribution Every Tuesday
DESCRIPTION:
URL:https://esrbc.org/event/watts-food-distribution-every-tuesday/2030-06-18/
LOCATION:Watts Civic Center\, 1513\, Los Angeles\, CA\, 90002\, United States
END:VEVENT
BEGIN:VEVENT
DTSTART;TZID=America/Los_Angeles:20300618T140000
DTEND;TZID=America/Los_Angeles:20300618T180000
DTSTAMP:20260425T060043
CREATED:20260115T034104Z
LAST-MODIFIED:20260115T034140Z
UID:10007264-1908021600-1908036000@esrbc.org
SUMMARY:Huntington Park - After School Program (Tues.)
DESCRIPTION:
URL:https://esrbc.org/event/huntington-park-after-school-program-tues/2030-06-18/
LOCATION:ESRBC H.P. Office\, 6013 State Street\, Huntington Park\, CA\, 90255\, United States
END:VEVENT
BEGIN:VEVENT
DTSTART;TZID=America/Los_Angeles:20300619T150000
DTEND;TZID=America/Los_Angeles:20300619T180000
DTSTAMP:20260425T060043
CREATED:20260115T033113Z
LAST-MODIFIED:20260115T033311Z
UID:10004833-1908111600-1908122400@esrbc.org
SUMMARY:Huntington Park - After School Program (Wed.)
DESCRIPTION:
URL:https://esrbc.org/event/huntington-park-after-school-program-2-2/2030-06-19/
LOCATION:ESRBC H.P. Office\, 6013 State Street\, Huntington Park\, CA\, 90255\, United States
END:VEVENT
BEGIN:VEVENT
DTSTART;TZID=America/Los_Angeles:20300620T150000
DTEND;TZID=America/Los_Angeles:20300620T180000
DTSTAMP:20260425T060043
CREATED:20260115T033402Z
LAST-MODIFIED:20260115T033402Z
UID:10005904-1908198000-1908208800@esrbc.org
SUMMARY:Huntington Park - After School Program (Thur.)
DESCRIPTION:
URL:https://esrbc.org/event/huntington-park-after-school-program-thur/2030-06-20/
LOCATION:ESRBC H.P. Office\, 6013 State Street\, Huntington Park\, CA\, 90255\, United States
END:VEVENT
BEGIN:VEVENT
DTSTART;TZID=America/Los_Angeles:20300625T110000
DTEND;TZID=America/Los_Angeles:20300625T120000
DTSTAMP:20260425T060043
CREATED:20260115T032221Z
LAST-MODIFIED:20260115T032628Z
UID:10004784-1908615600-1908619200@esrbc.org
SUMMARY:Watts - Food Distribution Every Tuesday
DESCRIPTION:
URL:https://esrbc.org/event/watts-food-distribution-every-tuesday/2030-06-25/
LOCATION:Watts Civic Center\, 1513\, Los Angeles\, CA\, 90002\, United States
END:VEVENT
BEGIN:VEVENT
DTSTART;TZID=America/Los_Angeles:20300625T140000
DTEND;TZID=America/Los_Angeles:20300625T180000
DTSTAMP:20260425T060043
CREATED:20260115T034104Z
LAST-MODIFIED:20260115T034140Z
UID:10007265-1908626400-1908640800@esrbc.org
SUMMARY:Huntington Park - After School Program (Tues.)
DESCRIPTION:
URL:https://esrbc.org/event/huntington-park-after-school-program-tues/2030-06-25/
LOCATION:ESRBC H.P. Office\, 6013 State Street\, Huntington Park\, CA\, 90255\, United States
END:VEVENT
BEGIN:VEVENT
DTSTART;TZID=America/Los_Angeles:20300626T150000
DTEND;TZID=America/Los_Angeles:20300626T180000
DTSTAMP:20260425T060043
CREATED:20260115T033113Z
LAST-MODIFIED:20260115T033311Z
UID:10004835-1908716400-1908727200@esrbc.org
SUMMARY:Huntington Park - After School Program (Wed.)
DESCRIPTION:
URL:https://esrbc.org/event/huntington-park-after-school-program-2-2/2030-06-26/
LOCATION:ESRBC H.P. Office\, 6013 State Street\, Huntington Park\, CA\, 90255\, United States
END:VEVENT
BEGIN:VEVENT
DTSTART;TZID=America/Los_Angeles:20300627T150000
DTEND;TZID=America/Los_Angeles:20300627T180000
DTSTAMP:20260425T060043
CREATED:20260115T033402Z
LAST-MODIFIED:20260115T033402Z
UID:10005905-1908802800-1908813600@esrbc.org
SUMMARY:Huntington Park - After School Program (Thur.)
DESCRIPTION:
URL:https://esrbc.org/event/huntington-park-after-school-program-thur/2030-06-27/
LOCATION:ESRBC H.P. Office\, 6013 State Street\, Huntington Park\, CA\, 90255\, United States
END:VEVENT
BEGIN:VEVENT
DTSTART;TZID=America/Los_Angeles:20300702T110000
DTEND;TZID=America/Los_Angeles:20300702T120000
DTSTAMP:20260425T060043
CREATED:20260115T032221Z
LAST-MODIFIED:20260115T032628Z
UID:10004785-1909220400-1909224000@esrbc.org
SUMMARY:Watts - Food Distribution Every Tuesday
DESCRIPTION:
URL:https://esrbc.org/event/watts-food-distribution-every-tuesday/2030-07-02/
LOCATION:Watts Civic Center\, 1513\, Los Angeles\, CA\, 90002\, United States
END:VEVENT
BEGIN:VEVENT
DTSTART;TZID=America/Los_Angeles:20300702T140000
DTEND;TZID=America/Los_Angeles:20300702T180000
DTSTAMP:20260425T060043
CREATED:20260115T034104Z
LAST-MODIFIED:20260115T034140Z
UID:10007266-1909231200-1909245600@esrbc.org
SUMMARY:Huntington Park - After School Program (Tues.)
DESCRIPTION:
URL:https://esrbc.org/event/huntington-park-after-school-program-tues/2030-07-02/
LOCATION:ESRBC H.P. Office\, 6013 State Street\, Huntington Park\, CA\, 90255\, United States
END:VEVENT
BEGIN:VEVENT
DTSTART;TZID=America/Los_Angeles:20300703T150000
DTEND;TZID=America/Los_Angeles:20300703T180000
DTSTAMP:20260425T060043
CREATED:20260115T033113Z
LAST-MODIFIED:20260115T033311Z
UID:10004837-1909321200-1909332000@esrbc.org
SUMMARY:Huntington Park - After School Program (Wed.)
DESCRIPTION:
URL:https://esrbc.org/event/huntington-park-after-school-program-2-2/2030-07-03/
LOCATION:ESRBC H.P. Office\, 6013 State Street\, Huntington Park\, CA\, 90255\, United States
END:VEVENT
BEGIN:VEVENT
DTSTART;TZID=America/Los_Angeles:20300704T150000
DTEND;TZID=America/Los_Angeles:20300704T180000
DTSTAMP:20260425T060043
CREATED:20260115T033402Z
LAST-MODIFIED:20260115T033402Z
UID:10005906-1909407600-1909418400@esrbc.org
SUMMARY:Huntington Park - After School Program (Thur.)
DESCRIPTION:
URL:https://esrbc.org/event/huntington-park-after-school-program-thur/2030-07-04/
LOCATION:ESRBC H.P. Office\, 6013 State Street\, Huntington Park\, CA\, 90255\, United States
END:VEVENT
BEGIN:VEVENT
DTSTART;TZID=America/Los_Angeles:20300705T180000
DTEND;TZID=America/Los_Angeles:20300705T200000
DTSTAMP:20260425T060043
CREATED:20260115T033649Z
LAST-MODIFIED:20260115T033649Z
UID:10006506-1909504800-1909512000@esrbc.org
SUMMARY:Friday Night Bike Ride
DESCRIPTION:
URL:https://esrbc.org/event/friday-night-bike-ride-2/2030-07-05/
LOCATION:ESRBC H.P. Office\, 6013 State Street\, Huntington Park\, CA\, 90255\, United States
END:VEVENT
BEGIN:VEVENT
DTSTART;TZID=America/Los_Angeles:20300709T110000
DTEND;TZID=America/Los_Angeles:20300709T120000
DTSTAMP:20260425T060043
CREATED:20260115T032221Z
LAST-MODIFIED:20260115T032628Z
UID:10004786-1909825200-1909828800@esrbc.org
SUMMARY:Watts - Food Distribution Every Tuesday
DESCRIPTION:
URL:https://esrbc.org/event/watts-food-distribution-every-tuesday/2030-07-09/
LOCATION:Watts Civic Center\, 1513\, Los Angeles\, CA\, 90002\, United States
END:VEVENT
BEGIN:VEVENT
DTSTART;TZID=America/Los_Angeles:20300709T140000
DTEND;TZID=America/Los_Angeles:20300709T180000
DTSTAMP:20260425T060043
CREATED:20260115T034104Z
LAST-MODIFIED:20260115T034140Z
UID:10007267-1909836000-1909850400@esrbc.org
SUMMARY:Huntington Park - After School Program (Tues.)
DESCRIPTION:
URL:https://esrbc.org/event/huntington-park-after-school-program-tues/2030-07-09/
LOCATION:ESRBC H.P. Office\, 6013 State Street\, Huntington Park\, CA\, 90255\, United States
END:VEVENT
BEGIN:VEVENT
DTSTART;TZID=America/Los_Angeles:20300710T150000
DTEND;TZID=America/Los_Angeles:20300710T180000
DTSTAMP:20260425T060043
CREATED:20260115T033113Z
LAST-MODIFIED:20260115T033311Z
UID:10004839-1909926000-1909936800@esrbc.org
SUMMARY:Huntington Park - After School Program (Wed.)
DESCRIPTION:
URL:https://esrbc.org/event/huntington-park-after-school-program-2-2/2030-07-10/
LOCATION:ESRBC H.P. Office\, 6013 State Street\, Huntington Park\, CA\, 90255\, United States
END:VEVENT
BEGIN:VEVENT
DTSTART;TZID=America/Los_Angeles:20300711T150000
DTEND;TZID=America/Los_Angeles:20300711T180000
DTSTAMP:20260425T060043
CREATED:20260115T033402Z
LAST-MODIFIED:20260115T033402Z
UID:10005907-1910012400-1910023200@esrbc.org
SUMMARY:Huntington Park - After School Program (Thur.)
DESCRIPTION:
URL:https://esrbc.org/event/huntington-park-after-school-program-thur/2030-07-11/
LOCATION:ESRBC H.P. Office\, 6013 State Street\, Huntington Park\, CA\, 90255\, United States
END:VEVENT
BEGIN:VEVENT
DTSTART;TZID=America/Los_Angeles:20300716T110000
DTEND;TZID=America/Los_Angeles:20300716T120000
DTSTAMP:20260425T060043
CREATED:20260115T032221Z
LAST-MODIFIED:20260115T032628Z
UID:10004787-1910430000-1910433600@esrbc.org
SUMMARY:Watts - Food Distribution Every Tuesday
DESCRIPTION:
URL:https://esrbc.org/event/watts-food-distribution-every-tuesday/2030-07-16/
LOCATION:Watts Civic Center\, 1513\, Los Angeles\, CA\, 90002\, United States
END:VEVENT
BEGIN:VEVENT
DTSTART;TZID=America/Los_Angeles:20300716T140000
DTEND;TZID=America/Los_Angeles:20300716T180000
DTSTAMP:20260425T060043
CREATED:20260115T034104Z
LAST-MODIFIED:20260115T034140Z
UID:10007268-1910440800-1910455200@esrbc.org
SUMMARY:Huntington Park - After School Program (Tues.)
DESCRIPTION:
URL:https://esrbc.org/event/huntington-park-after-school-program-tues/2030-07-16/
LOCATION:ESRBC H.P. Office\, 6013 State Street\, Huntington Park\, CA\, 90255\, United States
END:VEVENT
BEGIN:VEVENT
DTSTART;TZID=America/Los_Angeles:20300717T150000
DTEND;TZID=America/Los_Angeles:20300717T180000
DTSTAMP:20260425T060043
CREATED:20260115T033113Z
LAST-MODIFIED:20260115T033311Z
UID:10004841-1910530800-1910541600@esrbc.org
SUMMARY:Huntington Park - After School Program (Wed.)
DESCRIPTION:
URL:https://esrbc.org/event/huntington-park-after-school-program-2-2/2030-07-17/
LOCATION:ESRBC H.P. Office\, 6013 State Street\, Huntington Park\, CA\, 90255\, United States
END:VEVENT
BEGIN:VEVENT
DTSTART;TZID=America/Los_Angeles:20300718T150000
DTEND;TZID=America/Los_Angeles:20300718T180000
DTSTAMP:20260425T060043
CREATED:20260115T033402Z
LAST-MODIFIED:20260115T033402Z
UID:10005908-1910617200-1910628000@esrbc.org
SUMMARY:Huntington Park - After School Program (Thur.)
DESCRIPTION:
URL:https://esrbc.org/event/huntington-park-after-school-program-thur/2030-07-18/
LOCATION:ESRBC H.P. Office\, 6013 State Street\, Huntington Park\, CA\, 90255\, United States
END:VEVENT
END:VCALENDAR