BEGIN:VCALENDAR
VERSION:2.0
PRODID:-//East Side Riders Bike Club - ECPv6.15.20//NONSGML v1.0//EN
CALSCALE:GREGORIAN
METHOD:PUBLISH
X-WR-CALNAME:East Side Riders Bike Club
X-ORIGINAL-URL:https://esrbc.org
X-WR-CALDESC:Events for East Side Riders Bike Club
REFRESH-INTERVAL;VALUE=DURATION:PT1H
X-Robots-Tag:noindex
X-PUBLISHED-TTL:PT1H
BEGIN:VTIMEZONE
TZID:America/Los_Angeles
BEGIN:DAYLIGHT
TZOFFSETFROM:-0800
TZOFFSETTO:-0700
TZNAME:PDT
DTSTART:20290311T100000
END:DAYLIGHT
BEGIN:STANDARD
TZOFFSETFROM:-0700
TZOFFSETTO:-0800
TZNAME:PST
DTSTART:20291104T090000
END:STANDARD
BEGIN:DAYLIGHT
TZOFFSETFROM:-0800
TZOFFSETTO:-0700
TZNAME:PDT
DTSTART:20300310T100000
END:DAYLIGHT
BEGIN:STANDARD
TZOFFSETFROM:-0700
TZOFFSETTO:-0800
TZNAME:PST
DTSTART:20301103T090000
END:STANDARD
BEGIN:DAYLIGHT
TZOFFSETFROM:-0800
TZOFFSETTO:-0700
TZNAME:PDT
DTSTART:20310309T100000
END:DAYLIGHT
BEGIN:STANDARD
TZOFFSETFROM:-0700
TZOFFSETTO:-0800
TZNAME:PST
DTSTART:20311102T090000
END:STANDARD
END:VTIMEZONE
BEGIN:VEVENT
DTSTART;TZID=America/Los_Angeles:20300702T110000
DTEND;TZID=America/Los_Angeles:20300702T120000
DTSTAMP:20260425T041431
CREATED:20260115T032221Z
LAST-MODIFIED:20260115T032628Z
UID:10004785-1909220400-1909224000@esrbc.org
SUMMARY:Watts - Food Distribution Every Tuesday
DESCRIPTION:
URL:https://esrbc.org/event/watts-food-distribution-every-tuesday/2030-07-02/
LOCATION:Watts Civic Center\, 1513\, Los Angeles\, CA\, 90002\, United States
END:VEVENT
BEGIN:VEVENT
DTSTART;TZID=America/Los_Angeles:20300702T140000
DTEND;TZID=America/Los_Angeles:20300702T180000
DTSTAMP:20260425T041431
CREATED:20260115T034104Z
LAST-MODIFIED:20260115T034140Z
UID:10007266-1909231200-1909245600@esrbc.org
SUMMARY:Huntington Park - After School Program (Tues.)
DESCRIPTION:
URL:https://esrbc.org/event/huntington-park-after-school-program-tues/2030-07-02/
LOCATION:ESRBC H.P. Office\, 6013 State Street\, Huntington Park\, CA\, 90255\, United States
END:VEVENT
BEGIN:VEVENT
DTSTART;TZID=America/Los_Angeles:20300703T150000
DTEND;TZID=America/Los_Angeles:20300703T180000
DTSTAMP:20260425T041431
CREATED:20260115T033113Z
LAST-MODIFIED:20260115T033311Z
UID:10004837-1909321200-1909332000@esrbc.org
SUMMARY:Huntington Park - After School Program (Wed.)
DESCRIPTION:
URL:https://esrbc.org/event/huntington-park-after-school-program-2-2/2030-07-03/
LOCATION:ESRBC H.P. Office\, 6013 State Street\, Huntington Park\, CA\, 90255\, United States
END:VEVENT
BEGIN:VEVENT
DTSTART;TZID=America/Los_Angeles:20300704T150000
DTEND;TZID=America/Los_Angeles:20300704T180000
DTSTAMP:20260425T041431
CREATED:20260115T033402Z
LAST-MODIFIED:20260115T033402Z
UID:10005906-1909407600-1909418400@esrbc.org
SUMMARY:Huntington Park - After School Program (Thur.)
DESCRIPTION:
URL:https://esrbc.org/event/huntington-park-after-school-program-thur/2030-07-04/
LOCATION:ESRBC H.P. Office\, 6013 State Street\, Huntington Park\, CA\, 90255\, United States
END:VEVENT
BEGIN:VEVENT
DTSTART;TZID=America/Los_Angeles:20300705T180000
DTEND;TZID=America/Los_Angeles:20300705T200000
DTSTAMP:20260425T041431
CREATED:20260115T033649Z
LAST-MODIFIED:20260115T033649Z
UID:10006506-1909504800-1909512000@esrbc.org
SUMMARY:Friday Night Bike Ride
DESCRIPTION:
URL:https://esrbc.org/event/friday-night-bike-ride-2/2030-07-05/
LOCATION:ESRBC H.P. Office\, 6013 State Street\, Huntington Park\, CA\, 90255\, United States
END:VEVENT
BEGIN:VEVENT
DTSTART;TZID=America/Los_Angeles:20300709T110000
DTEND;TZID=America/Los_Angeles:20300709T120000
DTSTAMP:20260425T041431
CREATED:20260115T032221Z
LAST-MODIFIED:20260115T032628Z
UID:10004786-1909825200-1909828800@esrbc.org
SUMMARY:Watts - Food Distribution Every Tuesday
DESCRIPTION:
URL:https://esrbc.org/event/watts-food-distribution-every-tuesday/2030-07-09/
LOCATION:Watts Civic Center\, 1513\, Los Angeles\, CA\, 90002\, United States
END:VEVENT
BEGIN:VEVENT
DTSTART;TZID=America/Los_Angeles:20300709T140000
DTEND;TZID=America/Los_Angeles:20300709T180000
DTSTAMP:20260425T041431
CREATED:20260115T034104Z
LAST-MODIFIED:20260115T034140Z
UID:10007267-1909836000-1909850400@esrbc.org
SUMMARY:Huntington Park - After School Program (Tues.)
DESCRIPTION:
URL:https://esrbc.org/event/huntington-park-after-school-program-tues/2030-07-09/
LOCATION:ESRBC H.P. Office\, 6013 State Street\, Huntington Park\, CA\, 90255\, United States
END:VEVENT
BEGIN:VEVENT
DTSTART;TZID=America/Los_Angeles:20300710T150000
DTEND;TZID=America/Los_Angeles:20300710T180000
DTSTAMP:20260425T041431
CREATED:20260115T033113Z
LAST-MODIFIED:20260115T033311Z
UID:10004839-1909926000-1909936800@esrbc.org
SUMMARY:Huntington Park - After School Program (Wed.)
DESCRIPTION:
URL:https://esrbc.org/event/huntington-park-after-school-program-2-2/2030-07-10/
LOCATION:ESRBC H.P. Office\, 6013 State Street\, Huntington Park\, CA\, 90255\, United States
END:VEVENT
BEGIN:VEVENT
DTSTART;TZID=America/Los_Angeles:20300711T150000
DTEND;TZID=America/Los_Angeles:20300711T180000
DTSTAMP:20260425T041431
CREATED:20260115T033402Z
LAST-MODIFIED:20260115T033402Z
UID:10005907-1910012400-1910023200@esrbc.org
SUMMARY:Huntington Park - After School Program (Thur.)
DESCRIPTION:
URL:https://esrbc.org/event/huntington-park-after-school-program-thur/2030-07-11/
LOCATION:ESRBC H.P. Office\, 6013 State Street\, Huntington Park\, CA\, 90255\, United States
END:VEVENT
BEGIN:VEVENT
DTSTART;TZID=America/Los_Angeles:20300716T110000
DTEND;TZID=America/Los_Angeles:20300716T120000
DTSTAMP:20260425T041431
CREATED:20260115T032221Z
LAST-MODIFIED:20260115T032628Z
UID:10004787-1910430000-1910433600@esrbc.org
SUMMARY:Watts - Food Distribution Every Tuesday
DESCRIPTION:
URL:https://esrbc.org/event/watts-food-distribution-every-tuesday/2030-07-16/
LOCATION:Watts Civic Center\, 1513\, Los Angeles\, CA\, 90002\, United States
END:VEVENT
BEGIN:VEVENT
DTSTART;TZID=America/Los_Angeles:20300716T140000
DTEND;TZID=America/Los_Angeles:20300716T180000
DTSTAMP:20260425T041431
CREATED:20260115T034104Z
LAST-MODIFIED:20260115T034140Z
UID:10007268-1910440800-1910455200@esrbc.org
SUMMARY:Huntington Park - After School Program (Tues.)
DESCRIPTION:
URL:https://esrbc.org/event/huntington-park-after-school-program-tues/2030-07-16/
LOCATION:ESRBC H.P. Office\, 6013 State Street\, Huntington Park\, CA\, 90255\, United States
END:VEVENT
BEGIN:VEVENT
DTSTART;TZID=America/Los_Angeles:20300717T150000
DTEND;TZID=America/Los_Angeles:20300717T180000
DTSTAMP:20260425T041431
CREATED:20260115T033113Z
LAST-MODIFIED:20260115T033311Z
UID:10004841-1910530800-1910541600@esrbc.org
SUMMARY:Huntington Park - After School Program (Wed.)
DESCRIPTION:
URL:https://esrbc.org/event/huntington-park-after-school-program-2-2/2030-07-17/
LOCATION:ESRBC H.P. Office\, 6013 State Street\, Huntington Park\, CA\, 90255\, United States
END:VEVENT
BEGIN:VEVENT
DTSTART;TZID=America/Los_Angeles:20300718T150000
DTEND;TZID=America/Los_Angeles:20300718T180000
DTSTAMP:20260425T041431
CREATED:20260115T033402Z
LAST-MODIFIED:20260115T033402Z
UID:10005908-1910617200-1910628000@esrbc.org
SUMMARY:Huntington Park - After School Program (Thur.)
DESCRIPTION:
URL:https://esrbc.org/event/huntington-park-after-school-program-thur/2030-07-18/
LOCATION:ESRBC H.P. Office\, 6013 State Street\, Huntington Park\, CA\, 90255\, United States
END:VEVENT
BEGIN:VEVENT
DTSTART;TZID=America/Los_Angeles:20300723T110000
DTEND;TZID=America/Los_Angeles:20300723T120000
DTSTAMP:20260425T041431
CREATED:20260115T032221Z
LAST-MODIFIED:20260115T032628Z
UID:10004788-1911034800-1911038400@esrbc.org
SUMMARY:Watts - Food Distribution Every Tuesday
DESCRIPTION:
URL:https://esrbc.org/event/watts-food-distribution-every-tuesday/2030-07-23/
LOCATION:Watts Civic Center\, 1513\, Los Angeles\, CA\, 90002\, United States
END:VEVENT
BEGIN:VEVENT
DTSTART;TZID=America/Los_Angeles:20300723T140000
DTEND;TZID=America/Los_Angeles:20300723T180000
DTSTAMP:20260425T041431
CREATED:20260115T034104Z
LAST-MODIFIED:20260115T034140Z
UID:10007269-1911045600-1911060000@esrbc.org
SUMMARY:Huntington Park - After School Program (Tues.)
DESCRIPTION:
URL:https://esrbc.org/event/huntington-park-after-school-program-tues/2030-07-23/
LOCATION:ESRBC H.P. Office\, 6013 State Street\, Huntington Park\, CA\, 90255\, United States
END:VEVENT
BEGIN:VEVENT
DTSTART;TZID=America/Los_Angeles:20300724T150000
DTEND;TZID=America/Los_Angeles:20300724T180000
DTSTAMP:20260425T041431
CREATED:20260115T033113Z
LAST-MODIFIED:20260115T033311Z
UID:10004843-1911135600-1911146400@esrbc.org
SUMMARY:Huntington Park - After School Program (Wed.)
DESCRIPTION:
URL:https://esrbc.org/event/huntington-park-after-school-program-2-2/2030-07-24/
LOCATION:ESRBC H.P. Office\, 6013 State Street\, Huntington Park\, CA\, 90255\, United States
END:VEVENT
BEGIN:VEVENT
DTSTART;TZID=America/Los_Angeles:20300725T150000
DTEND;TZID=America/Los_Angeles:20300725T180000
DTSTAMP:20260425T041431
CREATED:20260115T033402Z
LAST-MODIFIED:20260115T033402Z
UID:10005909-1911222000-1911232800@esrbc.org
SUMMARY:Huntington Park - After School Program (Thur.)
DESCRIPTION:
URL:https://esrbc.org/event/huntington-park-after-school-program-thur/2030-07-25/
LOCATION:ESRBC H.P. Office\, 6013 State Street\, Huntington Park\, CA\, 90255\, United States
END:VEVENT
BEGIN:VEVENT
DTSTART;TZID=America/Los_Angeles:20300730T110000
DTEND;TZID=America/Los_Angeles:20300730T120000
DTSTAMP:20260425T041431
CREATED:20260115T032221Z
LAST-MODIFIED:20260115T032628Z
UID:10004789-1911639600-1911643200@esrbc.org
SUMMARY:Watts - Food Distribution Every Tuesday
DESCRIPTION:
URL:https://esrbc.org/event/watts-food-distribution-every-tuesday/2030-07-30/
LOCATION:Watts Civic Center\, 1513\, Los Angeles\, CA\, 90002\, United States
END:VEVENT
BEGIN:VEVENT
DTSTART;TZID=America/Los_Angeles:20300730T140000
DTEND;TZID=America/Los_Angeles:20300730T180000
DTSTAMP:20260425T041431
CREATED:20260115T034104Z
LAST-MODIFIED:20260115T034140Z
UID:10007270-1911650400-1911664800@esrbc.org
SUMMARY:Huntington Park - After School Program (Tues.)
DESCRIPTION:
URL:https://esrbc.org/event/huntington-park-after-school-program-tues/2030-07-30/
LOCATION:ESRBC H.P. Office\, 6013 State Street\, Huntington Park\, CA\, 90255\, United States
END:VEVENT
BEGIN:VEVENT
DTSTART;TZID=America/Los_Angeles:20300731T150000
DTEND;TZID=America/Los_Angeles:20300731T180000
DTSTAMP:20260425T041431
CREATED:20260115T033113Z
LAST-MODIFIED:20260115T033311Z
UID:10004845-1911740400-1911751200@esrbc.org
SUMMARY:Huntington Park - After School Program (Wed.)
DESCRIPTION:
URL:https://esrbc.org/event/huntington-park-after-school-program-2-2/2030-07-31/
LOCATION:ESRBC H.P. Office\, 6013 State Street\, Huntington Park\, CA\, 90255\, United States
END:VEVENT
BEGIN:VEVENT
DTSTART;TZID=America/Los_Angeles:20300801T150000
DTEND;TZID=America/Los_Angeles:20300801T180000
DTSTAMP:20260425T041431
CREATED:20260115T033402Z
LAST-MODIFIED:20260115T033402Z
UID:10005910-1911826800-1911837600@esrbc.org
SUMMARY:Huntington Park - After School Program (Thur.)
DESCRIPTION:
URL:https://esrbc.org/event/huntington-park-after-school-program-thur/2030-08-01/
LOCATION:ESRBC H.P. Office\, 6013 State Street\, Huntington Park\, CA\, 90255\, United States
END:VEVENT
BEGIN:VEVENT
DTSTART;TZID=America/Los_Angeles:20300802T180000
DTEND;TZID=America/Los_Angeles:20300802T200000
DTSTAMP:20260425T041431
CREATED:20260115T033649Z
LAST-MODIFIED:20260115T033649Z
UID:10006507-1911924000-1911931200@esrbc.org
SUMMARY:Friday Night Bike Ride
DESCRIPTION:
URL:https://esrbc.org/event/friday-night-bike-ride-2/2030-08-02/
LOCATION:ESRBC H.P. Office\, 6013 State Street\, Huntington Park\, CA\, 90255\, United States
END:VEVENT
BEGIN:VEVENT
DTSTART;TZID=America/Los_Angeles:20300806T110000
DTEND;TZID=America/Los_Angeles:20300806T120000
DTSTAMP:20260425T041431
CREATED:20260115T032221Z
LAST-MODIFIED:20260115T032628Z
UID:10004790-1912244400-1912248000@esrbc.org
SUMMARY:Watts - Food Distribution Every Tuesday
DESCRIPTION:
URL:https://esrbc.org/event/watts-food-distribution-every-tuesday/2030-08-06/
LOCATION:Watts Civic Center\, 1513\, Los Angeles\, CA\, 90002\, United States
END:VEVENT
BEGIN:VEVENT
DTSTART;TZID=America/Los_Angeles:20300806T140000
DTEND;TZID=America/Los_Angeles:20300806T180000
DTSTAMP:20260425T041431
CREATED:20260115T034104Z
LAST-MODIFIED:20260115T034140Z
UID:10007271-1912255200-1912269600@esrbc.org
SUMMARY:Huntington Park - After School Program (Tues.)
DESCRIPTION:
URL:https://esrbc.org/event/huntington-park-after-school-program-tues/2030-08-06/
LOCATION:ESRBC H.P. Office\, 6013 State Street\, Huntington Park\, CA\, 90255\, United States
END:VEVENT
BEGIN:VEVENT
DTSTART;TZID=America/Los_Angeles:20300807T150000
DTEND;TZID=America/Los_Angeles:20300807T180000
DTSTAMP:20260425T041431
CREATED:20260115T033113Z
LAST-MODIFIED:20260115T033311Z
UID:10004847-1912345200-1912356000@esrbc.org
SUMMARY:Huntington Park - After School Program (Wed.)
DESCRIPTION:
URL:https://esrbc.org/event/huntington-park-after-school-program-2-2/2030-08-07/
LOCATION:ESRBC H.P. Office\, 6013 State Street\, Huntington Park\, CA\, 90255\, United States
END:VEVENT
BEGIN:VEVENT
DTSTART;TZID=America/Los_Angeles:20300808T150000
DTEND;TZID=America/Los_Angeles:20300808T180000
DTSTAMP:20260425T041431
CREATED:20260115T033402Z
LAST-MODIFIED:20260115T033402Z
UID:10005911-1912431600-1912442400@esrbc.org
SUMMARY:Huntington Park - After School Program (Thur.)
DESCRIPTION:
URL:https://esrbc.org/event/huntington-park-after-school-program-thur/2030-08-08/
LOCATION:ESRBC H.P. Office\, 6013 State Street\, Huntington Park\, CA\, 90255\, United States
END:VEVENT
BEGIN:VEVENT
DTSTART;TZID=America/Los_Angeles:20300813T110000
DTEND;TZID=America/Los_Angeles:20300813T120000
DTSTAMP:20260425T041431
CREATED:20260115T032221Z
LAST-MODIFIED:20260115T032628Z
UID:10004791-1912849200-1912852800@esrbc.org
SUMMARY:Watts - Food Distribution Every Tuesday
DESCRIPTION:
URL:https://esrbc.org/event/watts-food-distribution-every-tuesday/2030-08-13/
LOCATION:Watts Civic Center\, 1513\, Los Angeles\, CA\, 90002\, United States
END:VEVENT
BEGIN:VEVENT
DTSTART;TZID=America/Los_Angeles:20300813T140000
DTEND;TZID=America/Los_Angeles:20300813T180000
DTSTAMP:20260425T041431
CREATED:20260115T034104Z
LAST-MODIFIED:20260115T034140Z
UID:10007272-1912860000-1912874400@esrbc.org
SUMMARY:Huntington Park - After School Program (Tues.)
DESCRIPTION:
URL:https://esrbc.org/event/huntington-park-after-school-program-tues/2030-08-13/
LOCATION:ESRBC H.P. Office\, 6013 State Street\, Huntington Park\, CA\, 90255\, United States
END:VEVENT
BEGIN:VEVENT
DTSTART;TZID=America/Los_Angeles:20300814T150000
DTEND;TZID=America/Los_Angeles:20300814T180000
DTSTAMP:20260425T041431
CREATED:20260115T033113Z
LAST-MODIFIED:20260115T033311Z
UID:10004849-1912950000-1912960800@esrbc.org
SUMMARY:Huntington Park - After School Program (Wed.)
DESCRIPTION:
URL:https://esrbc.org/event/huntington-park-after-school-program-2-2/2030-08-14/
LOCATION:ESRBC H.P. Office\, 6013 State Street\, Huntington Park\, CA\, 90255\, United States
END:VEVENT
BEGIN:VEVENT
DTSTART;TZID=America/Los_Angeles:20300815T150000
DTEND;TZID=America/Los_Angeles:20300815T180000
DTSTAMP:20260425T041431
CREATED:20260115T033402Z
LAST-MODIFIED:20260115T033402Z
UID:10005912-1913036400-1913047200@esrbc.org
SUMMARY:Huntington Park - After School Program (Thur.)
DESCRIPTION:
URL:https://esrbc.org/event/huntington-park-after-school-program-thur/2030-08-15/
LOCATION:ESRBC H.P. Office\, 6013 State Street\, Huntington Park\, CA\, 90255\, United States
END:VEVENT
END:VCALENDAR