BEGIN:VCALENDAR
VERSION:2.0
PRODID:-//East Side Riders Bike Club - ECPv6.15.20//NONSGML v1.0//EN
CALSCALE:GREGORIAN
METHOD:PUBLISH
X-WR-CALNAME:East Side Riders Bike Club
X-ORIGINAL-URL:https://esrbc.org
X-WR-CALDESC:Events for East Side Riders Bike Club
REFRESH-INTERVAL;VALUE=DURATION:PT1H
X-Robots-Tag:noindex
X-PUBLISHED-TTL:PT1H
BEGIN:VTIMEZONE
TZID:America/Los_Angeles
BEGIN:DAYLIGHT
TZOFFSETFROM:-0800
TZOFFSETTO:-0700
TZNAME:PDT
DTSTART:20240310T100000
END:DAYLIGHT
BEGIN:STANDARD
TZOFFSETFROM:-0700
TZOFFSETTO:-0800
TZNAME:PST
DTSTART:20241103T090000
END:STANDARD
BEGIN:DAYLIGHT
TZOFFSETFROM:-0800
TZOFFSETTO:-0700
TZNAME:PDT
DTSTART:20250309T100000
END:DAYLIGHT
BEGIN:STANDARD
TZOFFSETFROM:-0700
TZOFFSETTO:-0800
TZNAME:PST
DTSTART:20251102T090000
END:STANDARD
BEGIN:DAYLIGHT
TZOFFSETFROM:-0800
TZOFFSETTO:-0700
TZNAME:PDT
DTSTART:20260308T100000
END:DAYLIGHT
BEGIN:STANDARD
TZOFFSETFROM:-0700
TZOFFSETTO:-0800
TZNAME:PST
DTSTART:20261101T090000
END:STANDARD
END:VTIMEZONE
BEGIN:VEVENT
DTSTART;TZID=America/Los_Angeles:20250626T150000
DTEND;TZID=America/Los_Angeles:20250626T180000
DTSTAMP:20260420T053804
CREATED:20250413T035636Z
LAST-MODIFIED:20250413T035758Z
UID:10003280-1750950000-1750960800@esrbc.org
SUMMARY:Huntington Park - After School Program
DESCRIPTION:
URL:https://esrbc.org/event/huntington-park-after-school-program/2025-06-26/
LOCATION:ESRBC H.P. Office\, 6013 State Street\, Huntington Park\, CA\, 90255\, United States
END:VEVENT
BEGIN:VEVENT
DTSTART;TZID=America/Los_Angeles:20250625T150000
DTEND;TZID=America/Los_Angeles:20250625T180000
DTSTAMP:20260420T053804
CREATED:20250413T035636Z
LAST-MODIFIED:20250413T035758Z
UID:10003279-1750863600-1750874400@esrbc.org
SUMMARY:Huntington Park - After School Program
DESCRIPTION:
URL:https://esrbc.org/event/huntington-park-after-school-program/2025-06-25/
LOCATION:ESRBC H.P. Office\, 6013 State Street\, Huntington Park\, CA\, 90255\, United States
END:VEVENT
BEGIN:VEVENT
DTSTART;TZID=America/Los_Angeles:20250624T150000
DTEND;TZID=America/Los_Angeles:20250624T180000
DTSTAMP:20260420T053804
CREATED:20250413T035636Z
LAST-MODIFIED:20250413T035758Z
UID:10003278-1750777200-1750788000@esrbc.org
SUMMARY:Huntington Park - After School Program
DESCRIPTION:
URL:https://esrbc.org/event/huntington-park-after-school-program/2025-06-24/
LOCATION:ESRBC H.P. Office\, 6013 State Street\, Huntington Park\, CA\, 90255\, United States
END:VEVENT
BEGIN:VEVENT
DTSTART;TZID=America/Los_Angeles:20250620T180000
DTEND;TZID=America/Los_Angeles:20250620T200000
DTSTAMP:20260420T053804
CREATED:20240116T171346Z
LAST-MODIFIED:20260115T033628Z
UID:10001765-1750442400-1750449600@esrbc.org
SUMMARY:Friday Night Bike Ride
DESCRIPTION:
URL:https://esrbc.org/event/friday-night-bike-ride/2025-06-20/
LOCATION:ESRBC H.P. Office\, 6013 State Street\, Huntington Park\, CA\, 90255\, United States
END:VEVENT
BEGIN:VEVENT
DTSTART;TZID=America/Los_Angeles:20250619T150000
DTEND;TZID=America/Los_Angeles:20250619T180000
DTSTAMP:20260420T053804
CREATED:20250413T035636Z
LAST-MODIFIED:20250413T035758Z
UID:10003277-1750345200-1750356000@esrbc.org
SUMMARY:Huntington Park - After School Program
DESCRIPTION:
URL:https://esrbc.org/event/huntington-park-after-school-program/2025-06-19/
LOCATION:ESRBC H.P. Office\, 6013 State Street\, Huntington Park\, CA\, 90255\, United States
END:VEVENT
BEGIN:VEVENT
DTSTART;TZID=America/Los_Angeles:20250618T150000
DTEND;TZID=America/Los_Angeles:20250618T180000
DTSTAMP:20260420T053804
CREATED:20250413T035636Z
LAST-MODIFIED:20250413T035758Z
UID:10003276-1750258800-1750269600@esrbc.org
SUMMARY:Huntington Park - After School Program
DESCRIPTION:
URL:https://esrbc.org/event/huntington-park-after-school-program/2025-06-18/
LOCATION:ESRBC H.P. Office\, 6013 State Street\, Huntington Park\, CA\, 90255\, United States
END:VEVENT
BEGIN:VEVENT
DTSTART;TZID=America/Los_Angeles:20250617T150000
DTEND;TZID=America/Los_Angeles:20250617T180000
DTSTAMP:20260420T053805
CREATED:20250413T035636Z
LAST-MODIFIED:20250413T035758Z
UID:10003275-1750172400-1750183200@esrbc.org
SUMMARY:Huntington Park - After School Program
DESCRIPTION:
URL:https://esrbc.org/event/huntington-park-after-school-program/2025-06-17/
LOCATION:ESRBC H.P. Office\, 6013 State Street\, Huntington Park\, CA\, 90255\, United States
END:VEVENT
BEGIN:VEVENT
DTSTART;TZID=America/Los_Angeles:20250612T150000
DTEND;TZID=America/Los_Angeles:20250612T180000
DTSTAMP:20260420T053805
CREATED:20250413T035636Z
LAST-MODIFIED:20250413T035758Z
UID:10003274-1749740400-1749751200@esrbc.org
SUMMARY:Huntington Park - After School Program
DESCRIPTION:
URL:https://esrbc.org/event/huntington-park-after-school-program/2025-06-12/
LOCATION:ESRBC H.P. Office\, 6013 State Street\, Huntington Park\, CA\, 90255\, United States
END:VEVENT
BEGIN:VEVENT
DTSTART;TZID=America/Los_Angeles:20250611T150000
DTEND;TZID=America/Los_Angeles:20250611T180000
DTSTAMP:20260420T053805
CREATED:20250413T035636Z
LAST-MODIFIED:20250413T035758Z
UID:10003273-1749654000-1749664800@esrbc.org
SUMMARY:Huntington Park - After School Program
DESCRIPTION:
URL:https://esrbc.org/event/huntington-park-after-school-program/2025-06-11/
LOCATION:ESRBC H.P. Office\, 6013 State Street\, Huntington Park\, CA\, 90255\, United States
END:VEVENT
BEGIN:VEVENT
DTSTART;TZID=America/Los_Angeles:20250610T150000
DTEND;TZID=America/Los_Angeles:20250610T180000
DTSTAMP:20260420T053805
CREATED:20250413T035636Z
LAST-MODIFIED:20250413T035758Z
UID:10003272-1749567600-1749578400@esrbc.org
SUMMARY:Huntington Park - After School Program
DESCRIPTION:
URL:https://esrbc.org/event/huntington-park-after-school-program/2025-06-10/
LOCATION:ESRBC H.P. Office\, 6013 State Street\, Huntington Park\, CA\, 90255\, United States
END:VEVENT
BEGIN:VEVENT
DTSTART;TZID=America/Los_Angeles:20250605T150000
DTEND;TZID=America/Los_Angeles:20250605T180000
DTSTAMP:20260420T053805
CREATED:20250413T035636Z
LAST-MODIFIED:20250413T035758Z
UID:10003271-1749135600-1749146400@esrbc.org
SUMMARY:Huntington Park - After School Program
DESCRIPTION:
URL:https://esrbc.org/event/huntington-park-after-school-program/2025-06-05/
LOCATION:ESRBC H.P. Office\, 6013 State Street\, Huntington Park\, CA\, 90255\, United States
END:VEVENT
BEGIN:VEVENT
DTSTART;TZID=America/Los_Angeles:20250604T150000
DTEND;TZID=America/Los_Angeles:20250604T180000
DTSTAMP:20260420T053805
CREATED:20250413T035636Z
LAST-MODIFIED:20250413T035758Z
UID:10003270-1749049200-1749060000@esrbc.org
SUMMARY:Huntington Park - After School Program
DESCRIPTION:
URL:https://esrbc.org/event/huntington-park-after-school-program/2025-06-04/
LOCATION:ESRBC H.P. Office\, 6013 State Street\, Huntington Park\, CA\, 90255\, United States
END:VEVENT
BEGIN:VEVENT
DTSTART;TZID=America/Los_Angeles:20250603T150000
DTEND;TZID=America/Los_Angeles:20250603T180000
DTSTAMP:20260420T053805
CREATED:20250413T035636Z
LAST-MODIFIED:20250413T035758Z
UID:10003269-1748962800-1748973600@esrbc.org
SUMMARY:Huntington Park - After School Program
DESCRIPTION:
URL:https://esrbc.org/event/huntington-park-after-school-program/2025-06-03/
LOCATION:ESRBC H.P. Office\, 6013 State Street\, Huntington Park\, CA\, 90255\, United States
END:VEVENT
BEGIN:VEVENT
DTSTART;TZID=America/Los_Angeles:20250529T150000
DTEND;TZID=America/Los_Angeles:20250529T180000
DTSTAMP:20260420T053805
CREATED:20250413T035636Z
LAST-MODIFIED:20250413T035758Z
UID:10003268-1748530800-1748541600@esrbc.org
SUMMARY:Huntington Park - After School Program
DESCRIPTION:
URL:https://esrbc.org/event/huntington-park-after-school-program/2025-05-29/
LOCATION:ESRBC H.P. Office\, 6013 State Street\, Huntington Park\, CA\, 90255\, United States
END:VEVENT
BEGIN:VEVENT
DTSTART;TZID=America/Los_Angeles:20250528T150000
DTEND;TZID=America/Los_Angeles:20250528T180000
DTSTAMP:20260420T053805
CREATED:20250413T035636Z
LAST-MODIFIED:20250413T035758Z
UID:10003267-1748444400-1748455200@esrbc.org
SUMMARY:Huntington Park - After School Program
DESCRIPTION:
URL:https://esrbc.org/event/huntington-park-after-school-program/2025-05-28/
LOCATION:ESRBC H.P. Office\, 6013 State Street\, Huntington Park\, CA\, 90255\, United States
END:VEVENT
BEGIN:VEVENT
DTSTART;TZID=America/Los_Angeles:20250527T150000
DTEND;TZID=America/Los_Angeles:20250527T180000
DTSTAMP:20260420T053805
CREATED:20250413T035636Z
LAST-MODIFIED:20250413T035758Z
UID:10003266-1748358000-1748368800@esrbc.org
SUMMARY:Huntington Park - After School Program
DESCRIPTION:
URL:https://esrbc.org/event/huntington-park-after-school-program/2025-05-27/
LOCATION:ESRBC H.P. Office\, 6013 State Street\, Huntington Park\, CA\, 90255\, United States
END:VEVENT
BEGIN:VEVENT
DTSTART;TZID=America/Los_Angeles:20250522T150000
DTEND;TZID=America/Los_Angeles:20250522T180000
DTSTAMP:20260420T053805
CREATED:20250413T035636Z
LAST-MODIFIED:20250413T035758Z
UID:10003265-1747926000-1747936800@esrbc.org
SUMMARY:Huntington Park - After School Program
DESCRIPTION:
URL:https://esrbc.org/event/huntington-park-after-school-program/2025-05-22/
LOCATION:ESRBC H.P. Office\, 6013 State Street\, Huntington Park\, CA\, 90255\, United States
END:VEVENT
BEGIN:VEVENT
DTSTART;TZID=America/Los_Angeles:20250521T150000
DTEND;TZID=America/Los_Angeles:20250521T180000
DTSTAMP:20260420T053805
CREATED:20250413T035636Z
LAST-MODIFIED:20250413T035758Z
UID:10003264-1747839600-1747850400@esrbc.org
SUMMARY:Huntington Park - After School Program
DESCRIPTION:
URL:https://esrbc.org/event/huntington-park-after-school-program/2025-05-21/
LOCATION:ESRBC H.P. Office\, 6013 State Street\, Huntington Park\, CA\, 90255\, United States
END:VEVENT
BEGIN:VEVENT
DTSTART;TZID=America/Los_Angeles:20250520T150000
DTEND;TZID=America/Los_Angeles:20250520T180000
DTSTAMP:20260420T053805
CREATED:20250413T035636Z
LAST-MODIFIED:20250413T035758Z
UID:10003263-1747753200-1747764000@esrbc.org
SUMMARY:Huntington Park - After School Program
DESCRIPTION:
URL:https://esrbc.org/event/huntington-park-after-school-program/2025-05-20/
LOCATION:ESRBC H.P. Office\, 6013 State Street\, Huntington Park\, CA\, 90255\, United States
END:VEVENT
BEGIN:VEVENT
DTSTART;TZID=America/Los_Angeles:20250516T180000
DTEND;TZID=America/Los_Angeles:20250516T200000
DTSTAMP:20260420T053805
CREATED:20240116T171346Z
LAST-MODIFIED:20260115T033628Z
UID:10001764-1747418400-1747425600@esrbc.org
SUMMARY:Friday Night Bike Ride
DESCRIPTION:
URL:https://esrbc.org/event/friday-night-bike-ride/2025-05-16/
LOCATION:ESRBC H.P. Office\, 6013 State Street\, Huntington Park\, CA\, 90255\, United States
END:VEVENT
BEGIN:VEVENT
DTSTART;TZID=America/Los_Angeles:20250515T150000
DTEND;TZID=America/Los_Angeles:20250515T180000
DTSTAMP:20260420T053805
CREATED:20250413T035636Z
LAST-MODIFIED:20250413T035758Z
UID:10003262-1747321200-1747332000@esrbc.org
SUMMARY:Huntington Park - After School Program
DESCRIPTION:
URL:https://esrbc.org/event/huntington-park-after-school-program/2025-05-15/
LOCATION:ESRBC H.P. Office\, 6013 State Street\, Huntington Park\, CA\, 90255\, United States
END:VEVENT
BEGIN:VEVENT
DTSTART;TZID=America/Los_Angeles:20250514T150000
DTEND;TZID=America/Los_Angeles:20250514T180000
DTSTAMP:20260420T053805
CREATED:20250413T035636Z
LAST-MODIFIED:20250413T035758Z
UID:10003261-1747234800-1747245600@esrbc.org
SUMMARY:Huntington Park - After School Program
DESCRIPTION:
URL:https://esrbc.org/event/huntington-park-after-school-program/2025-05-14/
LOCATION:ESRBC H.P. Office\, 6013 State Street\, Huntington Park\, CA\, 90255\, United States
END:VEVENT
BEGIN:VEVENT
DTSTART;TZID=America/Los_Angeles:20250513T150000
DTEND;TZID=America/Los_Angeles:20250513T180000
DTSTAMP:20260420T053805
CREATED:20250413T035636Z
LAST-MODIFIED:20250413T035758Z
UID:10003260-1747148400-1747159200@esrbc.org
SUMMARY:Huntington Park - After School Program
DESCRIPTION:
URL:https://esrbc.org/event/huntington-park-after-school-program/2025-05-13/
LOCATION:ESRBC H.P. Office\, 6013 State Street\, Huntington Park\, CA\, 90255\, United States
END:VEVENT
BEGIN:VEVENT
DTSTART;TZID=America/Los_Angeles:20250508T150000
DTEND;TZID=America/Los_Angeles:20250508T180000
DTSTAMP:20260420T053805
CREATED:20250413T035636Z
LAST-MODIFIED:20250413T035758Z
UID:10003259-1746716400-1746727200@esrbc.org
SUMMARY:Huntington Park - After School Program
DESCRIPTION:
URL:https://esrbc.org/event/huntington-park-after-school-program/2025-05-08/
LOCATION:ESRBC H.P. Office\, 6013 State Street\, Huntington Park\, CA\, 90255\, United States
END:VEVENT
BEGIN:VEVENT
DTSTART;TZID=America/Los_Angeles:20250507T150000
DTEND;TZID=America/Los_Angeles:20250507T180000
DTSTAMP:20260420T053805
CREATED:20250413T035636Z
LAST-MODIFIED:20250413T035758Z
UID:10003258-1746630000-1746640800@esrbc.org
SUMMARY:Huntington Park - After School Program
DESCRIPTION:
URL:https://esrbc.org/event/huntington-park-after-school-program/2025-05-07/
LOCATION:ESRBC H.P. Office\, 6013 State Street\, Huntington Park\, CA\, 90255\, United States
END:VEVENT
BEGIN:VEVENT
DTSTART;TZID=America/Los_Angeles:20250506T150000
DTEND;TZID=America/Los_Angeles:20250506T180000
DTSTAMP:20260420T053805
CREATED:20250413T035636Z
LAST-MODIFIED:20250413T035758Z
UID:10003257-1746543600-1746554400@esrbc.org
SUMMARY:Huntington Park - After School Program
DESCRIPTION:
URL:https://esrbc.org/event/huntington-park-after-school-program/2025-05-06/
LOCATION:ESRBC H.P. Office\, 6013 State Street\, Huntington Park\, CA\, 90255\, United States
END:VEVENT
BEGIN:VEVENT
DTSTART;TZID=America/Los_Angeles:20250501T150000
DTEND;TZID=America/Los_Angeles:20250501T180000
DTSTAMP:20260420T053805
CREATED:20250413T035636Z
LAST-MODIFIED:20250413T035758Z
UID:10003256-1746111600-1746122400@esrbc.org
SUMMARY:Huntington Park - After School Program
DESCRIPTION:
URL:https://esrbc.org/event/huntington-park-after-school-program/2025-05-01/
LOCATION:ESRBC H.P. Office\, 6013 State Street\, Huntington Park\, CA\, 90255\, United States
END:VEVENT
BEGIN:VEVENT
DTSTART;TZID=America/Los_Angeles:20250430T150000
DTEND;TZID=America/Los_Angeles:20250430T180000
DTSTAMP:20260420T053805
CREATED:20250413T035636Z
LAST-MODIFIED:20250413T035758Z
UID:10003255-1746025200-1746036000@esrbc.org
SUMMARY:Huntington Park - After School Program
DESCRIPTION:
URL:https://esrbc.org/event/huntington-park-after-school-program/2025-04-30/
LOCATION:ESRBC H.P. Office\, 6013 State Street\, Huntington Park\, CA\, 90255\, United States
END:VEVENT
BEGIN:VEVENT
DTSTART;TZID=America/Los_Angeles:20250429T150000
DTEND;TZID=America/Los_Angeles:20250429T180000
DTSTAMP:20260420T053805
CREATED:20250413T035636Z
LAST-MODIFIED:20250413T035758Z
UID:10003254-1745938800-1745949600@esrbc.org
SUMMARY:Huntington Park - After School Program
DESCRIPTION:
URL:https://esrbc.org/event/huntington-park-after-school-program/2025-04-29/
LOCATION:ESRBC H.P. Office\, 6013 State Street\, Huntington Park\, CA\, 90255\, United States
END:VEVENT
BEGIN:VEVENT
DTSTART;TZID=America/Los_Angeles:20250424T150000
DTEND;TZID=America/Los_Angeles:20250424T180000
DTSTAMP:20260420T053805
CREATED:20250413T035636Z
LAST-MODIFIED:20250413T035758Z
UID:10003253-1745506800-1745517600@esrbc.org
SUMMARY:Huntington Park - After School Program
DESCRIPTION:
URL:https://esrbc.org/event/huntington-park-after-school-program/2025-04-24/
LOCATION:ESRBC H.P. Office\, 6013 State Street\, Huntington Park\, CA\, 90255\, United States
END:VEVENT
END:VCALENDAR