BEGIN:VCALENDAR
VERSION:2.0
PRODID:-//East Side Riders Bike Club - ECPv6.15.20//NONSGML v1.0//EN
CALSCALE:GREGORIAN
METHOD:PUBLISH
X-WR-CALNAME:East Side Riders Bike Club
X-ORIGINAL-URL:https://esrbc.org
X-WR-CALDESC:Events for East Side Riders Bike Club
REFRESH-INTERVAL;VALUE=DURATION:PT1H
X-Robots-Tag:noindex
X-PUBLISHED-TTL:PT1H
BEGIN:VTIMEZONE
TZID:America/Los_Angeles
BEGIN:DAYLIGHT
TZOFFSETFROM:-0800
TZOFFSETTO:-0700
TZNAME:PDT
DTSTART:20230312T100000
END:DAYLIGHT
BEGIN:STANDARD
TZOFFSETFROM:-0700
TZOFFSETTO:-0800
TZNAME:PST
DTSTART:20231105T090000
END:STANDARD
BEGIN:DAYLIGHT
TZOFFSETFROM:-0800
TZOFFSETTO:-0700
TZNAME:PDT
DTSTART:20240310T100000
END:DAYLIGHT
BEGIN:STANDARD
TZOFFSETFROM:-0700
TZOFFSETTO:-0800
TZNAME:PST
DTSTART:20241103T090000
END:STANDARD
BEGIN:DAYLIGHT
TZOFFSETFROM:-0800
TZOFFSETTO:-0700
TZNAME:PDT
DTSTART:20250309T100000
END:DAYLIGHT
BEGIN:STANDARD
TZOFFSETFROM:-0700
TZOFFSETTO:-0800
TZNAME:PST
DTSTART:20251102T090000
END:STANDARD
BEGIN:DAYLIGHT
TZOFFSETFROM:-0800
TZOFFSETTO:-0700
TZNAME:PDT
DTSTART:20260308T100000
END:DAYLIGHT
BEGIN:STANDARD
TZOFFSETFROM:-0700
TZOFFSETTO:-0800
TZNAME:PST
DTSTART:20261101T090000
END:STANDARD
END:VTIMEZONE
BEGIN:VEVENT
DTSTART;TZID=America/Los_Angeles:20250321T180000
DTEND;TZID=America/Los_Angeles:20250321T200000
DTSTAMP:20260420T123400
CREATED:20240116T171346Z
LAST-MODIFIED:20260115T033628Z
UID:10001762-1742580000-1742587200@esrbc.org
SUMMARY:Friday Night Bike Ride
DESCRIPTION:
URL:https://esrbc.org/event/friday-night-bike-ride/2025-03-21/
LOCATION:ESRBC H.P. Office\, 6013 State Street\, Huntington Park\, CA\, 90255\, United States
END:VEVENT
BEGIN:VEVENT
DTSTART;TZID=America/Los_Angeles:20250221T180000
DTEND;TZID=America/Los_Angeles:20250221T200000
DTSTAMP:20260420T123400
CREATED:20240116T171346Z
LAST-MODIFIED:20260115T033628Z
UID:10001761-1740160800-1740168000@esrbc.org
SUMMARY:Friday Night Bike Ride
DESCRIPTION:
URL:https://esrbc.org/event/friday-night-bike-ride/2025-02-21/
LOCATION:ESRBC H.P. Office\, 6013 State Street\, Huntington Park\, CA\, 90255\, United States
END:VEVENT
BEGIN:VEVENT
DTSTART;TZID=America/Los_Angeles:20250117T180000
DTEND;TZID=America/Los_Angeles:20250117T200000
DTSTAMP:20260420T123400
CREATED:20240116T171346Z
LAST-MODIFIED:20260115T033628Z
UID:10001760-1737136800-1737144000@esrbc.org
SUMMARY:Friday Night Bike Ride
DESCRIPTION:
URL:https://esrbc.org/event/friday-night-bike-ride/2025-01-17/
LOCATION:ESRBC H.P. Office\, 6013 State Street\, Huntington Park\, CA\, 90255\, United States
END:VEVENT
BEGIN:VEVENT
DTSTART;TZID=America/Los_Angeles:20241225T080000
DTEND;TZID=America/Los_Angeles:20241225T170000
DTSTAMP:20260420T123400
CREATED:20240317T221446Z
LAST-MODIFIED:20240317T221446Z
UID:10002464-1735113600-1735146000@esrbc.org
SUMMARY:Christmas
DESCRIPTION:
URL:https://esrbc.org/event/christmas/
LOCATION:CA
END:VEVENT
BEGIN:VEVENT
DTSTART;VALUE=DATE:20241221
DTEND;VALUE=DATE:20241222
DTSTAMP:20260420T123400
CREATED:20240118T184950Z
LAST-MODIFIED:20240118T184950Z
UID:10002428-1734739200-1734825599@esrbc.org
SUMMARY:ESRBC Adopt a Family Holiday Giveaway
DESCRIPTION:Details: TBD
URL:https://esrbc.org/event/esrbc-adopt-a-family-holiday-giveaway/
LOCATION:CA
END:VEVENT
BEGIN:VEVENT
DTSTART;TZID=America/Los_Angeles:20241220T180000
DTEND;TZID=America/Los_Angeles:20241220T200000
DTSTAMP:20260420T123400
CREATED:20240116T171346Z
LAST-MODIFIED:20260115T033628Z
UID:10001759-1734717600-1734724800@esrbc.org
SUMMARY:Friday Night Bike Ride
DESCRIPTION:
URL:https://esrbc.org/event/friday-night-bike-ride/2024-12-20/
LOCATION:ESRBC H.P. Office\, 6013 State Street\, Huntington Park\, CA\, 90255\, United States
END:VEVENT
BEGIN:VEVENT
DTSTART;TZID=America/Los_Angeles:20241218T153000
DTEND;TZID=America/Los_Angeles:20241218T170000
DTSTAMP:20260420T123400
CREATED:20240116T172403Z
LAST-MODIFIED:20240317T221429Z
UID:10001857-1734535800-1734541200@esrbc.org
SUMMARY:HP - After School Activities
DESCRIPTION:
URL:https://esrbc.org/event/hp-after-school-activities/2024-12-18/
LOCATION:ESRBC H.P. Office\, 6013 State Street\, Huntington Park\, CA\, 90255\, United States
END:VEVENT
BEGIN:VEVENT
DTSTART;TZID=America/Los_Angeles:20241211T153000
DTEND;TZID=America/Los_Angeles:20241211T170000
DTSTAMP:20260420T123400
CREATED:20240116T172403Z
LAST-MODIFIED:20240317T221429Z
UID:10001856-1733931000-1733936400@esrbc.org
SUMMARY:HP - After School Activities
DESCRIPTION:
URL:https://esrbc.org/event/hp-after-school-activities/2024-12-11/
LOCATION:ESRBC H.P. Office\, 6013 State Street\, Huntington Park\, CA\, 90255\, United States
END:VEVENT
BEGIN:VEVENT
DTSTART;TZID=America/Los_Angeles:20241204T153000
DTEND;TZID=America/Los_Angeles:20241204T170000
DTSTAMP:20260420T123400
CREATED:20240116T172403Z
LAST-MODIFIED:20240317T221429Z
UID:10001855-1733326200-1733331600@esrbc.org
SUMMARY:HP - After School Activities
DESCRIPTION:
URL:https://esrbc.org/event/hp-after-school-activities/2024-12-04/
LOCATION:ESRBC H.P. Office\, 6013 State Street\, Huntington Park\, CA\, 90255\, United States
END:VEVENT
BEGIN:VEVENT
DTSTART;TZID=America/Los_Angeles:20241127T153000
DTEND;TZID=America/Los_Angeles:20241127T170000
DTSTAMP:20260420T123400
CREATED:20240116T172403Z
LAST-MODIFIED:20240317T221429Z
UID:10001854-1732721400-1732726800@esrbc.org
SUMMARY:HP - After School Activities
DESCRIPTION:
URL:https://esrbc.org/event/hp-after-school-activities/2024-11-27/
LOCATION:ESRBC H.P. Office\, 6013 State Street\, Huntington Park\, CA\, 90255\, United States
END:VEVENT
BEGIN:VEVENT
DTSTART;TZID=America/Los_Angeles:20241120T153000
DTEND;TZID=America/Los_Angeles:20241120T170000
DTSTAMP:20260420T123400
CREATED:20240116T172403Z
LAST-MODIFIED:20240317T221429Z
UID:10001853-1732116600-1732122000@esrbc.org
SUMMARY:HP - After School Activities
DESCRIPTION:
URL:https://esrbc.org/event/hp-after-school-activities/2024-11-20/
LOCATION:ESRBC H.P. Office\, 6013 State Street\, Huntington Park\, CA\, 90255\, United States
END:VEVENT
BEGIN:VEVENT
DTSTART;TZID=America/Los_Angeles:20241116T090000
DTEND;TZID=America/Los_Angeles:20241116T120000
DTSTAMP:20260420T123400
CREATED:20240116T172724Z
LAST-MODIFIED:20260115T033553Z
UID:10002342-1731747600-1731758400@esrbc.org
SUMMARY:Family Bike Ride
DESCRIPTION:
URL:https://esrbc.org/event/family-bike-ride/2024-11-16/
LOCATION:CA
END:VEVENT
BEGIN:VEVENT
DTSTART;TZID=America/Los_Angeles:20241116T080000
DTEND;TZID=America/Los_Angeles:20241116T170000
DTSTAMP:20260420T123400
CREATED:20240317T221230Z
LAST-MODIFIED:20240317T221230Z
UID:10002463-1731744000-1731776400@esrbc.org
SUMMARY:ESRBC Thanksgiving Giveaway HP
DESCRIPTION:
URL:https://esrbc.org/event/esrbc-thanksgiving-giveaway-hp/
LOCATION:CA
END:VEVENT
BEGIN:VEVENT
DTSTART;TZID=America/Los_Angeles:20241115T180000
DTEND;TZID=America/Los_Angeles:20241115T200000
DTSTAMP:20260420T123400
CREATED:20240116T171346Z
LAST-MODIFIED:20260115T033628Z
UID:10001758-1731693600-1731700800@esrbc.org
SUMMARY:Friday Night Bike Ride
DESCRIPTION:
URL:https://esrbc.org/event/friday-night-bike-ride/2024-11-15/
LOCATION:ESRBC H.P. Office\, 6013 State Street\, Huntington Park\, CA\, 90255\, United States
END:VEVENT
BEGIN:VEVENT
DTSTART;TZID=America/Los_Angeles:20241113T153000
DTEND;TZID=America/Los_Angeles:20241113T170000
DTSTAMP:20260420T123400
CREATED:20240116T172403Z
LAST-MODIFIED:20240317T221429Z
UID:10001852-1731511800-1731517200@esrbc.org
SUMMARY:HP - After School Activities
DESCRIPTION:
URL:https://esrbc.org/event/hp-after-school-activities/2024-11-13/
LOCATION:ESRBC H.P. Office\, 6013 State Street\, Huntington Park\, CA\, 90255\, United States
END:VEVENT
BEGIN:VEVENT
DTSTART;TZID=America/Los_Angeles:20241106T153000
DTEND;TZID=America/Los_Angeles:20241106T170000
DTSTAMP:20260420T123400
CREATED:20240116T172403Z
LAST-MODIFIED:20240317T221429Z
UID:10001851-1730907000-1730912400@esrbc.org
SUMMARY:HP - After School Activities
DESCRIPTION:
URL:https://esrbc.org/event/hp-after-school-activities/2024-11-06/
LOCATION:ESRBC H.P. Office\, 6013 State Street\, Huntington Park\, CA\, 90255\, United States
END:VEVENT
BEGIN:VEVENT
DTSTART;TZID=America/Los_Angeles:20241102T080000
DTEND;TZID=America/Los_Angeles:20241102T170000
DTSTAMP:20260420T123400
CREATED:20240317T221201Z
LAST-MODIFIED:20240317T221201Z
UID:10002462-1730534400-1730566800@esrbc.org
SUMMARY:ESRBC Annual Dia De Los Muertos
DESCRIPTION:
URL:https://esrbc.org/event/esrbc-annual-dia-de-los-muertos/
LOCATION:CA
END:VEVENT
BEGIN:VEVENT
DTSTART;VALUE=DATE:20241031
DTEND;VALUE=DATE:20241101
DTSTAMP:20260420T123400
CREATED:20240118T184858Z
LAST-MODIFIED:20240118T184858Z
UID:10002427-1730332800-1730419199@esrbc.org
SUMMARY:Halloween Huntington Park Events
DESCRIPTION:Details: TBD
URL:https://esrbc.org/event/halloween-huntington-park-events/
LOCATION:CA
END:VEVENT
BEGIN:VEVENT
DTSTART;TZID=America/Los_Angeles:20241030T153000
DTEND;TZID=America/Los_Angeles:20241030T170000
DTSTAMP:20260420T123400
CREATED:20240116T172403Z
LAST-MODIFIED:20240317T221429Z
UID:10001850-1730302200-1730307600@esrbc.org
SUMMARY:HP - After School Activities
DESCRIPTION:
URL:https://esrbc.org/event/hp-after-school-activities/2024-10-30/
LOCATION:ESRBC H.P. Office\, 6013 State Street\, Huntington Park\, CA\, 90255\, United States
END:VEVENT
BEGIN:VEVENT
DTSTART;TZID=America/Los_Angeles:20241023T153000
DTEND;TZID=America/Los_Angeles:20241023T170000
DTSTAMP:20260420T123400
CREATED:20240116T172403Z
LAST-MODIFIED:20240317T221429Z
UID:10001849-1729697400-1729702800@esrbc.org
SUMMARY:HP - After School Activities
DESCRIPTION:
URL:https://esrbc.org/event/hp-after-school-activities/2024-10-23/
LOCATION:ESRBC H.P. Office\, 6013 State Street\, Huntington Park\, CA\, 90255\, United States
END:VEVENT
BEGIN:VEVENT
DTSTART;TZID=America/Los_Angeles:20241019T090000
DTEND;TZID=America/Los_Angeles:20241019T120000
DTSTAMP:20260420T123400
CREATED:20240116T172724Z
LAST-MODIFIED:20260115T033553Z
UID:10002341-1729328400-1729339200@esrbc.org
SUMMARY:Family Bike Ride
DESCRIPTION:
URL:https://esrbc.org/event/family-bike-ride/2024-10-19/
LOCATION:CA
END:VEVENT
BEGIN:VEVENT
DTSTART;TZID=America/Los_Angeles:20241018T180000
DTEND;TZID=America/Los_Angeles:20241018T200000
DTSTAMP:20260420T123400
CREATED:20240116T171346Z
LAST-MODIFIED:20260115T033628Z
UID:10001757-1729274400-1729281600@esrbc.org
SUMMARY:Friday Night Bike Ride
DESCRIPTION:
URL:https://esrbc.org/event/friday-night-bike-ride/2024-10-18/
LOCATION:ESRBC H.P. Office\, 6013 State Street\, Huntington Park\, CA\, 90255\, United States
END:VEVENT
BEGIN:VEVENT
DTSTART;TZID=America/Los_Angeles:20241016T153000
DTEND;TZID=America/Los_Angeles:20241016T170000
DTSTAMP:20260420T123400
CREATED:20240116T172403Z
LAST-MODIFIED:20240317T221429Z
UID:10001848-1729092600-1729098000@esrbc.org
SUMMARY:HP - After School Activities
DESCRIPTION:
URL:https://esrbc.org/event/hp-after-school-activities/2024-10-16/
LOCATION:ESRBC H.P. Office\, 6013 State Street\, Huntington Park\, CA\, 90255\, United States
END:VEVENT
BEGIN:VEVENT
DTSTART;TZID=America/Los_Angeles:20241014T080000
DTEND;TZID=America/Los_Angeles:20241014T170000
DTSTAMP:20260420T123400
CREATED:20240317T221129Z
LAST-MODIFIED:20240317T221129Z
UID:10002461-1728892800-1728925200@esrbc.org
SUMMARY:Columbus day
DESCRIPTION:
URL:https://esrbc.org/event/columbus-day/
LOCATION:CA
END:VEVENT
BEGIN:VEVENT
DTSTART;TZID=America/Los_Angeles:20241009T153000
DTEND;TZID=America/Los_Angeles:20241009T170000
DTSTAMP:20260420T123400
CREATED:20240116T172403Z
LAST-MODIFIED:20240317T221429Z
UID:10001847-1728487800-1728493200@esrbc.org
SUMMARY:HP - After School Activities
DESCRIPTION:
URL:https://esrbc.org/event/hp-after-school-activities/2024-10-09/
LOCATION:ESRBC H.P. Office\, 6013 State Street\, Huntington Park\, CA\, 90255\, United States
END:VEVENT
BEGIN:VEVENT
DTSTART;TZID=America/Los_Angeles:20241002T153000
DTEND;TZID=America/Los_Angeles:20241002T170000
DTSTAMP:20260420T123400
CREATED:20240116T172403Z
LAST-MODIFIED:20240317T221429Z
UID:10001846-1727883000-1727888400@esrbc.org
SUMMARY:HP - After School Activities
DESCRIPTION:
URL:https://esrbc.org/event/hp-after-school-activities/2024-10-02/
LOCATION:ESRBC H.P. Office\, 6013 State Street\, Huntington Park\, CA\, 90255\, United States
END:VEVENT
BEGIN:VEVENT
DTSTART;TZID=America/Los_Angeles:20240925T153000
DTEND;TZID=America/Los_Angeles:20240925T170000
DTSTAMP:20260420T123400
CREATED:20240116T172403Z
LAST-MODIFIED:20240317T221429Z
UID:10001845-1727278200-1727283600@esrbc.org
SUMMARY:HP - After School Activities
DESCRIPTION:
URL:https://esrbc.org/event/hp-after-school-activities/2024-09-25/
LOCATION:ESRBC H.P. Office\, 6013 State Street\, Huntington Park\, CA\, 90255\, United States
END:VEVENT
BEGIN:VEVENT
DTSTART;TZID=America/Los_Angeles:20240921T090000
DTEND;TZID=America/Los_Angeles:20240921T120000
DTSTAMP:20260420T123400
CREATED:20240116T172724Z
LAST-MODIFIED:20260115T033553Z
UID:10002340-1726909200-1726920000@esrbc.org
SUMMARY:Family Bike Ride
DESCRIPTION:
URL:https://esrbc.org/event/family-bike-ride/2024-09-21/
LOCATION:CA
END:VEVENT
BEGIN:VEVENT
DTSTART;TZID=America/Los_Angeles:20240920T180000
DTEND;TZID=America/Los_Angeles:20240920T200000
DTSTAMP:20260420T123400
CREATED:20240116T171346Z
LAST-MODIFIED:20260115T033628Z
UID:10001756-1726855200-1726862400@esrbc.org
SUMMARY:Friday Night Bike Ride
DESCRIPTION:
URL:https://esrbc.org/event/friday-night-bike-ride/2024-09-20/
LOCATION:ESRBC H.P. Office\, 6013 State Street\, Huntington Park\, CA\, 90255\, United States
END:VEVENT
BEGIN:VEVENT
DTSTART;TZID=America/Los_Angeles:20240918T153000
DTEND;TZID=America/Los_Angeles:20240918T170000
DTSTAMP:20260420T123400
CREATED:20240116T172403Z
LAST-MODIFIED:20240317T221429Z
UID:10001844-1726673400-1726678800@esrbc.org
SUMMARY:HP - After School Activities
DESCRIPTION:
URL:https://esrbc.org/event/hp-after-school-activities/2024-09-18/
LOCATION:ESRBC H.P. Office\, 6013 State Street\, Huntington Park\, CA\, 90255\, United States
END:VEVENT
END:VCALENDAR