BEGIN:VCALENDAR
VERSION:2.0
PRODID:-//East Side Riders Bike Club - ECPv6.15.20//NONSGML v1.0//EN
CALSCALE:GREGORIAN
METHOD:PUBLISH
X-WR-CALNAME:East Side Riders Bike Club
X-ORIGINAL-URL:https://esrbc.org
X-WR-CALDESC:Events for East Side Riders Bike Club
REFRESH-INTERVAL;VALUE=DURATION:PT1H
X-Robots-Tag:noindex
X-PUBLISHED-TTL:PT1H
BEGIN:VTIMEZONE
TZID:America/Los_Angeles
BEGIN:DAYLIGHT
TZOFFSETFROM:-0800
TZOFFSETTO:-0700
TZNAME:PDT
DTSTART:20230312T100000
END:DAYLIGHT
BEGIN:STANDARD
TZOFFSETFROM:-0700
TZOFFSETTO:-0800
TZNAME:PST
DTSTART:20231105T090000
END:STANDARD
BEGIN:DAYLIGHT
TZOFFSETFROM:-0800
TZOFFSETTO:-0700
TZNAME:PDT
DTSTART:20240310T100000
END:DAYLIGHT
BEGIN:STANDARD
TZOFFSETFROM:-0700
TZOFFSETTO:-0800
TZNAME:PST
DTSTART:20241103T090000
END:STANDARD
BEGIN:DAYLIGHT
TZOFFSETFROM:-0800
TZOFFSETTO:-0700
TZNAME:PDT
DTSTART:20250309T100000
END:DAYLIGHT
BEGIN:STANDARD
TZOFFSETFROM:-0700
TZOFFSETTO:-0800
TZNAME:PST
DTSTART:20251102T090000
END:STANDARD
BEGIN:DAYLIGHT
TZOFFSETFROM:-0800
TZOFFSETTO:-0700
TZNAME:PDT
DTSTART:20260308T100000
END:DAYLIGHT
BEGIN:STANDARD
TZOFFSETFROM:-0700
TZOFFSETTO:-0800
TZNAME:PST
DTSTART:20261101T090000
END:STANDARD
END:VTIMEZONE
BEGIN:VEVENT
DTSTART;TZID=America/Los_Angeles:20250516T180000
DTEND;TZID=America/Los_Angeles:20250516T200000
DTSTAMP:20260420T170944
CREATED:20240116T171346Z
LAST-MODIFIED:20260115T033628Z
UID:10001764-1747418400-1747425600@esrbc.org
SUMMARY:Friday Night Bike Ride
DESCRIPTION:
URL:https://esrbc.org/event/friday-night-bike-ride/2025-05-16/
LOCATION:ESRBC H.P. Office\, 6013 State Street\, Huntington Park\, CA\, 90255\, United States
END:VEVENT
BEGIN:VEVENT
DTSTART;TZID=America/Los_Angeles:20250515T150000
DTEND;TZID=America/Los_Angeles:20250515T180000
DTSTAMP:20260420T170944
CREATED:20250413T035636Z
LAST-MODIFIED:20250413T035758Z
UID:10003262-1747321200-1747332000@esrbc.org
SUMMARY:Huntington Park - After School Program
DESCRIPTION:
URL:https://esrbc.org/event/huntington-park-after-school-program/2025-05-15/
LOCATION:ESRBC H.P. Office\, 6013 State Street\, Huntington Park\, CA\, 90255\, United States
END:VEVENT
BEGIN:VEVENT
DTSTART;TZID=America/Los_Angeles:20250514T150000
DTEND;TZID=America/Los_Angeles:20250514T180000
DTSTAMP:20260420T170944
CREATED:20250413T035636Z
LAST-MODIFIED:20250413T035758Z
UID:10003261-1747234800-1747245600@esrbc.org
SUMMARY:Huntington Park - After School Program
DESCRIPTION:
URL:https://esrbc.org/event/huntington-park-after-school-program/2025-05-14/
LOCATION:ESRBC H.P. Office\, 6013 State Street\, Huntington Park\, CA\, 90255\, United States
END:VEVENT
BEGIN:VEVENT
DTSTART;TZID=America/Los_Angeles:20250513T150000
DTEND;TZID=America/Los_Angeles:20250513T180000
DTSTAMP:20260420T170944
CREATED:20250413T035636Z
LAST-MODIFIED:20250413T035758Z
UID:10003260-1747148400-1747159200@esrbc.org
SUMMARY:Huntington Park - After School Program
DESCRIPTION:
URL:https://esrbc.org/event/huntington-park-after-school-program/2025-05-13/
LOCATION:ESRBC H.P. Office\, 6013 State Street\, Huntington Park\, CA\, 90255\, United States
END:VEVENT
BEGIN:VEVENT
DTSTART;TZID=America/Los_Angeles:20250508T150000
DTEND;TZID=America/Los_Angeles:20250508T180000
DTSTAMP:20260420T170944
CREATED:20250413T035636Z
LAST-MODIFIED:20250413T035758Z
UID:10003259-1746716400-1746727200@esrbc.org
SUMMARY:Huntington Park - After School Program
DESCRIPTION:
URL:https://esrbc.org/event/huntington-park-after-school-program/2025-05-08/
LOCATION:ESRBC H.P. Office\, 6013 State Street\, Huntington Park\, CA\, 90255\, United States
END:VEVENT
BEGIN:VEVENT
DTSTART;TZID=America/Los_Angeles:20250507T150000
DTEND;TZID=America/Los_Angeles:20250507T180000
DTSTAMP:20260420T170944
CREATED:20250413T035636Z
LAST-MODIFIED:20250413T035758Z
UID:10003258-1746630000-1746640800@esrbc.org
SUMMARY:Huntington Park - After School Program
DESCRIPTION:
URL:https://esrbc.org/event/huntington-park-after-school-program/2025-05-07/
LOCATION:ESRBC H.P. Office\, 6013 State Street\, Huntington Park\, CA\, 90255\, United States
END:VEVENT
BEGIN:VEVENT
DTSTART;TZID=America/Los_Angeles:20250506T150000
DTEND;TZID=America/Los_Angeles:20250506T180000
DTSTAMP:20260420T170944
CREATED:20250413T035636Z
LAST-MODIFIED:20250413T035758Z
UID:10003257-1746543600-1746554400@esrbc.org
SUMMARY:Huntington Park - After School Program
DESCRIPTION:
URL:https://esrbc.org/event/huntington-park-after-school-program/2025-05-06/
LOCATION:ESRBC H.P. Office\, 6013 State Street\, Huntington Park\, CA\, 90255\, United States
END:VEVENT
BEGIN:VEVENT
DTSTART;TZID=America/Los_Angeles:20250501T150000
DTEND;TZID=America/Los_Angeles:20250501T180000
DTSTAMP:20260420T170944
CREATED:20250413T035636Z
LAST-MODIFIED:20250413T035758Z
UID:10003256-1746111600-1746122400@esrbc.org
SUMMARY:Huntington Park - After School Program
DESCRIPTION:
URL:https://esrbc.org/event/huntington-park-after-school-program/2025-05-01/
LOCATION:ESRBC H.P. Office\, 6013 State Street\, Huntington Park\, CA\, 90255\, United States
END:VEVENT
BEGIN:VEVENT
DTSTART;TZID=America/Los_Angeles:20250430T150000
DTEND;TZID=America/Los_Angeles:20250430T180000
DTSTAMP:20260420T170944
CREATED:20250413T035636Z
LAST-MODIFIED:20250413T035758Z
UID:10003255-1746025200-1746036000@esrbc.org
SUMMARY:Huntington Park - After School Program
DESCRIPTION:
URL:https://esrbc.org/event/huntington-park-after-school-program/2025-04-30/
LOCATION:ESRBC H.P. Office\, 6013 State Street\, Huntington Park\, CA\, 90255\, United States
END:VEVENT
BEGIN:VEVENT
DTSTART;TZID=America/Los_Angeles:20250429T150000
DTEND;TZID=America/Los_Angeles:20250429T180000
DTSTAMP:20260420T170944
CREATED:20250413T035636Z
LAST-MODIFIED:20250413T035758Z
UID:10003254-1745938800-1745949600@esrbc.org
SUMMARY:Huntington Park - After School Program
DESCRIPTION:
URL:https://esrbc.org/event/huntington-park-after-school-program/2025-04-29/
LOCATION:ESRBC H.P. Office\, 6013 State Street\, Huntington Park\, CA\, 90255\, United States
END:VEVENT
BEGIN:VEVENT
DTSTART;TZID=America/Los_Angeles:20250424T150000
DTEND;TZID=America/Los_Angeles:20250424T180000
DTSTAMP:20260420T170944
CREATED:20250413T035636Z
LAST-MODIFIED:20250413T035758Z
UID:10003253-1745506800-1745517600@esrbc.org
SUMMARY:Huntington Park - After School Program
DESCRIPTION:
URL:https://esrbc.org/event/huntington-park-after-school-program/2025-04-24/
LOCATION:ESRBC H.P. Office\, 6013 State Street\, Huntington Park\, CA\, 90255\, United States
END:VEVENT
BEGIN:VEVENT
DTSTART;TZID=America/Los_Angeles:20250423T150000
DTEND;TZID=America/Los_Angeles:20250423T180000
DTSTAMP:20260420T170944
CREATED:20250413T035636Z
LAST-MODIFIED:20250413T035758Z
UID:10003252-1745420400-1745431200@esrbc.org
SUMMARY:Huntington Park - After School Program
DESCRIPTION:
URL:https://esrbc.org/event/huntington-park-after-school-program/2025-04-23/
LOCATION:ESRBC H.P. Office\, 6013 State Street\, Huntington Park\, CA\, 90255\, United States
END:VEVENT
BEGIN:VEVENT
DTSTART;TZID=America/Los_Angeles:20250422T150000
DTEND;TZID=America/Los_Angeles:20250422T180000
DTSTAMP:20260420T170944
CREATED:20250413T035636Z
LAST-MODIFIED:20250413T035758Z
UID:10003251-1745334000-1745344800@esrbc.org
SUMMARY:Huntington Park - After School Program
DESCRIPTION:
URL:https://esrbc.org/event/huntington-park-after-school-program/2025-04-22/
LOCATION:ESRBC H.P. Office\, 6013 State Street\, Huntington Park\, CA\, 90255\, United States
END:VEVENT
BEGIN:VEVENT
DTSTART;TZID=America/Los_Angeles:20250418T180000
DTEND;TZID=America/Los_Angeles:20250418T200000
DTSTAMP:20260420T170944
CREATED:20240116T171346Z
LAST-MODIFIED:20260115T033628Z
UID:10001763-1744999200-1745006400@esrbc.org
SUMMARY:Friday Night Bike Ride
DESCRIPTION:
URL:https://esrbc.org/event/friday-night-bike-ride/2025-04-18/
LOCATION:ESRBC H.P. Office\, 6013 State Street\, Huntington Park\, CA\, 90255\, United States
END:VEVENT
BEGIN:VEVENT
DTSTART;TZID=America/Los_Angeles:20250417T150000
DTEND;TZID=America/Los_Angeles:20250417T180000
DTSTAMP:20260420T170944
CREATED:20250413T035636Z
LAST-MODIFIED:20250413T035758Z
UID:10003250-1744902000-1744912800@esrbc.org
SUMMARY:Huntington Park - After School Program
DESCRIPTION:
URL:https://esrbc.org/event/huntington-park-after-school-program/2025-04-17/
LOCATION:ESRBC H.P. Office\, 6013 State Street\, Huntington Park\, CA\, 90255\, United States
END:VEVENT
BEGIN:VEVENT
DTSTART;TZID=America/Los_Angeles:20250416T150000
DTEND;TZID=America/Los_Angeles:20250416T180000
DTSTAMP:20260420T170944
CREATED:20250413T035636Z
LAST-MODIFIED:20250413T035758Z
UID:10003249-1744815600-1744826400@esrbc.org
SUMMARY:Huntington Park - After School Program
DESCRIPTION:
URL:https://esrbc.org/event/huntington-park-after-school-program/2025-04-16/
LOCATION:ESRBC H.P. Office\, 6013 State Street\, Huntington Park\, CA\, 90255\, United States
END:VEVENT
BEGIN:VEVENT
DTSTART;TZID=America/Los_Angeles:20250415T150000
DTEND;TZID=America/Los_Angeles:20250415T180000
DTSTAMP:20260420T170944
CREATED:20250413T035636Z
LAST-MODIFIED:20250413T035758Z
UID:10003248-1744729200-1744740000@esrbc.org
SUMMARY:Huntington Park - After School Program
DESCRIPTION:
URL:https://esrbc.org/event/huntington-park-after-school-program/2025-04-15/
LOCATION:ESRBC H.P. Office\, 6013 State Street\, Huntington Park\, CA\, 90255\, United States
END:VEVENT
BEGIN:VEVENT
DTSTART;TZID=America/Los_Angeles:20250321T180000
DTEND;TZID=America/Los_Angeles:20250321T200000
DTSTAMP:20260420T170944
CREATED:20240116T171346Z
LAST-MODIFIED:20260115T033628Z
UID:10001762-1742580000-1742587200@esrbc.org
SUMMARY:Friday Night Bike Ride
DESCRIPTION:
URL:https://esrbc.org/event/friday-night-bike-ride/2025-03-21/
LOCATION:ESRBC H.P. Office\, 6013 State Street\, Huntington Park\, CA\, 90255\, United States
END:VEVENT
BEGIN:VEVENT
DTSTART;TZID=America/Los_Angeles:20250221T180000
DTEND;TZID=America/Los_Angeles:20250221T200000
DTSTAMP:20260420T170944
CREATED:20240116T171346Z
LAST-MODIFIED:20260115T033628Z
UID:10001761-1740160800-1740168000@esrbc.org
SUMMARY:Friday Night Bike Ride
DESCRIPTION:
URL:https://esrbc.org/event/friday-night-bike-ride/2025-02-21/
LOCATION:ESRBC H.P. Office\, 6013 State Street\, Huntington Park\, CA\, 90255\, United States
END:VEVENT
BEGIN:VEVENT
DTSTART;TZID=America/Los_Angeles:20250117T180000
DTEND;TZID=America/Los_Angeles:20250117T200000
DTSTAMP:20260420T170944
CREATED:20240116T171346Z
LAST-MODIFIED:20260115T033628Z
UID:10001760-1737136800-1737144000@esrbc.org
SUMMARY:Friday Night Bike Ride
DESCRIPTION:
URL:https://esrbc.org/event/friday-night-bike-ride/2025-01-17/
LOCATION:ESRBC H.P. Office\, 6013 State Street\, Huntington Park\, CA\, 90255\, United States
END:VEVENT
BEGIN:VEVENT
DTSTART;TZID=America/Los_Angeles:20241225T080000
DTEND;TZID=America/Los_Angeles:20241225T170000
DTSTAMP:20260420T170944
CREATED:20240317T221446Z
LAST-MODIFIED:20240317T221446Z
UID:10002464-1735113600-1735146000@esrbc.org
SUMMARY:Christmas
DESCRIPTION:
URL:https://esrbc.org/event/christmas/
LOCATION:CA
END:VEVENT
BEGIN:VEVENT
DTSTART;VALUE=DATE:20241221
DTEND;VALUE=DATE:20241222
DTSTAMP:20260420T170944
CREATED:20240118T184950Z
LAST-MODIFIED:20240118T184950Z
UID:10002428-1734739200-1734825599@esrbc.org
SUMMARY:ESRBC Adopt a Family Holiday Giveaway
DESCRIPTION:Details: TBD
URL:https://esrbc.org/event/esrbc-adopt-a-family-holiday-giveaway/
LOCATION:CA
END:VEVENT
BEGIN:VEVENT
DTSTART;TZID=America/Los_Angeles:20241220T180000
DTEND;TZID=America/Los_Angeles:20241220T200000
DTSTAMP:20260420T170944
CREATED:20240116T171346Z
LAST-MODIFIED:20260115T033628Z
UID:10001759-1734717600-1734724800@esrbc.org
SUMMARY:Friday Night Bike Ride
DESCRIPTION:
URL:https://esrbc.org/event/friday-night-bike-ride/2024-12-20/
LOCATION:ESRBC H.P. Office\, 6013 State Street\, Huntington Park\, CA\, 90255\, United States
END:VEVENT
BEGIN:VEVENT
DTSTART;TZID=America/Los_Angeles:20241218T153000
DTEND;TZID=America/Los_Angeles:20241218T170000
DTSTAMP:20260420T170944
CREATED:20240116T172403Z
LAST-MODIFIED:20240317T221429Z
UID:10001857-1734535800-1734541200@esrbc.org
SUMMARY:HP - After School Activities
DESCRIPTION:
URL:https://esrbc.org/event/hp-after-school-activities/2024-12-18/
LOCATION:ESRBC H.P. Office\, 6013 State Street\, Huntington Park\, CA\, 90255\, United States
END:VEVENT
BEGIN:VEVENT
DTSTART;TZID=America/Los_Angeles:20241211T153000
DTEND;TZID=America/Los_Angeles:20241211T170000
DTSTAMP:20260420T170944
CREATED:20240116T172403Z
LAST-MODIFIED:20240317T221429Z
UID:10001856-1733931000-1733936400@esrbc.org
SUMMARY:HP - After School Activities
DESCRIPTION:
URL:https://esrbc.org/event/hp-after-school-activities/2024-12-11/
LOCATION:ESRBC H.P. Office\, 6013 State Street\, Huntington Park\, CA\, 90255\, United States
END:VEVENT
BEGIN:VEVENT
DTSTART;TZID=America/Los_Angeles:20241204T153000
DTEND;TZID=America/Los_Angeles:20241204T170000
DTSTAMP:20260420T170944
CREATED:20240116T172403Z
LAST-MODIFIED:20240317T221429Z
UID:10001855-1733326200-1733331600@esrbc.org
SUMMARY:HP - After School Activities
DESCRIPTION:
URL:https://esrbc.org/event/hp-after-school-activities/2024-12-04/
LOCATION:ESRBC H.P. Office\, 6013 State Street\, Huntington Park\, CA\, 90255\, United States
END:VEVENT
BEGIN:VEVENT
DTSTART;TZID=America/Los_Angeles:20241127T153000
DTEND;TZID=America/Los_Angeles:20241127T170000
DTSTAMP:20260420T170944
CREATED:20240116T172403Z
LAST-MODIFIED:20240317T221429Z
UID:10001854-1732721400-1732726800@esrbc.org
SUMMARY:HP - After School Activities
DESCRIPTION:
URL:https://esrbc.org/event/hp-after-school-activities/2024-11-27/
LOCATION:ESRBC H.P. Office\, 6013 State Street\, Huntington Park\, CA\, 90255\, United States
END:VEVENT
BEGIN:VEVENT
DTSTART;TZID=America/Los_Angeles:20241120T153000
DTEND;TZID=America/Los_Angeles:20241120T170000
DTSTAMP:20260420T170944
CREATED:20240116T172403Z
LAST-MODIFIED:20240317T221429Z
UID:10001853-1732116600-1732122000@esrbc.org
SUMMARY:HP - After School Activities
DESCRIPTION:
URL:https://esrbc.org/event/hp-after-school-activities/2024-11-20/
LOCATION:ESRBC H.P. Office\, 6013 State Street\, Huntington Park\, CA\, 90255\, United States
END:VEVENT
BEGIN:VEVENT
DTSTART;TZID=America/Los_Angeles:20241116T090000
DTEND;TZID=America/Los_Angeles:20241116T120000
DTSTAMP:20260420T170944
CREATED:20240116T172724Z
LAST-MODIFIED:20260115T033553Z
UID:10002342-1731747600-1731758400@esrbc.org
SUMMARY:Family Bike Ride
DESCRIPTION:
URL:https://esrbc.org/event/family-bike-ride/2024-11-16/
LOCATION:CA
END:VEVENT
BEGIN:VEVENT
DTSTART;TZID=America/Los_Angeles:20241116T080000
DTEND;TZID=America/Los_Angeles:20241116T170000
DTSTAMP:20260420T170944
CREATED:20240317T221230Z
LAST-MODIFIED:20240317T221230Z
UID:10002463-1731744000-1731776400@esrbc.org
SUMMARY:ESRBC Thanksgiving Giveaway HP
DESCRIPTION:
URL:https://esrbc.org/event/esrbc-thanksgiving-giveaway-hp/
LOCATION:CA
END:VEVENT
END:VCALENDAR