BEGIN:VCALENDAR
VERSION:2.0
PRODID:-//East Side Riders Bike Club - ECPv6.15.20//NONSGML v1.0//EN
CALSCALE:GREGORIAN
METHOD:PUBLISH
X-WR-CALNAME:East Side Riders Bike Club
X-ORIGINAL-URL:https://esrbc.org
X-WR-CALDESC:Events for East Side Riders Bike Club
REFRESH-INTERVAL;VALUE=DURATION:PT1H
X-Robots-Tag:noindex
X-PUBLISHED-TTL:PT1H
BEGIN:VTIMEZONE
TZID:America/Los_Angeles
BEGIN:DAYLIGHT
TZOFFSETFROM:-0800
TZOFFSETTO:-0700
TZNAME:PDT
DTSTART:20230312T100000
END:DAYLIGHT
BEGIN:STANDARD
TZOFFSETFROM:-0700
TZOFFSETTO:-0800
TZNAME:PST
DTSTART:20231105T090000
END:STANDARD
BEGIN:DAYLIGHT
TZOFFSETFROM:-0800
TZOFFSETTO:-0700
TZNAME:PDT
DTSTART:20240310T100000
END:DAYLIGHT
BEGIN:STANDARD
TZOFFSETFROM:-0700
TZOFFSETTO:-0800
TZNAME:PST
DTSTART:20241103T090000
END:STANDARD
BEGIN:DAYLIGHT
TZOFFSETFROM:-0800
TZOFFSETTO:-0700
TZNAME:PDT
DTSTART:20250309T100000
END:DAYLIGHT
BEGIN:STANDARD
TZOFFSETFROM:-0700
TZOFFSETTO:-0800
TZNAME:PST
DTSTART:20251102T090000
END:STANDARD
END:VTIMEZONE
BEGIN:VEVENT
DTSTART;TZID=America/Los_Angeles:20240406T100000
DTEND;TZID=America/Los_Angeles:20240406T120000
DTSTAMP:20260421T010708
CREATED:20240317T215804Z
LAST-MODIFIED:20240317T215943Z
UID:10002436-1712397600-1712404800@esrbc.org
SUMMARY:B.E.A.S.T Class (Keller Park)
DESCRIPTION:
URL:https://esrbc.org/event/b-e-a-s-t-class-keller-park-2/2024-04-06/
LOCATION:Keller Park\, 6550 Miles Ave.\, Huntington Park\, CA\, 90255\, United States
END:VEVENT
BEGIN:VEVENT
DTSTART;TZID=America/Los_Angeles:20240403T153000
DTEND;TZID=America/Los_Angeles:20240403T170000
DTSTAMP:20260421T010708
CREATED:20240116T172403Z
LAST-MODIFIED:20240317T221429Z
UID:10001820-1712158200-1712163600@esrbc.org
SUMMARY:HP - After School Activities
DESCRIPTION:
URL:https://esrbc.org/event/hp-after-school-activities/2024-04-03/
LOCATION:ESRBC H.P. Office\, 6013 State Street\, Huntington Park\, CA\, 90255\, United States
END:VEVENT
BEGIN:VEVENT
DTSTART;TZID=America/Los_Angeles:20240331T080000
DTEND;TZID=America/Los_Angeles:20240331T170000
DTSTAMP:20260421T010708
CREATED:20240317T220112Z
LAST-MODIFIED:20240317T220136Z
UID:10002440-1711872000-1711904400@esrbc.org
SUMMARY:Sunday Easter and Cesar Chavez Cleaning Up (Watts)
DESCRIPTION:
URL:https://esrbc.org/event/sunday-easter-and-cesar-chavez-cleaning-up-watts/
LOCATION:Ted Watkins Memorial Park\, 1335 E. 103rd St\, Los Angeles\, California\, 90002\, United States
END:VEVENT
BEGIN:VEVENT
DTSTART;TZID=America/Los_Angeles:20240330T100000
DTEND;TZID=America/Los_Angeles:20240330T120000
DTSTAMP:20260421T010708
CREATED:20240317T215804Z
LAST-MODIFIED:20240317T215943Z
UID:10002435-1711792800-1711800000@esrbc.org
SUMMARY:B.E.A.S.T Class (Keller Park)
DESCRIPTION:
URL:https://esrbc.org/event/b-e-a-s-t-class-keller-park-2/2024-03-30/
LOCATION:Keller Park\, 6550 Miles Ave.\, Huntington Park\, CA\, 90255\, United States
END:VEVENT
BEGIN:VEVENT
DTSTART;TZID=America/Los_Angeles:20240327T153000
DTEND;TZID=America/Los_Angeles:20240327T170000
DTSTAMP:20260421T010708
CREATED:20240116T172403Z
LAST-MODIFIED:20240317T221429Z
UID:10001819-1711553400-1711558800@esrbc.org
SUMMARY:HP - After School Activities
DESCRIPTION:
URL:https://esrbc.org/event/hp-after-school-activities/2024-03-27/
LOCATION:ESRBC H.P. Office\, 6013 State Street\, Huntington Park\, CA\, 90255\, United States
END:VEVENT
BEGIN:VEVENT
DTSTART;TZID=America/Los_Angeles:20240323T100000
DTEND;TZID=America/Los_Angeles:20240323T120000
DTSTAMP:20260421T010708
CREATED:20240317T215804Z
LAST-MODIFIED:20240317T215943Z
UID:10002434-1711188000-1711195200@esrbc.org
SUMMARY:B.E.A.S.T Class (Keller Park)
DESCRIPTION:
URL:https://esrbc.org/event/b-e-a-s-t-class-keller-park-2/2024-03-23/
LOCATION:Keller Park\, 6550 Miles Ave.\, Huntington Park\, CA\, 90255\, United States
END:VEVENT
BEGIN:VEVENT
DTSTART;TZID=America/Los_Angeles:20240320T153000
DTEND;TZID=America/Los_Angeles:20240320T170000
DTSTAMP:20260421T010708
CREATED:20240116T172403Z
LAST-MODIFIED:20240317T221429Z
UID:10001818-1710948600-1710954000@esrbc.org
SUMMARY:HP - After School Activities
DESCRIPTION:
URL:https://esrbc.org/event/hp-after-school-activities/2024-03-20/
LOCATION:ESRBC H.P. Office\, 6013 State Street\, Huntington Park\, CA\, 90255\, United States
END:VEVENT
BEGIN:VEVENT
DTSTART;TZID=America/Los_Angeles:20240316T090000
DTEND;TZID=America/Los_Angeles:20240316T120000
DTSTAMP:20260421T010708
CREATED:20240116T172724Z
LAST-MODIFIED:20260115T033553Z
UID:10002334-1710579600-1710590400@esrbc.org
SUMMARY:Family Bike Ride
DESCRIPTION:
URL:https://esrbc.org/event/family-bike-ride/2024-03-16/
LOCATION:CA
END:VEVENT
BEGIN:VEVENT
DTSTART;TZID=America/Los_Angeles:20240315T180000
DTEND;TZID=America/Los_Angeles:20240315T200000
DTSTAMP:20260421T010708
CREATED:20240116T171346Z
LAST-MODIFIED:20260115T033628Z
UID:10001750-1710525600-1710532800@esrbc.org
SUMMARY:Friday Night Bike Ride
DESCRIPTION:
URL:https://esrbc.org/event/friday-night-bike-ride/2024-03-15/
LOCATION:ESRBC H.P. Office\, 6013 State Street\, Huntington Park\, CA\, 90255\, United States
END:VEVENT
BEGIN:VEVENT
DTSTART;TZID=America/Los_Angeles:20240315T143000
DTEND;TZID=America/Los_Angeles:20240315T163000
DTSTAMP:20260421T010708
CREATED:20240118T181928Z
LAST-MODIFIED:20240118T181928Z
UID:10002401-1710513000-1710520200@esrbc.org
SUMMARY:B.E.A.S.T Class (Keller Park)
DESCRIPTION:
URL:https://esrbc.org/event/b-e-a-s-t-class-keller-park/2024-03-15/
LOCATION:Keller Park\, 6550 Miles Ave.\, Huntington Park\, CA\, 90255\, United States
END:VEVENT
BEGIN:VEVENT
DTSTART;TZID=America/Los_Angeles:20240313T153000
DTEND;TZID=America/Los_Angeles:20240313T170000
DTSTAMP:20260421T010708
CREATED:20240116T172403Z
LAST-MODIFIED:20240317T221429Z
UID:10001817-1710343800-1710349200@esrbc.org
SUMMARY:HP - After School Activities
DESCRIPTION:
URL:https://esrbc.org/event/hp-after-school-activities/2024-03-13/
LOCATION:ESRBC H.P. Office\, 6013 State Street\, Huntington Park\, CA\, 90255\, United States
END:VEVENT
BEGIN:VEVENT
DTSTART;TZID=America/Los_Angeles:20240308T143000
DTEND;TZID=America/Los_Angeles:20240308T163000
DTSTAMP:20260421T010708
CREATED:20240118T181928Z
LAST-MODIFIED:20240118T181928Z
UID:10002400-1709908200-1709915400@esrbc.org
SUMMARY:B.E.A.S.T Class (Keller Park)
DESCRIPTION:
URL:https://esrbc.org/event/b-e-a-s-t-class-keller-park/2024-03-08/
LOCATION:Keller Park\, 6550 Miles Ave.\, Huntington Park\, CA\, 90255\, United States
END:VEVENT
BEGIN:VEVENT
DTSTART;TZID=America/Los_Angeles:20240306T153000
DTEND;TZID=America/Los_Angeles:20240306T170000
DTSTAMP:20260421T010708
CREATED:20240116T172403Z
LAST-MODIFIED:20240317T221429Z
UID:10001816-1709739000-1709744400@esrbc.org
SUMMARY:HP - After School Activities
DESCRIPTION:
URL:https://esrbc.org/event/hp-after-school-activities/2024-03-06/
LOCATION:ESRBC H.P. Office\, 6013 State Street\, Huntington Park\, CA\, 90255\, United States
END:VEVENT
BEGIN:VEVENT
DTSTART;TZID=America/Los_Angeles:20240301T143000
DTEND;TZID=America/Los_Angeles:20240301T163000
DTSTAMP:20260421T010708
CREATED:20240118T181928Z
LAST-MODIFIED:20240118T181928Z
UID:10002399-1709303400-1709310600@esrbc.org
SUMMARY:B.E.A.S.T Class (Keller Park)
DESCRIPTION:
URL:https://esrbc.org/event/b-e-a-s-t-class-keller-park/2024-03-01/
LOCATION:Keller Park\, 6550 Miles Ave.\, Huntington Park\, CA\, 90255\, United States
END:VEVENT
BEGIN:VEVENT
DTSTART;TZID=America/Los_Angeles:20240229T143000
DTEND;TZID=America/Los_Angeles:20240229T163000
DTSTAMP:20260421T010708
CREATED:20240118T180619Z
LAST-MODIFIED:20240118T180619Z
UID:10002398-1709217000-1709224200@esrbc.org
SUMMARY:B.E.A.S.T Class (Freedom Park)
DESCRIPTION:
URL:https://esrbc.org/event/b-e-a-s-t-class-freedom-park/2024-02-29/
LOCATION:Freedom Park\, 3801 E. 61st St.\, Huntington Park\, CA\, 90255\, United States
END:VEVENT
BEGIN:VEVENT
DTSTART;TZID=America/Los_Angeles:20240228T153000
DTEND;TZID=America/Los_Angeles:20240228T170000
DTSTAMP:20260421T010708
CREATED:20240116T172403Z
LAST-MODIFIED:20240317T221429Z
UID:10001815-1709134200-1709139600@esrbc.org
SUMMARY:HP - After School Activities
DESCRIPTION:
URL:https://esrbc.org/event/hp-after-school-activities/2024-02-28/
LOCATION:ESRBC H.P. Office\, 6013 State Street\, Huntington Park\, CA\, 90255\, United States
END:VEVENT
BEGIN:VEVENT
DTSTART;TZID=America/Los_Angeles:20240227T143000
DTEND;TZID=America/Los_Angeles:20240227T163000
DTSTAMP:20260421T010708
CREATED:20240118T180619Z
LAST-MODIFIED:20240118T180619Z
UID:10002397-1709044200-1709051400@esrbc.org
SUMMARY:B.E.A.S.T Class (Freedom Park)
DESCRIPTION:
URL:https://esrbc.org/event/b-e-a-s-t-class-freedom-park/2024-02-27/
LOCATION:Freedom Park\, 3801 E. 61st St.\, Huntington Park\, CA\, 90255\, United States
END:VEVENT
BEGIN:VEVENT
DTSTART;TZID=America/Los_Angeles:20240222T143000
DTEND;TZID=America/Los_Angeles:20240222T163000
DTSTAMP:20260421T010708
CREATED:20240118T180619Z
LAST-MODIFIED:20240118T180619Z
UID:10002396-1708612200-1708619400@esrbc.org
SUMMARY:B.E.A.S.T Class (Freedom Park)
DESCRIPTION:
URL:https://esrbc.org/event/b-e-a-s-t-class-freedom-park/2024-02-22/
LOCATION:Freedom Park\, 3801 E. 61st St.\, Huntington Park\, CA\, 90255\, United States
END:VEVENT
BEGIN:VEVENT
DTSTART;TZID=America/Los_Angeles:20240221T153000
DTEND;TZID=America/Los_Angeles:20240221T170000
DTSTAMP:20260421T010708
CREATED:20240116T172403Z
LAST-MODIFIED:20240317T221429Z
UID:10001814-1708529400-1708534800@esrbc.org
SUMMARY:HP - After School Activities
DESCRIPTION:
URL:https://esrbc.org/event/hp-after-school-activities/2024-02-21/
LOCATION:ESRBC H.P. Office\, 6013 State Street\, Huntington Park\, CA\, 90255\, United States
END:VEVENT
BEGIN:VEVENT
DTSTART;TZID=America/Los_Angeles:20240220T143000
DTEND;TZID=America/Los_Angeles:20240220T163000
DTSTAMP:20260421T010708
CREATED:20240118T180619Z
LAST-MODIFIED:20240118T180619Z
UID:10002395-1708439400-1708446600@esrbc.org
SUMMARY:B.E.A.S.T Class (Freedom Park)
DESCRIPTION:
URL:https://esrbc.org/event/b-e-a-s-t-class-freedom-park/2024-02-20/
LOCATION:Freedom Park\, 3801 E. 61st St.\, Huntington Park\, CA\, 90255\, United States
END:VEVENT
BEGIN:VEVENT
DTSTART;TZID=America/Los_Angeles:20240217T090000
DTEND;TZID=America/Los_Angeles:20240217T120000
DTSTAMP:20260421T010708
CREATED:20240116T172724Z
LAST-MODIFIED:20260115T033553Z
UID:10002333-1708160400-1708171200@esrbc.org
SUMMARY:Family Bike Ride
DESCRIPTION:
URL:https://esrbc.org/event/family-bike-ride/2024-02-17/
LOCATION:CA
END:VEVENT
BEGIN:VEVENT
DTSTART;TZID=America/Los_Angeles:20240216T180000
DTEND;TZID=America/Los_Angeles:20240216T200000
DTSTAMP:20260421T010708
CREATED:20240116T171346Z
LAST-MODIFIED:20260115T033628Z
UID:10001749-1708106400-1708113600@esrbc.org
SUMMARY:Friday Night Bike Ride
DESCRIPTION:
URL:https://esrbc.org/event/friday-night-bike-ride/2024-02-16/
LOCATION:ESRBC H.P. Office\, 6013 State Street\, Huntington Park\, CA\, 90255\, United States
END:VEVENT
BEGIN:VEVENT
DTSTART;TZID=America/Los_Angeles:20240215T143000
DTEND;TZID=America/Los_Angeles:20240215T163000
DTSTAMP:20260421T010708
CREATED:20240118T180619Z
LAST-MODIFIED:20240118T180619Z
UID:10002394-1708007400-1708014600@esrbc.org
SUMMARY:B.E.A.S.T Class (Freedom Park)
DESCRIPTION:
URL:https://esrbc.org/event/b-e-a-s-t-class-freedom-park/2024-02-15/
LOCATION:Freedom Park\, 3801 E. 61st St.\, Huntington Park\, CA\, 90255\, United States
END:VEVENT
BEGIN:VEVENT
DTSTART;TZID=America/Los_Angeles:20240214T153000
DTEND;TZID=America/Los_Angeles:20240214T170000
DTSTAMP:20260421T010708
CREATED:20240116T172403Z
LAST-MODIFIED:20240317T221429Z
UID:10001813-1707924600-1707930000@esrbc.org
SUMMARY:HP - After School Activities
DESCRIPTION:
URL:https://esrbc.org/event/hp-after-school-activities/2024-02-14/
LOCATION:ESRBC H.P. Office\, 6013 State Street\, Huntington Park\, CA\, 90255\, United States
END:VEVENT
BEGIN:VEVENT
DTSTART;TZID=America/Los_Angeles:20240213T143000
DTEND;TZID=America/Los_Angeles:20240213T163000
DTSTAMP:20260421T010708
CREATED:20240118T180619Z
LAST-MODIFIED:20240118T180619Z
UID:10002393-1707834600-1707841800@esrbc.org
SUMMARY:B.E.A.S.T Class (Freedom Park)
DESCRIPTION:
URL:https://esrbc.org/event/b-e-a-s-t-class-freedom-park/2024-02-13/
LOCATION:Freedom Park\, 3801 E. 61st St.\, Huntington Park\, CA\, 90255\, United States
END:VEVENT
BEGIN:VEVENT
DTSTART;TZID=America/Los_Angeles:20240207T153000
DTEND;TZID=America/Los_Angeles:20240207T170000
DTSTAMP:20260421T010708
CREATED:20240116T172403Z
LAST-MODIFIED:20240317T221429Z
UID:10001812-1707319800-1707325200@esrbc.org
SUMMARY:HP - After School Activities
DESCRIPTION:
URL:https://esrbc.org/event/hp-after-school-activities/2024-02-07/
LOCATION:ESRBC H.P. Office\, 6013 State Street\, Huntington Park\, CA\, 90255\, United States
END:VEVENT
BEGIN:VEVENT
DTSTART;TZID=America/Los_Angeles:20240131T153000
DTEND;TZID=America/Los_Angeles:20240131T170000
DTSTAMP:20260421T010708
CREATED:20240116T172403Z
LAST-MODIFIED:20240317T221429Z
UID:10001811-1706715000-1706720400@esrbc.org
SUMMARY:HP - After School Activities
DESCRIPTION:
URL:https://esrbc.org/event/hp-after-school-activities/2024-01-31/
LOCATION:ESRBC H.P. Office\, 6013 State Street\, Huntington Park\, CA\, 90255\, United States
END:VEVENT
BEGIN:VEVENT
DTSTART;TZID=America/Los_Angeles:20240130T143000
DTEND;TZID=America/Los_Angeles:20240130T163000
DTSTAMP:20260421T010708
CREATED:20240116T171118Z
LAST-MODIFIED:20240118T180233Z
UID:10001642-1706625000-1706632200@esrbc.org
SUMMARY:B.E.A.S.T Class (Perez Park)
DESCRIPTION:Bicycle Education and Safety Training
URL:https://esrbc.org/event/b-e-a-s-t-class/2024-01-30/
LOCATION:Raul R. Perez Memorial Park\, 6208 Alameda St.\, Huntington Park\, CA\, 90255\, United States
END:VEVENT
BEGIN:VEVENT
DTSTART;TZID=America/Los_Angeles:20240125T143000
DTEND;TZID=America/Los_Angeles:20240125T163000
DTSTAMP:20260421T010708
CREATED:20240116T171118Z
LAST-MODIFIED:20240118T180233Z
UID:10001641-1706193000-1706200200@esrbc.org
SUMMARY:B.E.A.S.T Class (Perez Park)
DESCRIPTION:Bicycle Education and Safety Training
URL:https://esrbc.org/event/b-e-a-s-t-class/2024-01-25/
LOCATION:Raul R. Perez Memorial Park\, 6208 Alameda St.\, Huntington Park\, CA\, 90255\, United States
END:VEVENT
BEGIN:VEVENT
DTSTART;TZID=America/Los_Angeles:20240124T153000
DTEND;TZID=America/Los_Angeles:20240124T170000
DTSTAMP:20260421T010708
CREATED:20240116T172403Z
LAST-MODIFIED:20240317T221429Z
UID:10001810-1706110200-1706115600@esrbc.org
SUMMARY:HP - After School Activities
DESCRIPTION:
URL:https://esrbc.org/event/hp-after-school-activities/2024-01-24/
LOCATION:ESRBC H.P. Office\, 6013 State Street\, Huntington Park\, CA\, 90255\, United States
END:VEVENT
END:VCALENDAR