BEGIN:VCALENDAR
VERSION:2.0
PRODID:-//East Side Riders Bike Club - ECPv6.15.20//NONSGML v1.0//EN
CALSCALE:GREGORIAN
METHOD:PUBLISH
X-WR-CALNAME:East Side Riders Bike Club
X-ORIGINAL-URL:https://esrbc.org
X-WR-CALDESC:Events for East Side Riders Bike Club
REFRESH-INTERVAL;VALUE=DURATION:PT1H
X-Robots-Tag:noindex
X-PUBLISHED-TTL:PT1H
BEGIN:VTIMEZONE
TZID:America/Los_Angeles
BEGIN:DAYLIGHT
TZOFFSETFROM:-0800
TZOFFSETTO:-0700
TZNAME:PDT
DTSTART:20260308T100000
END:DAYLIGHT
BEGIN:STANDARD
TZOFFSETFROM:-0700
TZOFFSETTO:-0800
TZNAME:PST
DTSTART:20261101T090000
END:STANDARD
BEGIN:DAYLIGHT
TZOFFSETFROM:-0800
TZOFFSETTO:-0700
TZNAME:PDT
DTSTART:20270314T100000
END:DAYLIGHT
BEGIN:STANDARD
TZOFFSETFROM:-0700
TZOFFSETTO:-0800
TZNAME:PST
DTSTART:20271107T090000
END:STANDARD
BEGIN:DAYLIGHT
TZOFFSETFROM:-0800
TZOFFSETTO:-0700
TZNAME:PDT
DTSTART:20280312T100000
END:DAYLIGHT
BEGIN:STANDARD
TZOFFSETFROM:-0700
TZOFFSETTO:-0800
TZNAME:PST
DTSTART:20281105T090000
END:STANDARD
END:VTIMEZONE
BEGIN:VEVENT
DTSTART;TZID=America/Los_Angeles:20270930T150000
DTEND;TZID=America/Los_Angeles:20270930T180000
DTSTAMP:20260421T080511
CREATED:20260115T033402Z
LAST-MODIFIED:20260115T033402Z
UID:10005762-1822316400-1822327200@esrbc.org
SUMMARY:Huntington Park - After School Program (Thur.)
DESCRIPTION:
URL:https://esrbc.org/event/huntington-park-after-school-program-thur/2027-09-30/
LOCATION:ESRBC H.P. Office\, 6013 State Street\, Huntington Park\, CA\, 90255\, United States
END:VEVENT
BEGIN:VEVENT
DTSTART;TZID=America/Los_Angeles:20271001T180000
DTEND;TZID=America/Los_Angeles:20271001T200000
DTSTAMP:20260421T080511
CREATED:20260115T033649Z
LAST-MODIFIED:20260115T033649Z
UID:10006473-1822413600-1822420800@esrbc.org
SUMMARY:Friday Night Bike Ride
DESCRIPTION:
URL:https://esrbc.org/event/friday-night-bike-ride-2/2027-10-01/
LOCATION:ESRBC H.P. Office\, 6013 State Street\, Huntington Park\, CA\, 90255\, United States
END:VEVENT
BEGIN:VEVENT
DTSTART;TZID=America/Los_Angeles:20271005T110000
DTEND;TZID=America/Los_Angeles:20271005T120000
DTSTAMP:20260421T080511
CREATED:20260115T032221Z
LAST-MODIFIED:20260115T032628Z
UID:10004642-1822734000-1822737600@esrbc.org
SUMMARY:Watts - Food Distribution Every Tuesday
DESCRIPTION:
URL:https://esrbc.org/event/watts-food-distribution-every-tuesday/2027-10-05/
LOCATION:Watts Civic Center\, 1513\, Los Angeles\, CA\, 90002\, United States
END:VEVENT
BEGIN:VEVENT
DTSTART;TZID=America/Los_Angeles:20271005T140000
DTEND;TZID=America/Los_Angeles:20271005T180000
DTSTAMP:20260421T080511
CREATED:20260115T034104Z
LAST-MODIFIED:20260115T034140Z
UID:10007123-1822744800-1822759200@esrbc.org
SUMMARY:Huntington Park - After School Program (Tues.)
DESCRIPTION:
URL:https://esrbc.org/event/huntington-park-after-school-program-tues/2027-10-05/
LOCATION:ESRBC H.P. Office\, 6013 State Street\, Huntington Park\, CA\, 90255\, United States
END:VEVENT
BEGIN:VEVENT
DTSTART;TZID=America/Los_Angeles:20271006T150000
DTEND;TZID=America/Los_Angeles:20271006T180000
DTSTAMP:20260421T080511
CREATED:20260115T033113Z
LAST-MODIFIED:20260115T033311Z
UID:10003636-1822834800-1822845600@esrbc.org
SUMMARY:Huntington Park - After School Program (Wed.)
DESCRIPTION:
URL:https://esrbc.org/event/huntington-park-after-school-program-2-2/2027-10-06/
LOCATION:ESRBC H.P. Office\, 6013 State Street\, Huntington Park\, CA\, 90255\, United States
END:VEVENT
BEGIN:VEVENT
DTSTART;TZID=America/Los_Angeles:20271007T150000
DTEND;TZID=America/Los_Angeles:20271007T180000
DTSTAMP:20260421T080511
CREATED:20260115T033402Z
LAST-MODIFIED:20260115T033402Z
UID:10005763-1822921200-1822932000@esrbc.org
SUMMARY:Huntington Park - After School Program (Thur.)
DESCRIPTION:
URL:https://esrbc.org/event/huntington-park-after-school-program-thur/2027-10-07/
LOCATION:ESRBC H.P. Office\, 6013 State Street\, Huntington Park\, CA\, 90255\, United States
END:VEVENT
BEGIN:VEVENT
DTSTART;TZID=America/Los_Angeles:20271012T110000
DTEND;TZID=America/Los_Angeles:20271012T120000
DTSTAMP:20260421T080511
CREATED:20260115T032221Z
LAST-MODIFIED:20260115T032628Z
UID:10004643-1823338800-1823342400@esrbc.org
SUMMARY:Watts - Food Distribution Every Tuesday
DESCRIPTION:
URL:https://esrbc.org/event/watts-food-distribution-every-tuesday/2027-10-12/
LOCATION:Watts Civic Center\, 1513\, Los Angeles\, CA\, 90002\, United States
END:VEVENT
BEGIN:VEVENT
DTSTART;TZID=America/Los_Angeles:20271012T140000
DTEND;TZID=America/Los_Angeles:20271012T180000
DTSTAMP:20260421T080511
CREATED:20260115T034104Z
LAST-MODIFIED:20260115T034140Z
UID:10007124-1823349600-1823364000@esrbc.org
SUMMARY:Huntington Park - After School Program (Tues.)
DESCRIPTION:
URL:https://esrbc.org/event/huntington-park-after-school-program-tues/2027-10-12/
LOCATION:ESRBC H.P. Office\, 6013 State Street\, Huntington Park\, CA\, 90255\, United States
END:VEVENT
BEGIN:VEVENT
DTSTART;TZID=America/Los_Angeles:20271013T150000
DTEND;TZID=America/Los_Angeles:20271013T180000
DTSTAMP:20260421T080511
CREATED:20260115T033113Z
LAST-MODIFIED:20260115T033311Z
UID:10003639-1823439600-1823450400@esrbc.org
SUMMARY:Huntington Park - After School Program (Wed.)
DESCRIPTION:
URL:https://esrbc.org/event/huntington-park-after-school-program-2-2/2027-10-13/
LOCATION:ESRBC H.P. Office\, 6013 State Street\, Huntington Park\, CA\, 90255\, United States
END:VEVENT
BEGIN:VEVENT
DTSTART;TZID=America/Los_Angeles:20271014T150000
DTEND;TZID=America/Los_Angeles:20271014T180000
DTSTAMP:20260421T080511
CREATED:20260115T033402Z
LAST-MODIFIED:20260115T033402Z
UID:10005764-1823526000-1823536800@esrbc.org
SUMMARY:Huntington Park - After School Program (Thur.)
DESCRIPTION:
URL:https://esrbc.org/event/huntington-park-after-school-program-thur/2027-10-14/
LOCATION:ESRBC H.P. Office\, 6013 State Street\, Huntington Park\, CA\, 90255\, United States
END:VEVENT
BEGIN:VEVENT
DTSTART;TZID=America/Los_Angeles:20271019T110000
DTEND;TZID=America/Los_Angeles:20271019T120000
DTSTAMP:20260421T080511
CREATED:20260115T032221Z
LAST-MODIFIED:20260115T032628Z
UID:10004644-1823943600-1823947200@esrbc.org
SUMMARY:Watts - Food Distribution Every Tuesday
DESCRIPTION:
URL:https://esrbc.org/event/watts-food-distribution-every-tuesday/2027-10-19/
LOCATION:Watts Civic Center\, 1513\, Los Angeles\, CA\, 90002\, United States
END:VEVENT
BEGIN:VEVENT
DTSTART;TZID=America/Los_Angeles:20271019T140000
DTEND;TZID=America/Los_Angeles:20271019T180000
DTSTAMP:20260421T080511
CREATED:20260115T034104Z
LAST-MODIFIED:20260115T034140Z
UID:10007125-1823954400-1823968800@esrbc.org
SUMMARY:Huntington Park - After School Program (Tues.)
DESCRIPTION:
URL:https://esrbc.org/event/huntington-park-after-school-program-tues/2027-10-19/
LOCATION:ESRBC H.P. Office\, 6013 State Street\, Huntington Park\, CA\, 90255\, United States
END:VEVENT
BEGIN:VEVENT
DTSTART;TZID=America/Los_Angeles:20271020T150000
DTEND;TZID=America/Los_Angeles:20271020T180000
DTSTAMP:20260421T080511
CREATED:20260115T033113Z
LAST-MODIFIED:20260115T033311Z
UID:10003642-1824044400-1824055200@esrbc.org
SUMMARY:Huntington Park - After School Program (Wed.)
DESCRIPTION:
URL:https://esrbc.org/event/huntington-park-after-school-program-2-2/2027-10-20/
LOCATION:ESRBC H.P. Office\, 6013 State Street\, Huntington Park\, CA\, 90255\, United States
END:VEVENT
BEGIN:VEVENT
DTSTART;TZID=America/Los_Angeles:20271021T150000
DTEND;TZID=America/Los_Angeles:20271021T180000
DTSTAMP:20260421T080511
CREATED:20260115T033402Z
LAST-MODIFIED:20260115T033402Z
UID:10005765-1824130800-1824141600@esrbc.org
SUMMARY:Huntington Park - After School Program (Thur.)
DESCRIPTION:
URL:https://esrbc.org/event/huntington-park-after-school-program-thur/2027-10-21/
LOCATION:ESRBC H.P. Office\, 6013 State Street\, Huntington Park\, CA\, 90255\, United States
END:VEVENT
BEGIN:VEVENT
DTSTART;TZID=America/Los_Angeles:20271026T110000
DTEND;TZID=America/Los_Angeles:20271026T120000
DTSTAMP:20260421T080511
CREATED:20260115T032221Z
LAST-MODIFIED:20260115T032628Z
UID:10004645-1824548400-1824552000@esrbc.org
SUMMARY:Watts - Food Distribution Every Tuesday
DESCRIPTION:
URL:https://esrbc.org/event/watts-food-distribution-every-tuesday/2027-10-26/
LOCATION:Watts Civic Center\, 1513\, Los Angeles\, CA\, 90002\, United States
END:VEVENT
BEGIN:VEVENT
DTSTART;TZID=America/Los_Angeles:20271026T140000
DTEND;TZID=America/Los_Angeles:20271026T180000
DTSTAMP:20260421T080511
CREATED:20260115T034104Z
LAST-MODIFIED:20260115T034140Z
UID:10007126-1824559200-1824573600@esrbc.org
SUMMARY:Huntington Park - After School Program (Tues.)
DESCRIPTION:
URL:https://esrbc.org/event/huntington-park-after-school-program-tues/2027-10-26/
LOCATION:ESRBC H.P. Office\, 6013 State Street\, Huntington Park\, CA\, 90255\, United States
END:VEVENT
BEGIN:VEVENT
DTSTART;TZID=America/Los_Angeles:20271027T150000
DTEND;TZID=America/Los_Angeles:20271027T180000
DTSTAMP:20260421T080511
CREATED:20260115T033113Z
LAST-MODIFIED:20260115T033311Z
UID:10003645-1824649200-1824660000@esrbc.org
SUMMARY:Huntington Park - After School Program (Wed.)
DESCRIPTION:
URL:https://esrbc.org/event/huntington-park-after-school-program-2-2/2027-10-27/
LOCATION:ESRBC H.P. Office\, 6013 State Street\, Huntington Park\, CA\, 90255\, United States
END:VEVENT
BEGIN:VEVENT
DTSTART;TZID=America/Los_Angeles:20271028T150000
DTEND;TZID=America/Los_Angeles:20271028T180000
DTSTAMP:20260421T080511
CREATED:20260115T033402Z
LAST-MODIFIED:20260115T033402Z
UID:10005766-1824735600-1824746400@esrbc.org
SUMMARY:Huntington Park - After School Program (Thur.)
DESCRIPTION:
URL:https://esrbc.org/event/huntington-park-after-school-program-thur/2027-10-28/
LOCATION:ESRBC H.P. Office\, 6013 State Street\, Huntington Park\, CA\, 90255\, United States
END:VEVENT
BEGIN:VEVENT
DTSTART;TZID=America/Los_Angeles:20271102T110000
DTEND;TZID=America/Los_Angeles:20271102T120000
DTSTAMP:20260421T080511
CREATED:20260115T032221Z
LAST-MODIFIED:20260115T032628Z
UID:10004646-1825153200-1825156800@esrbc.org
SUMMARY:Watts - Food Distribution Every Tuesday
DESCRIPTION:
URL:https://esrbc.org/event/watts-food-distribution-every-tuesday/2027-11-02/
LOCATION:Watts Civic Center\, 1513\, Los Angeles\, CA\, 90002\, United States
END:VEVENT
BEGIN:VEVENT
DTSTART;TZID=America/Los_Angeles:20271102T140000
DTEND;TZID=America/Los_Angeles:20271102T180000
DTSTAMP:20260421T080511
CREATED:20260115T034104Z
LAST-MODIFIED:20260115T034140Z
UID:10007127-1825164000-1825178400@esrbc.org
SUMMARY:Huntington Park - After School Program (Tues.)
DESCRIPTION:
URL:https://esrbc.org/event/huntington-park-after-school-program-tues/2027-11-02/
LOCATION:ESRBC H.P. Office\, 6013 State Street\, Huntington Park\, CA\, 90255\, United States
END:VEVENT
BEGIN:VEVENT
DTSTART;TZID=America/Los_Angeles:20271103T150000
DTEND;TZID=America/Los_Angeles:20271103T180000
DTSTAMP:20260421T080511
CREATED:20260115T033113Z
LAST-MODIFIED:20260115T033311Z
UID:10003648-1825254000-1825264800@esrbc.org
SUMMARY:Huntington Park - After School Program (Wed.)
DESCRIPTION:
URL:https://esrbc.org/event/huntington-park-after-school-program-2-2/2027-11-03/
LOCATION:ESRBC H.P. Office\, 6013 State Street\, Huntington Park\, CA\, 90255\, United States
END:VEVENT
BEGIN:VEVENT
DTSTART;TZID=America/Los_Angeles:20271104T150000
DTEND;TZID=America/Los_Angeles:20271104T180000
DTSTAMP:20260421T080511
CREATED:20260115T033402Z
LAST-MODIFIED:20260115T033402Z
UID:10005767-1825340400-1825351200@esrbc.org
SUMMARY:Huntington Park - After School Program (Thur.)
DESCRIPTION:
URL:https://esrbc.org/event/huntington-park-after-school-program-thur/2027-11-04/
LOCATION:ESRBC H.P. Office\, 6013 State Street\, Huntington Park\, CA\, 90255\, United States
END:VEVENT
BEGIN:VEVENT
DTSTART;TZID=America/Los_Angeles:20271105T180000
DTEND;TZID=America/Los_Angeles:20271105T200000
DTSTAMP:20260421T080511
CREATED:20260115T033649Z
LAST-MODIFIED:20260115T033649Z
UID:10006474-1825437600-1825444800@esrbc.org
SUMMARY:Friday Night Bike Ride
DESCRIPTION:
URL:https://esrbc.org/event/friday-night-bike-ride-2/2027-11-05/
LOCATION:ESRBC H.P. Office\, 6013 State Street\, Huntington Park\, CA\, 90255\, United States
END:VEVENT
BEGIN:VEVENT
DTSTART;TZID=America/Los_Angeles:20271109T110000
DTEND;TZID=America/Los_Angeles:20271109T120000
DTSTAMP:20260421T080511
CREATED:20260115T032221Z
LAST-MODIFIED:20260115T032628Z
UID:10004647-1825758000-1825761600@esrbc.org
SUMMARY:Watts - Food Distribution Every Tuesday
DESCRIPTION:
URL:https://esrbc.org/event/watts-food-distribution-every-tuesday/2027-11-09/
LOCATION:Watts Civic Center\, 1513\, Los Angeles\, CA\, 90002\, United States
END:VEVENT
BEGIN:VEVENT
DTSTART;TZID=America/Los_Angeles:20271109T140000
DTEND;TZID=America/Los_Angeles:20271109T180000
DTSTAMP:20260421T080511
CREATED:20260115T034104Z
LAST-MODIFIED:20260115T034140Z
UID:10007128-1825768800-1825783200@esrbc.org
SUMMARY:Huntington Park - After School Program (Tues.)
DESCRIPTION:
URL:https://esrbc.org/event/huntington-park-after-school-program-tues/2027-11-09/
LOCATION:ESRBC H.P. Office\, 6013 State Street\, Huntington Park\, CA\, 90255\, United States
END:VEVENT
BEGIN:VEVENT
DTSTART;TZID=America/Los_Angeles:20271110T150000
DTEND;TZID=America/Los_Angeles:20271110T180000
DTSTAMP:20260421T080511
CREATED:20260115T033113Z
LAST-MODIFIED:20260115T033311Z
UID:10003651-1825858800-1825869600@esrbc.org
SUMMARY:Huntington Park - After School Program (Wed.)
DESCRIPTION:
URL:https://esrbc.org/event/huntington-park-after-school-program-2-2/2027-11-10/
LOCATION:ESRBC H.P. Office\, 6013 State Street\, Huntington Park\, CA\, 90255\, United States
END:VEVENT
BEGIN:VEVENT
DTSTART;TZID=America/Los_Angeles:20271111T150000
DTEND;TZID=America/Los_Angeles:20271111T180000
DTSTAMP:20260421T080511
CREATED:20260115T033402Z
LAST-MODIFIED:20260115T033402Z
UID:10005768-1825945200-1825956000@esrbc.org
SUMMARY:Huntington Park - After School Program (Thur.)
DESCRIPTION:
URL:https://esrbc.org/event/huntington-park-after-school-program-thur/2027-11-11/
LOCATION:ESRBC H.P. Office\, 6013 State Street\, Huntington Park\, CA\, 90255\, United States
END:VEVENT
BEGIN:VEVENT
DTSTART;TZID=America/Los_Angeles:20271116T110000
DTEND;TZID=America/Los_Angeles:20271116T120000
DTSTAMP:20260421T080511
CREATED:20260115T032221Z
LAST-MODIFIED:20260115T032628Z
UID:10004648-1826362800-1826366400@esrbc.org
SUMMARY:Watts - Food Distribution Every Tuesday
DESCRIPTION:
URL:https://esrbc.org/event/watts-food-distribution-every-tuesday/2027-11-16/
LOCATION:Watts Civic Center\, 1513\, Los Angeles\, CA\, 90002\, United States
END:VEVENT
BEGIN:VEVENT
DTSTART;TZID=America/Los_Angeles:20271116T140000
DTEND;TZID=America/Los_Angeles:20271116T180000
DTSTAMP:20260421T080511
CREATED:20260115T034104Z
LAST-MODIFIED:20260115T034140Z
UID:10007129-1826373600-1826388000@esrbc.org
SUMMARY:Huntington Park - After School Program (Tues.)
DESCRIPTION:
URL:https://esrbc.org/event/huntington-park-after-school-program-tues/2027-11-16/
LOCATION:ESRBC H.P. Office\, 6013 State Street\, Huntington Park\, CA\, 90255\, United States
END:VEVENT
BEGIN:VEVENT
DTSTART;TZID=America/Los_Angeles:20271117T150000
DTEND;TZID=America/Los_Angeles:20271117T180000
DTSTAMP:20260421T080511
CREATED:20260115T033113Z
LAST-MODIFIED:20260115T033311Z
UID:10003654-1826463600-1826474400@esrbc.org
SUMMARY:Huntington Park - After School Program (Wed.)
DESCRIPTION:
URL:https://esrbc.org/event/huntington-park-after-school-program-2-2/2027-11-17/
LOCATION:ESRBC H.P. Office\, 6013 State Street\, Huntington Park\, CA\, 90255\, United States
END:VEVENT
END:VCALENDAR