BEGIN:VCALENDAR
VERSION:2.0
PRODID:-//East Side Riders Bike Club - ECPv6.15.20//NONSGML v1.0//EN
CALSCALE:GREGORIAN
METHOD:PUBLISH
X-ORIGINAL-URL:https://esrbc.org
X-WR-CALDESC:Events for East Side Riders Bike Club
REFRESH-INTERVAL;VALUE=DURATION:PT1H
X-Robots-Tag:noindex
X-PUBLISHED-TTL:PT1H
BEGIN:VTIMEZONE
TZID:America/Los_Angeles
BEGIN:DAYLIGHT
TZOFFSETFROM:-0800
TZOFFSETTO:-0700
TZNAME:PDT
DTSTART:20260308T100000
END:DAYLIGHT
BEGIN:STANDARD
TZOFFSETFROM:-0700
TZOFFSETTO:-0800
TZNAME:PST
DTSTART:20261101T090000
END:STANDARD
BEGIN:DAYLIGHT
TZOFFSETFROM:-0800
TZOFFSETTO:-0700
TZNAME:PDT
DTSTART:20270314T100000
END:DAYLIGHT
BEGIN:STANDARD
TZOFFSETFROM:-0700
TZOFFSETTO:-0800
TZNAME:PST
DTSTART:20271107T090000
END:STANDARD
BEGIN:DAYLIGHT
TZOFFSETFROM:-0800
TZOFFSETTO:-0700
TZNAME:PDT
DTSTART:20280312T100000
END:DAYLIGHT
BEGIN:STANDARD
TZOFFSETFROM:-0700
TZOFFSETTO:-0800
TZNAME:PST
DTSTART:20281105T090000
END:STANDARD
BEGIN:DAYLIGHT
TZOFFSETFROM:-0800
TZOFFSETTO:-0700
TZNAME:PDT
DTSTART:20290311T100000
END:DAYLIGHT
BEGIN:STANDARD
TZOFFSETFROM:-0700
TZOFFSETTO:-0800
TZNAME:PST
DTSTART:20291104T090000
END:STANDARD
END:VTIMEZONE
BEGIN:VEVENT
DTSTART;TZID=America/Los_Angeles:20271130T140000
DTEND;TZID=America/Los_Angeles:20271130T180000
DTSTAMP:20260421T095456
CREATED:20260115T034104Z
LAST-MODIFIED:20260115T034140Z
UID:10007131-1827583200-1827597600@esrbc.org
SUMMARY:Huntington Park - After School Program (Tues.)
DESCRIPTION:
URL:https://esrbc.org/event/huntington-park-after-school-program-tues/2027-11-30/
LOCATION:ESRBC H.P. Office\, 6013 State Street\, Huntington Park\, CA\, 90255\, United States
END:VEVENT
BEGIN:VEVENT
DTSTART;TZID=America/Los_Angeles:20271201T150000
DTEND;TZID=America/Los_Angeles:20271201T180000
DTSTAMP:20260421T095456
CREATED:20260115T033113Z
LAST-MODIFIED:20260115T033311Z
UID:10003660-1827673200-1827684000@esrbc.org
SUMMARY:Huntington Park - After School Program (Wed.)
DESCRIPTION:
URL:https://esrbc.org/event/huntington-park-after-school-program-2-2/2027-12-01/
LOCATION:ESRBC H.P. Office\, 6013 State Street\, Huntington Park\, CA\, 90255\, United States
END:VEVENT
BEGIN:VEVENT
DTSTART;TZID=America/Los_Angeles:20271202T150000
DTEND;TZID=America/Los_Angeles:20271202T180000
DTSTAMP:20260421T095456
CREATED:20260115T033402Z
LAST-MODIFIED:20260115T033402Z
UID:10005771-1827759600-1827770400@esrbc.org
SUMMARY:Huntington Park - After School Program (Thur.)
DESCRIPTION:
URL:https://esrbc.org/event/huntington-park-after-school-program-thur/2027-12-02/
LOCATION:ESRBC H.P. Office\, 6013 State Street\, Huntington Park\, CA\, 90255\, United States
END:VEVENT
BEGIN:VEVENT
DTSTART;TZID=America/Los_Angeles:20271203T180000
DTEND;TZID=America/Los_Angeles:20271203T200000
DTSTAMP:20260421T095456
CREATED:20260115T033649Z
LAST-MODIFIED:20260115T033649Z
UID:10006475-1827856800-1827864000@esrbc.org
SUMMARY:Friday Night Bike Ride
DESCRIPTION:
URL:https://esrbc.org/event/friday-night-bike-ride-2/2027-12-03/
LOCATION:ESRBC H.P. Office\, 6013 State Street\, Huntington Park\, CA\, 90255\, United States
END:VEVENT
BEGIN:VEVENT
DTSTART;TZID=America/Los_Angeles:20271207T110000
DTEND;TZID=America/Los_Angeles:20271207T120000
DTSTAMP:20260421T095456
CREATED:20260115T032221Z
LAST-MODIFIED:20260115T032628Z
UID:10004651-1828177200-1828180800@esrbc.org
SUMMARY:Watts - Food Distribution Every Tuesday
DESCRIPTION:
URL:https://esrbc.org/event/watts-food-distribution-every-tuesday/2027-12-07/
LOCATION:Watts Civic Center\, 1513\, Los Angeles\, CA\, 90002\, United States
END:VEVENT
BEGIN:VEVENT
DTSTART;TZID=America/Los_Angeles:20271207T140000
DTEND;TZID=America/Los_Angeles:20271207T180000
DTSTAMP:20260421T095456
CREATED:20260115T034104Z
LAST-MODIFIED:20260115T034140Z
UID:10007132-1828188000-1828202400@esrbc.org
SUMMARY:Huntington Park - After School Program (Tues.)
DESCRIPTION:
URL:https://esrbc.org/event/huntington-park-after-school-program-tues/2027-12-07/
LOCATION:ESRBC H.P. Office\, 6013 State Street\, Huntington Park\, CA\, 90255\, United States
END:VEVENT
BEGIN:VEVENT
DTSTART;TZID=America/Los_Angeles:20271208T150000
DTEND;TZID=America/Los_Angeles:20271208T180000
DTSTAMP:20260421T095456
CREATED:20260115T033113Z
LAST-MODIFIED:20260115T033311Z
UID:10003663-1828278000-1828288800@esrbc.org
SUMMARY:Huntington Park - After School Program (Wed.)
DESCRIPTION:
URL:https://esrbc.org/event/huntington-park-after-school-program-2-2/2027-12-08/
LOCATION:ESRBC H.P. Office\, 6013 State Street\, Huntington Park\, CA\, 90255\, United States
END:VEVENT
BEGIN:VEVENT
DTSTART;TZID=America/Los_Angeles:20271209T150000
DTEND;TZID=America/Los_Angeles:20271209T180000
DTSTAMP:20260421T095456
CREATED:20260115T033402Z
LAST-MODIFIED:20260115T033402Z
UID:10005772-1828364400-1828375200@esrbc.org
SUMMARY:Huntington Park - After School Program (Thur.)
DESCRIPTION:
URL:https://esrbc.org/event/huntington-park-after-school-program-thur/2027-12-09/
LOCATION:ESRBC H.P. Office\, 6013 State Street\, Huntington Park\, CA\, 90255\, United States
END:VEVENT
BEGIN:VEVENT
DTSTART;TZID=America/Los_Angeles:20271214T110000
DTEND;TZID=America/Los_Angeles:20271214T120000
DTSTAMP:20260421T095456
CREATED:20260115T032221Z
LAST-MODIFIED:20260115T032628Z
UID:10004652-1828782000-1828785600@esrbc.org
SUMMARY:Watts - Food Distribution Every Tuesday
DESCRIPTION:
URL:https://esrbc.org/event/watts-food-distribution-every-tuesday/2027-12-14/
LOCATION:Watts Civic Center\, 1513\, Los Angeles\, CA\, 90002\, United States
END:VEVENT
BEGIN:VEVENT
DTSTART;TZID=America/Los_Angeles:20271214T140000
DTEND;TZID=America/Los_Angeles:20271214T180000
DTSTAMP:20260421T095456
CREATED:20260115T034104Z
LAST-MODIFIED:20260115T034140Z
UID:10007133-1828792800-1828807200@esrbc.org
SUMMARY:Huntington Park - After School Program (Tues.)
DESCRIPTION:
URL:https://esrbc.org/event/huntington-park-after-school-program-tues/2027-12-14/
LOCATION:ESRBC H.P. Office\, 6013 State Street\, Huntington Park\, CA\, 90255\, United States
END:VEVENT
BEGIN:VEVENT
DTSTART;TZID=America/Los_Angeles:20271215T150000
DTEND;TZID=America/Los_Angeles:20271215T180000
DTSTAMP:20260421T095456
CREATED:20260115T033113Z
LAST-MODIFIED:20260115T033311Z
UID:10003666-1828882800-1828893600@esrbc.org
SUMMARY:Huntington Park - After School Program (Wed.)
DESCRIPTION:
URL:https://esrbc.org/event/huntington-park-after-school-program-2-2/2027-12-15/
LOCATION:ESRBC H.P. Office\, 6013 State Street\, Huntington Park\, CA\, 90255\, United States
END:VEVENT
BEGIN:VEVENT
DTSTART;TZID=America/Los_Angeles:20271216T150000
DTEND;TZID=America/Los_Angeles:20271216T180000
DTSTAMP:20260421T095456
CREATED:20260115T033402Z
LAST-MODIFIED:20260115T033402Z
UID:10005773-1828969200-1828980000@esrbc.org
SUMMARY:Huntington Park - After School Program (Thur.)
DESCRIPTION:
URL:https://esrbc.org/event/huntington-park-after-school-program-thur/2027-12-16/
LOCATION:ESRBC H.P. Office\, 6013 State Street\, Huntington Park\, CA\, 90255\, United States
END:VEVENT
BEGIN:VEVENT
DTSTART;TZID=America/Los_Angeles:20271221T110000
DTEND;TZID=America/Los_Angeles:20271221T120000
DTSTAMP:20260421T095456
CREATED:20260115T032221Z
LAST-MODIFIED:20260115T032628Z
UID:10004653-1829386800-1829390400@esrbc.org
SUMMARY:Watts - Food Distribution Every Tuesday
DESCRIPTION:
URL:https://esrbc.org/event/watts-food-distribution-every-tuesday/2027-12-21/
LOCATION:Watts Civic Center\, 1513\, Los Angeles\, CA\, 90002\, United States
END:VEVENT
BEGIN:VEVENT
DTSTART;TZID=America/Los_Angeles:20271221T140000
DTEND;TZID=America/Los_Angeles:20271221T180000
DTSTAMP:20260421T095456
CREATED:20260115T034104Z
LAST-MODIFIED:20260115T034140Z
UID:10007134-1829397600-1829412000@esrbc.org
SUMMARY:Huntington Park - After School Program (Tues.)
DESCRIPTION:
URL:https://esrbc.org/event/huntington-park-after-school-program-tues/2027-12-21/
LOCATION:ESRBC H.P. Office\, 6013 State Street\, Huntington Park\, CA\, 90255\, United States
END:VEVENT
BEGIN:VEVENT
DTSTART;TZID=America/Los_Angeles:20271222T150000
DTEND;TZID=America/Los_Angeles:20271222T180000
DTSTAMP:20260421T095456
CREATED:20260115T033113Z
LAST-MODIFIED:20260115T033311Z
UID:10003669-1829487600-1829498400@esrbc.org
SUMMARY:Huntington Park - After School Program (Wed.)
DESCRIPTION:
URL:https://esrbc.org/event/huntington-park-after-school-program-2-2/2027-12-22/
LOCATION:ESRBC H.P. Office\, 6013 State Street\, Huntington Park\, CA\, 90255\, United States
END:VEVENT
BEGIN:VEVENT
DTSTART;TZID=America/Los_Angeles:20271223T150000
DTEND;TZID=America/Los_Angeles:20271223T180000
DTSTAMP:20260421T095456
CREATED:20260115T033402Z
LAST-MODIFIED:20260115T033402Z
UID:10005774-1829574000-1829584800@esrbc.org
SUMMARY:Huntington Park - After School Program (Thur.)
DESCRIPTION:
URL:https://esrbc.org/event/huntington-park-after-school-program-thur/2027-12-23/
LOCATION:ESRBC H.P. Office\, 6013 State Street\, Huntington Park\, CA\, 90255\, United States
END:VEVENT
BEGIN:VEVENT
DTSTART;TZID=America/Los_Angeles:20271228T110000
DTEND;TZID=America/Los_Angeles:20271228T120000
DTSTAMP:20260421T095456
CREATED:20260115T032221Z
LAST-MODIFIED:20260115T032628Z
UID:10004654-1829991600-1829995200@esrbc.org
SUMMARY:Watts - Food Distribution Every Tuesday
DESCRIPTION:
URL:https://esrbc.org/event/watts-food-distribution-every-tuesday/2027-12-28/
LOCATION:Watts Civic Center\, 1513\, Los Angeles\, CA\, 90002\, United States
END:VEVENT
BEGIN:VEVENT
DTSTART;TZID=America/Los_Angeles:20271228T140000
DTEND;TZID=America/Los_Angeles:20271228T180000
DTSTAMP:20260421T095456
CREATED:20260115T034104Z
LAST-MODIFIED:20260115T034140Z
UID:10007135-1830002400-1830016800@esrbc.org
SUMMARY:Huntington Park - After School Program (Tues.)
DESCRIPTION:
URL:https://esrbc.org/event/huntington-park-after-school-program-tues/2027-12-28/
LOCATION:ESRBC H.P. Office\, 6013 State Street\, Huntington Park\, CA\, 90255\, United States
END:VEVENT
BEGIN:VEVENT
DTSTART;TZID=America/Los_Angeles:20271229T150000
DTEND;TZID=America/Los_Angeles:20271229T180000
DTSTAMP:20260421T095456
CREATED:20260115T033113Z
LAST-MODIFIED:20260115T033311Z
UID:10003672-1830092400-1830103200@esrbc.org
SUMMARY:Huntington Park - After School Program (Wed.)
DESCRIPTION:
URL:https://esrbc.org/event/huntington-park-after-school-program-2-2/2027-12-29/
LOCATION:ESRBC H.P. Office\, 6013 State Street\, Huntington Park\, CA\, 90255\, United States
END:VEVENT
BEGIN:VEVENT
DTSTART;TZID=America/Los_Angeles:20271230T150000
DTEND;TZID=America/Los_Angeles:20271230T180000
DTSTAMP:20260421T095456
CREATED:20260115T033402Z
LAST-MODIFIED:20260115T033402Z
UID:10005775-1830178800-1830189600@esrbc.org
SUMMARY:Huntington Park - After School Program (Thur.)
DESCRIPTION:
URL:https://esrbc.org/event/huntington-park-after-school-program-thur/2027-12-30/
LOCATION:ESRBC H.P. Office\, 6013 State Street\, Huntington Park\, CA\, 90255\, United States
END:VEVENT
BEGIN:VEVENT
DTSTART;TZID=America/Los_Angeles:20280104T110000
DTEND;TZID=America/Los_Angeles:20280104T120000
DTSTAMP:20260421T095456
CREATED:20260115T032221Z
LAST-MODIFIED:20260115T032628Z
UID:10004655-1830596400-1830600000@esrbc.org
SUMMARY:Watts - Food Distribution Every Tuesday
DESCRIPTION:
URL:https://esrbc.org/event/watts-food-distribution-every-tuesday/2028-01-04/
LOCATION:Watts Civic Center\, 1513\, Los Angeles\, CA\, 90002\, United States
END:VEVENT
BEGIN:VEVENT
DTSTART;TZID=America/Los_Angeles:20280104T140000
DTEND;TZID=America/Los_Angeles:20280104T180000
DTSTAMP:20260421T095456
CREATED:20260115T034104Z
LAST-MODIFIED:20260115T034140Z
UID:10007136-1830607200-1830621600@esrbc.org
SUMMARY:Huntington Park - After School Program (Tues.)
DESCRIPTION:
URL:https://esrbc.org/event/huntington-park-after-school-program-tues/2028-01-04/
LOCATION:ESRBC H.P. Office\, 6013 State Street\, Huntington Park\, CA\, 90255\, United States
END:VEVENT
BEGIN:VEVENT
DTSTART;TZID=America/Los_Angeles:20280105T150000
DTEND;TZID=America/Los_Angeles:20280105T180000
DTSTAMP:20260421T095456
CREATED:20260115T033113Z
LAST-MODIFIED:20260115T033311Z
UID:10003675-1830697200-1830708000@esrbc.org
SUMMARY:Huntington Park - After School Program (Wed.)
DESCRIPTION:
URL:https://esrbc.org/event/huntington-park-after-school-program-2-2/2028-01-05/
LOCATION:ESRBC H.P. Office\, 6013 State Street\, Huntington Park\, CA\, 90255\, United States
END:VEVENT
BEGIN:VEVENT
DTSTART;TZID=America/Los_Angeles:20280106T150000
DTEND;TZID=America/Los_Angeles:20280106T180000
DTSTAMP:20260421T095456
CREATED:20260115T033402Z
LAST-MODIFIED:20260115T033402Z
UID:10005776-1830783600-1830794400@esrbc.org
SUMMARY:Huntington Park - After School Program (Thur.)
DESCRIPTION:
URL:https://esrbc.org/event/huntington-park-after-school-program-thur/2028-01-06/
LOCATION:ESRBC H.P. Office\, 6013 State Street\, Huntington Park\, CA\, 90255\, United States
END:VEVENT
BEGIN:VEVENT
DTSTART;TZID=America/Los_Angeles:20280107T180000
DTEND;TZID=America/Los_Angeles:20280107T200000
DTSTAMP:20260421T095456
CREATED:20260115T033649Z
LAST-MODIFIED:20260115T033649Z
UID:10006476-1830880800-1830888000@esrbc.org
SUMMARY:Friday Night Bike Ride
DESCRIPTION:
URL:https://esrbc.org/event/friday-night-bike-ride-2/2028-01-07/
LOCATION:ESRBC H.P. Office\, 6013 State Street\, Huntington Park\, CA\, 90255\, United States
END:VEVENT
BEGIN:VEVENT
DTSTART;TZID=America/Los_Angeles:20280111T110000
DTEND;TZID=America/Los_Angeles:20280111T120000
DTSTAMP:20260421T095456
CREATED:20260115T032221Z
LAST-MODIFIED:20260115T032628Z
UID:10004656-1831201200-1831204800@esrbc.org
SUMMARY:Watts - Food Distribution Every Tuesday
DESCRIPTION:
URL:https://esrbc.org/event/watts-food-distribution-every-tuesday/2028-01-11/
LOCATION:Watts Civic Center\, 1513\, Los Angeles\, CA\, 90002\, United States
END:VEVENT
BEGIN:VEVENT
DTSTART;TZID=America/Los_Angeles:20280111T140000
DTEND;TZID=America/Los_Angeles:20280111T180000
DTSTAMP:20260421T095456
CREATED:20260115T034104Z
LAST-MODIFIED:20260115T034140Z
UID:10007137-1831212000-1831226400@esrbc.org
SUMMARY:Huntington Park - After School Program (Tues.)
DESCRIPTION:
URL:https://esrbc.org/event/huntington-park-after-school-program-tues/2028-01-11/
LOCATION:ESRBC H.P. Office\, 6013 State Street\, Huntington Park\, CA\, 90255\, United States
END:VEVENT
BEGIN:VEVENT
DTSTART;TZID=America/Los_Angeles:20280112T150000
DTEND;TZID=America/Los_Angeles:20280112T180000
DTSTAMP:20260421T095456
CREATED:20260115T033113Z
LAST-MODIFIED:20260115T033311Z
UID:10003678-1831302000-1831312800@esrbc.org
SUMMARY:Huntington Park - After School Program (Wed.)
DESCRIPTION:
URL:https://esrbc.org/event/huntington-park-after-school-program-2-2/2028-01-12/
LOCATION:ESRBC H.P. Office\, 6013 State Street\, Huntington Park\, CA\, 90255\, United States
END:VEVENT
BEGIN:VEVENT
DTSTART;TZID=America/Los_Angeles:20280113T150000
DTEND;TZID=America/Los_Angeles:20280113T180000
DTSTAMP:20260421T095456
CREATED:20260115T033402Z
LAST-MODIFIED:20260115T033402Z
UID:10005777-1831388400-1831399200@esrbc.org
SUMMARY:Huntington Park - After School Program (Thur.)
DESCRIPTION:
URL:https://esrbc.org/event/huntington-park-after-school-program-thur/2028-01-13/
LOCATION:ESRBC H.P. Office\, 6013 State Street\, Huntington Park\, CA\, 90255\, United States
END:VEVENT
BEGIN:VEVENT
DTSTART;TZID=America/Los_Angeles:20280118T110000
DTEND;TZID=America/Los_Angeles:20280118T120000
DTSTAMP:20260421T095456
CREATED:20260115T032221Z
LAST-MODIFIED:20260115T032628Z
UID:10004657-1831806000-1831809600@esrbc.org
SUMMARY:Watts - Food Distribution Every Tuesday
DESCRIPTION:
URL:https://esrbc.org/event/watts-food-distribution-every-tuesday/2028-01-18/
LOCATION:Watts Civic Center\, 1513\, Los Angeles\, CA\, 90002\, United States
END:VEVENT
END:VCALENDAR