BEGIN:VCALENDAR
VERSION:2.0
PRODID:-//East Side Riders Bike Club - ECPv6.15.20//NONSGML v1.0//EN
CALSCALE:GREGORIAN
METHOD:PUBLISH
X-ORIGINAL-URL:https://esrbc.org
X-WR-CALDESC:Events for East Side Riders Bike Club
REFRESH-INTERVAL;VALUE=DURATION:PT1H
X-Robots-Tag:noindex
X-PUBLISHED-TTL:PT1H
BEGIN:VTIMEZONE
TZID:America/Los_Angeles
BEGIN:DAYLIGHT
TZOFFSETFROM:-0800
TZOFFSETTO:-0700
TZNAME:PDT
DTSTART:20270314T100000
END:DAYLIGHT
BEGIN:STANDARD
TZOFFSETFROM:-0700
TZOFFSETTO:-0800
TZNAME:PST
DTSTART:20271107T090000
END:STANDARD
BEGIN:DAYLIGHT
TZOFFSETFROM:-0800
TZOFFSETTO:-0700
TZNAME:PDT
DTSTART:20280312T100000
END:DAYLIGHT
BEGIN:STANDARD
TZOFFSETFROM:-0700
TZOFFSETTO:-0800
TZNAME:PST
DTSTART:20281105T090000
END:STANDARD
BEGIN:DAYLIGHT
TZOFFSETFROM:-0800
TZOFFSETTO:-0700
TZNAME:PDT
DTSTART:20290311T100000
END:DAYLIGHT
BEGIN:STANDARD
TZOFFSETFROM:-0700
TZOFFSETTO:-0800
TZNAME:PST
DTSTART:20291104T090000
END:STANDARD
END:VTIMEZONE
BEGIN:VEVENT
DTSTART;TZID=America/Los_Angeles:20280222T110000
DTEND;TZID=America/Los_Angeles:20280222T120000
DTSTAMP:20260421T123300
CREATED:20260115T032221Z
LAST-MODIFIED:20260115T032628Z
UID:10004662-1834830000-1834833600@esrbc.org
SUMMARY:Watts - Food Distribution Every Tuesday
DESCRIPTION:
URL:https://esrbc.org/event/watts-food-distribution-every-tuesday/2028-02-22/
LOCATION:Watts Civic Center\, 1513\, Los Angeles\, CA\, 90002\, United States
END:VEVENT
BEGIN:VEVENT
DTSTART;TZID=America/Los_Angeles:20280222T140000
DTEND;TZID=America/Los_Angeles:20280222T180000
DTSTAMP:20260421T123300
CREATED:20260115T034104Z
LAST-MODIFIED:20260115T034140Z
UID:10007143-1834840800-1834855200@esrbc.org
SUMMARY:Huntington Park - After School Program (Tues.)
DESCRIPTION:
URL:https://esrbc.org/event/huntington-park-after-school-program-tues/2028-02-22/
LOCATION:ESRBC H.P. Office\, 6013 State Street\, Huntington Park\, CA\, 90255\, United States
END:VEVENT
BEGIN:VEVENT
DTSTART;TZID=America/Los_Angeles:20280223T150000
DTEND;TZID=America/Los_Angeles:20280223T180000
DTSTAMP:20260421T123300
CREATED:20260115T033113Z
LAST-MODIFIED:20260115T033311Z
UID:10003696-1834930800-1834941600@esrbc.org
SUMMARY:Huntington Park - After School Program (Wed.)
DESCRIPTION:
URL:https://esrbc.org/event/huntington-park-after-school-program-2-2/2028-02-23/
LOCATION:ESRBC H.P. Office\, 6013 State Street\, Huntington Park\, CA\, 90255\, United States
END:VEVENT
BEGIN:VEVENT
DTSTART;TZID=America/Los_Angeles:20280224T150000
DTEND;TZID=America/Los_Angeles:20280224T180000
DTSTAMP:20260421T123300
CREATED:20260115T033402Z
LAST-MODIFIED:20260115T033402Z
UID:10005783-1835017200-1835028000@esrbc.org
SUMMARY:Huntington Park - After School Program (Thur.)
DESCRIPTION:
URL:https://esrbc.org/event/huntington-park-after-school-program-thur/2028-02-24/
LOCATION:ESRBC H.P. Office\, 6013 State Street\, Huntington Park\, CA\, 90255\, United States
END:VEVENT
BEGIN:VEVENT
DTSTART;TZID=America/Los_Angeles:20280229T110000
DTEND;TZID=America/Los_Angeles:20280229T120000
DTSTAMP:20260421T123300
CREATED:20260115T032221Z
LAST-MODIFIED:20260115T032628Z
UID:10004663-1835434800-1835438400@esrbc.org
SUMMARY:Watts - Food Distribution Every Tuesday
DESCRIPTION:
URL:https://esrbc.org/event/watts-food-distribution-every-tuesday/2028-02-29/
LOCATION:Watts Civic Center\, 1513\, Los Angeles\, CA\, 90002\, United States
END:VEVENT
BEGIN:VEVENT
DTSTART;TZID=America/Los_Angeles:20280229T140000
DTEND;TZID=America/Los_Angeles:20280229T180000
DTSTAMP:20260421T123300
CREATED:20260115T034104Z
LAST-MODIFIED:20260115T034140Z
UID:10007144-1835445600-1835460000@esrbc.org
SUMMARY:Huntington Park - After School Program (Tues.)
DESCRIPTION:
URL:https://esrbc.org/event/huntington-park-after-school-program-tues/2028-02-29/
LOCATION:ESRBC H.P. Office\, 6013 State Street\, Huntington Park\, CA\, 90255\, United States
END:VEVENT
BEGIN:VEVENT
DTSTART;TZID=America/Los_Angeles:20280301T150000
DTEND;TZID=America/Los_Angeles:20280301T180000
DTSTAMP:20260421T123300
CREATED:20260115T033113Z
LAST-MODIFIED:20260115T033311Z
UID:10003699-1835535600-1835546400@esrbc.org
SUMMARY:Huntington Park - After School Program (Wed.)
DESCRIPTION:
URL:https://esrbc.org/event/huntington-park-after-school-program-2-2/2028-03-01/
LOCATION:ESRBC H.P. Office\, 6013 State Street\, Huntington Park\, CA\, 90255\, United States
END:VEVENT
BEGIN:VEVENT
DTSTART;TZID=America/Los_Angeles:20280302T150000
DTEND;TZID=America/Los_Angeles:20280302T180000
DTSTAMP:20260421T123300
CREATED:20260115T033402Z
LAST-MODIFIED:20260115T033402Z
UID:10005784-1835622000-1835632800@esrbc.org
SUMMARY:Huntington Park - After School Program (Thur.)
DESCRIPTION:
URL:https://esrbc.org/event/huntington-park-after-school-program-thur/2028-03-02/
LOCATION:ESRBC H.P. Office\, 6013 State Street\, Huntington Park\, CA\, 90255\, United States
END:VEVENT
BEGIN:VEVENT
DTSTART;TZID=America/Los_Angeles:20280303T180000
DTEND;TZID=America/Los_Angeles:20280303T200000
DTSTAMP:20260421T123300
CREATED:20260115T033649Z
LAST-MODIFIED:20260115T033649Z
UID:10006478-1835719200-1835726400@esrbc.org
SUMMARY:Friday Night Bike Ride
DESCRIPTION:
URL:https://esrbc.org/event/friday-night-bike-ride-2/2028-03-03/
LOCATION:ESRBC H.P. Office\, 6013 State Street\, Huntington Park\, CA\, 90255\, United States
END:VEVENT
BEGIN:VEVENT
DTSTART;TZID=America/Los_Angeles:20280307T110000
DTEND;TZID=America/Los_Angeles:20280307T120000
DTSTAMP:20260421T123300
CREATED:20260115T032221Z
LAST-MODIFIED:20260115T032628Z
UID:10004664-1836039600-1836043200@esrbc.org
SUMMARY:Watts - Food Distribution Every Tuesday
DESCRIPTION:
URL:https://esrbc.org/event/watts-food-distribution-every-tuesday/2028-03-07/
LOCATION:Watts Civic Center\, 1513\, Los Angeles\, CA\, 90002\, United States
END:VEVENT
BEGIN:VEVENT
DTSTART;TZID=America/Los_Angeles:20280307T140000
DTEND;TZID=America/Los_Angeles:20280307T180000
DTSTAMP:20260421T123300
CREATED:20260115T034104Z
LAST-MODIFIED:20260115T034140Z
UID:10007145-1836050400-1836064800@esrbc.org
SUMMARY:Huntington Park - After School Program (Tues.)
DESCRIPTION:
URL:https://esrbc.org/event/huntington-park-after-school-program-tues/2028-03-07/
LOCATION:ESRBC H.P. Office\, 6013 State Street\, Huntington Park\, CA\, 90255\, United States
END:VEVENT
BEGIN:VEVENT
DTSTART;TZID=America/Los_Angeles:20280308T150000
DTEND;TZID=America/Los_Angeles:20280308T180000
DTSTAMP:20260421T123300
CREATED:20260115T033113Z
LAST-MODIFIED:20260115T033311Z
UID:10003702-1836140400-1836151200@esrbc.org
SUMMARY:Huntington Park - After School Program (Wed.)
DESCRIPTION:
URL:https://esrbc.org/event/huntington-park-after-school-program-2-2/2028-03-08/
LOCATION:ESRBC H.P. Office\, 6013 State Street\, Huntington Park\, CA\, 90255\, United States
END:VEVENT
BEGIN:VEVENT
DTSTART;TZID=America/Los_Angeles:20280309T150000
DTEND;TZID=America/Los_Angeles:20280309T180000
DTSTAMP:20260421T123300
CREATED:20260115T033402Z
LAST-MODIFIED:20260115T033402Z
UID:10005785-1836226800-1836237600@esrbc.org
SUMMARY:Huntington Park - After School Program (Thur.)
DESCRIPTION:
URL:https://esrbc.org/event/huntington-park-after-school-program-thur/2028-03-09/
LOCATION:ESRBC H.P. Office\, 6013 State Street\, Huntington Park\, CA\, 90255\, United States
END:VEVENT
BEGIN:VEVENT
DTSTART;TZID=America/Los_Angeles:20280314T110000
DTEND;TZID=America/Los_Angeles:20280314T120000
DTSTAMP:20260421T123300
CREATED:20260115T032221Z
LAST-MODIFIED:20260115T032628Z
UID:10004665-1836644400-1836648000@esrbc.org
SUMMARY:Watts - Food Distribution Every Tuesday
DESCRIPTION:
URL:https://esrbc.org/event/watts-food-distribution-every-tuesday/2028-03-14/
LOCATION:Watts Civic Center\, 1513\, Los Angeles\, CA\, 90002\, United States
END:VEVENT
BEGIN:VEVENT
DTSTART;TZID=America/Los_Angeles:20280314T140000
DTEND;TZID=America/Los_Angeles:20280314T180000
DTSTAMP:20260421T123300
CREATED:20260115T034104Z
LAST-MODIFIED:20260115T034140Z
UID:10007146-1836655200-1836669600@esrbc.org
SUMMARY:Huntington Park - After School Program (Tues.)
DESCRIPTION:
URL:https://esrbc.org/event/huntington-park-after-school-program-tues/2028-03-14/
LOCATION:ESRBC H.P. Office\, 6013 State Street\, Huntington Park\, CA\, 90255\, United States
END:VEVENT
BEGIN:VEVENT
DTSTART;TZID=America/Los_Angeles:20280315T150000
DTEND;TZID=America/Los_Angeles:20280315T180000
DTSTAMP:20260421T123300
CREATED:20260115T033113Z
LAST-MODIFIED:20260115T033311Z
UID:10003705-1836745200-1836756000@esrbc.org
SUMMARY:Huntington Park - After School Program (Wed.)
DESCRIPTION:
URL:https://esrbc.org/event/huntington-park-after-school-program-2-2/2028-03-15/
LOCATION:ESRBC H.P. Office\, 6013 State Street\, Huntington Park\, CA\, 90255\, United States
END:VEVENT
BEGIN:VEVENT
DTSTART;TZID=America/Los_Angeles:20280316T150000
DTEND;TZID=America/Los_Angeles:20280316T180000
DTSTAMP:20260421T123300
CREATED:20260115T033402Z
LAST-MODIFIED:20260115T033402Z
UID:10005786-1836831600-1836842400@esrbc.org
SUMMARY:Huntington Park - After School Program (Thur.)
DESCRIPTION:
URL:https://esrbc.org/event/huntington-park-after-school-program-thur/2028-03-16/
LOCATION:ESRBC H.P. Office\, 6013 State Street\, Huntington Park\, CA\, 90255\, United States
END:VEVENT
BEGIN:VEVENT
DTSTART;TZID=America/Los_Angeles:20280321T110000
DTEND;TZID=America/Los_Angeles:20280321T120000
DTSTAMP:20260421T123300
CREATED:20260115T032221Z
LAST-MODIFIED:20260115T032628Z
UID:10004666-1837249200-1837252800@esrbc.org
SUMMARY:Watts - Food Distribution Every Tuesday
DESCRIPTION:
URL:https://esrbc.org/event/watts-food-distribution-every-tuesday/2028-03-21/
LOCATION:Watts Civic Center\, 1513\, Los Angeles\, CA\, 90002\, United States
END:VEVENT
BEGIN:VEVENT
DTSTART;TZID=America/Los_Angeles:20280321T140000
DTEND;TZID=America/Los_Angeles:20280321T180000
DTSTAMP:20260421T123300
CREATED:20260115T034104Z
LAST-MODIFIED:20260115T034140Z
UID:10007147-1837260000-1837274400@esrbc.org
SUMMARY:Huntington Park - After School Program (Tues.)
DESCRIPTION:
URL:https://esrbc.org/event/huntington-park-after-school-program-tues/2028-03-21/
LOCATION:ESRBC H.P. Office\, 6013 State Street\, Huntington Park\, CA\, 90255\, United States
END:VEVENT
BEGIN:VEVENT
DTSTART;TZID=America/Los_Angeles:20280322T150000
DTEND;TZID=America/Los_Angeles:20280322T180000
DTSTAMP:20260421T123300
CREATED:20260115T033113Z
LAST-MODIFIED:20260115T033311Z
UID:10003708-1837350000-1837360800@esrbc.org
SUMMARY:Huntington Park - After School Program (Wed.)
DESCRIPTION:
URL:https://esrbc.org/event/huntington-park-after-school-program-2-2/2028-03-22/
LOCATION:ESRBC H.P. Office\, 6013 State Street\, Huntington Park\, CA\, 90255\, United States
END:VEVENT
BEGIN:VEVENT
DTSTART;TZID=America/Los_Angeles:20280323T150000
DTEND;TZID=America/Los_Angeles:20280323T180000
DTSTAMP:20260421T123300
CREATED:20260115T033402Z
LAST-MODIFIED:20260115T033402Z
UID:10005787-1837436400-1837447200@esrbc.org
SUMMARY:Huntington Park - After School Program (Thur.)
DESCRIPTION:
URL:https://esrbc.org/event/huntington-park-after-school-program-thur/2028-03-23/
LOCATION:ESRBC H.P. Office\, 6013 State Street\, Huntington Park\, CA\, 90255\, United States
END:VEVENT
BEGIN:VEVENT
DTSTART;TZID=America/Los_Angeles:20280328T110000
DTEND;TZID=America/Los_Angeles:20280328T120000
DTSTAMP:20260421T123300
CREATED:20260115T032221Z
LAST-MODIFIED:20260115T032628Z
UID:10004667-1837854000-1837857600@esrbc.org
SUMMARY:Watts - Food Distribution Every Tuesday
DESCRIPTION:
URL:https://esrbc.org/event/watts-food-distribution-every-tuesday/2028-03-28/
LOCATION:Watts Civic Center\, 1513\, Los Angeles\, CA\, 90002\, United States
END:VEVENT
BEGIN:VEVENT
DTSTART;TZID=America/Los_Angeles:20280328T140000
DTEND;TZID=America/Los_Angeles:20280328T180000
DTSTAMP:20260421T123300
CREATED:20260115T034104Z
LAST-MODIFIED:20260115T034140Z
UID:10007148-1837864800-1837879200@esrbc.org
SUMMARY:Huntington Park - After School Program (Tues.)
DESCRIPTION:
URL:https://esrbc.org/event/huntington-park-after-school-program-tues/2028-03-28/
LOCATION:ESRBC H.P. Office\, 6013 State Street\, Huntington Park\, CA\, 90255\, United States
END:VEVENT
BEGIN:VEVENT
DTSTART;TZID=America/Los_Angeles:20280329T150000
DTEND;TZID=America/Los_Angeles:20280329T180000
DTSTAMP:20260421T123300
CREATED:20260115T033113Z
LAST-MODIFIED:20260115T033311Z
UID:10003711-1837954800-1837965600@esrbc.org
SUMMARY:Huntington Park - After School Program (Wed.)
DESCRIPTION:
URL:https://esrbc.org/event/huntington-park-after-school-program-2-2/2028-03-29/
LOCATION:ESRBC H.P. Office\, 6013 State Street\, Huntington Park\, CA\, 90255\, United States
END:VEVENT
BEGIN:VEVENT
DTSTART;TZID=America/Los_Angeles:20280330T150000
DTEND;TZID=America/Los_Angeles:20280330T180000
DTSTAMP:20260421T123300
CREATED:20260115T033402Z
LAST-MODIFIED:20260115T033402Z
UID:10005788-1838041200-1838052000@esrbc.org
SUMMARY:Huntington Park - After School Program (Thur.)
DESCRIPTION:
URL:https://esrbc.org/event/huntington-park-after-school-program-thur/2028-03-30/
LOCATION:ESRBC H.P. Office\, 6013 State Street\, Huntington Park\, CA\, 90255\, United States
END:VEVENT
BEGIN:VEVENT
DTSTART;TZID=America/Los_Angeles:20280404T110000
DTEND;TZID=America/Los_Angeles:20280404T120000
DTSTAMP:20260421T123300
CREATED:20260115T032221Z
LAST-MODIFIED:20260115T032628Z
UID:10004668-1838458800-1838462400@esrbc.org
SUMMARY:Watts - Food Distribution Every Tuesday
DESCRIPTION:
URL:https://esrbc.org/event/watts-food-distribution-every-tuesday/2028-04-04/
LOCATION:Watts Civic Center\, 1513\, Los Angeles\, CA\, 90002\, United States
END:VEVENT
BEGIN:VEVENT
DTSTART;TZID=America/Los_Angeles:20280404T140000
DTEND;TZID=America/Los_Angeles:20280404T180000
DTSTAMP:20260421T123300
CREATED:20260115T034104Z
LAST-MODIFIED:20260115T034140Z
UID:10007149-1838469600-1838484000@esrbc.org
SUMMARY:Huntington Park - After School Program (Tues.)
DESCRIPTION:
URL:https://esrbc.org/event/huntington-park-after-school-program-tues/2028-04-04/
LOCATION:ESRBC H.P. Office\, 6013 State Street\, Huntington Park\, CA\, 90255\, United States
END:VEVENT
BEGIN:VEVENT
DTSTART;TZID=America/Los_Angeles:20280405T150000
DTEND;TZID=America/Los_Angeles:20280405T180000
DTSTAMP:20260421T123300
CREATED:20260115T033113Z
LAST-MODIFIED:20260115T033311Z
UID:10003714-1838559600-1838570400@esrbc.org
SUMMARY:Huntington Park - After School Program (Wed.)
DESCRIPTION:
URL:https://esrbc.org/event/huntington-park-after-school-program-2-2/2028-04-05/
LOCATION:ESRBC H.P. Office\, 6013 State Street\, Huntington Park\, CA\, 90255\, United States
END:VEVENT
BEGIN:VEVENT
DTSTART;TZID=America/Los_Angeles:20280406T150000
DTEND;TZID=America/Los_Angeles:20280406T180000
DTSTAMP:20260421T123300
CREATED:20260115T033402Z
LAST-MODIFIED:20260115T033402Z
UID:10005789-1838646000-1838656800@esrbc.org
SUMMARY:Huntington Park - After School Program (Thur.)
DESCRIPTION:
URL:https://esrbc.org/event/huntington-park-after-school-program-thur/2028-04-06/
LOCATION:ESRBC H.P. Office\, 6013 State Street\, Huntington Park\, CA\, 90255\, United States
END:VEVENT
BEGIN:VEVENT
DTSTART;TZID=America/Los_Angeles:20280407T180000
DTEND;TZID=America/Los_Angeles:20280407T200000
DTSTAMP:20260421T123300
CREATED:20260115T033649Z
LAST-MODIFIED:20260115T033649Z
UID:10006479-1838743200-1838750400@esrbc.org
SUMMARY:Friday Night Bike Ride
DESCRIPTION:
URL:https://esrbc.org/event/friday-night-bike-ride-2/2028-04-07/
LOCATION:ESRBC H.P. Office\, 6013 State Street\, Huntington Park\, CA\, 90255\, United States
END:VEVENT
END:VCALENDAR