BEGIN:VCALENDAR
VERSION:2.0
PRODID:-//East Side Riders Bike Club - ECPv6.15.20//NONSGML v1.0//EN
CALSCALE:GREGORIAN
METHOD:PUBLISH
X-WR-CALNAME:East Side Riders Bike Club
X-ORIGINAL-URL:https://esrbc.org
X-WR-CALDESC:Events for East Side Riders Bike Club
REFRESH-INTERVAL;VALUE=DURATION:PT1H
X-Robots-Tag:noindex
X-PUBLISHED-TTL:PT1H
BEGIN:VTIMEZONE
TZID:America/Los_Angeles
BEGIN:DAYLIGHT
TZOFFSETFROM:-0800
TZOFFSETTO:-0700
TZNAME:PDT
DTSTART:20220313T100000
END:DAYLIGHT
BEGIN:STANDARD
TZOFFSETFROM:-0700
TZOFFSETTO:-0800
TZNAME:PST
DTSTART:20221106T090000
END:STANDARD
BEGIN:DAYLIGHT
TZOFFSETFROM:-0800
TZOFFSETTO:-0700
TZNAME:PDT
DTSTART:20230312T100000
END:DAYLIGHT
BEGIN:STANDARD
TZOFFSETFROM:-0700
TZOFFSETTO:-0800
TZNAME:PST
DTSTART:20231105T090000
END:STANDARD
BEGIN:DAYLIGHT
TZOFFSETFROM:-0800
TZOFFSETTO:-0700
TZNAME:PDT
DTSTART:20240310T100000
END:DAYLIGHT
BEGIN:STANDARD
TZOFFSETFROM:-0700
TZOFFSETTO:-0800
TZNAME:PST
DTSTART:20241103T090000
END:STANDARD
END:VTIMEZONE
BEGIN:VEVENT
DTSTART;TZID=America/Los_Angeles:20231105T100000
DTEND;TZID=America/Los_Angeles:20231105T140000
DTSTAMP:20260421T074845
CREATED:20230328T021725Z
LAST-MODIFIED:20230328T021725Z
UID:10001082-1699178400-1699192800@esrbc.org
SUMMARY:Family Sunday Community Bike Rides
DESCRIPTION:
URL:https://esrbc.org/event/family-sunday-community-bike-rides/2023-11-05/
LOCATION:East Riders Bike Store\, 12020 S. Central Ave.\, Los Angeles\, CA\, 90059\, United States
END:VEVENT
BEGIN:VEVENT
DTSTART;TZID=America/Los_Angeles:20231029T100000
DTEND;TZID=America/Los_Angeles:20231029T140000
DTSTAMP:20260421T074845
CREATED:20230328T021725Z
LAST-MODIFIED:20230328T021725Z
UID:10001081-1698573600-1698588000@esrbc.org
SUMMARY:Family Sunday Community Bike Rides
DESCRIPTION:
URL:https://esrbc.org/event/family-sunday-community-bike-rides/2023-10-29/
LOCATION:East Riders Bike Store\, 12020 S. Central Ave.\, Los Angeles\, CA\, 90059\, United States
END:VEVENT
BEGIN:VEVENT
DTSTART;TZID=America/Los_Angeles:20231022T100000
DTEND;TZID=America/Los_Angeles:20231022T140000
DTSTAMP:20260421T074845
CREATED:20230328T021725Z
LAST-MODIFIED:20230328T021725Z
UID:10001080-1697968800-1697983200@esrbc.org
SUMMARY:Family Sunday Community Bike Rides
DESCRIPTION:
URL:https://esrbc.org/event/family-sunday-community-bike-rides/2023-10-22/
LOCATION:East Riders Bike Store\, 12020 S. Central Ave.\, Los Angeles\, CA\, 90059\, United States
END:VEVENT
BEGIN:VEVENT
DTSTART;TZID=America/Los_Angeles:20231015T100000
DTEND;TZID=America/Los_Angeles:20231015T140000
DTSTAMP:20260421T074845
CREATED:20230328T021725Z
LAST-MODIFIED:20230328T021725Z
UID:10001079-1697364000-1697378400@esrbc.org
SUMMARY:Family Sunday Community Bike Rides
DESCRIPTION:
URL:https://esrbc.org/event/family-sunday-community-bike-rides/2023-10-15/
LOCATION:East Riders Bike Store\, 12020 S. Central Ave.\, Los Angeles\, CA\, 90059\, United States
END:VEVENT
BEGIN:VEVENT
DTSTART;TZID=America/Los_Angeles:20231008T100000
DTEND;TZID=America/Los_Angeles:20231008T140000
DTSTAMP:20260421T074845
CREATED:20230328T021725Z
LAST-MODIFIED:20230328T021725Z
UID:10001078-1696759200-1696773600@esrbc.org
SUMMARY:Family Sunday Community Bike Rides
DESCRIPTION:
URL:https://esrbc.org/event/family-sunday-community-bike-rides/2023-10-08/
LOCATION:East Riders Bike Store\, 12020 S. Central Ave.\, Los Angeles\, CA\, 90059\, United States
END:VEVENT
BEGIN:VEVENT
DTSTART;TZID=America/Los_Angeles:20231001T100000
DTEND;TZID=America/Los_Angeles:20231001T140000
DTSTAMP:20260421T074845
CREATED:20230328T021725Z
LAST-MODIFIED:20230328T021725Z
UID:10001077-1696154400-1696168800@esrbc.org
SUMMARY:Family Sunday Community Bike Rides
DESCRIPTION:
URL:https://esrbc.org/event/family-sunday-community-bike-rides/2023-10-01/
LOCATION:East Riders Bike Store\, 12020 S. Central Ave.\, Los Angeles\, CA\, 90059\, United States
END:VEVENT
BEGIN:VEVENT
DTSTART;TZID=America/Los_Angeles:20230924T100000
DTEND;TZID=America/Los_Angeles:20230924T140000
DTSTAMP:20260421T074845
CREATED:20230328T021725Z
LAST-MODIFIED:20230328T021725Z
UID:10001076-1695549600-1695564000@esrbc.org
SUMMARY:Family Sunday Community Bike Rides
DESCRIPTION:
URL:https://esrbc.org/event/family-sunday-community-bike-rides/2023-09-24/
LOCATION:East Riders Bike Store\, 12020 S. Central Ave.\, Los Angeles\, CA\, 90059\, United States
END:VEVENT
BEGIN:VEVENT
DTSTART;TZID=America/Los_Angeles:20230917T100000
DTEND;TZID=America/Los_Angeles:20230917T140000
DTSTAMP:20260421T074845
CREATED:20230328T021725Z
LAST-MODIFIED:20230328T021725Z
UID:10001075-1694944800-1694959200@esrbc.org
SUMMARY:Family Sunday Community Bike Rides
DESCRIPTION:
URL:https://esrbc.org/event/family-sunday-community-bike-rides/2023-09-17/
LOCATION:East Riders Bike Store\, 12020 S. Central Ave.\, Los Angeles\, CA\, 90059\, United States
END:VEVENT
BEGIN:VEVENT
DTSTART;TZID=America/Los_Angeles:20230910T100000
DTEND;TZID=America/Los_Angeles:20230910T140000
DTSTAMP:20260421T074845
CREATED:20230328T021725Z
LAST-MODIFIED:20230328T021725Z
UID:10001074-1694340000-1694354400@esrbc.org
SUMMARY:Family Sunday Community Bike Rides
DESCRIPTION:
URL:https://esrbc.org/event/family-sunday-community-bike-rides/2023-09-10/
LOCATION:East Riders Bike Store\, 12020 S. Central Ave.\, Los Angeles\, CA\, 90059\, United States
END:VEVENT
BEGIN:VEVENT
DTSTART;TZID=America/Los_Angeles:20230903T100000
DTEND;TZID=America/Los_Angeles:20230903T140000
DTSTAMP:20260421T074845
CREATED:20230328T021725Z
LAST-MODIFIED:20230328T021725Z
UID:10001073-1693735200-1693749600@esrbc.org
SUMMARY:Family Sunday Community Bike Rides
DESCRIPTION:
URL:https://esrbc.org/event/family-sunday-community-bike-rides/2023-09-03/
LOCATION:East Riders Bike Store\, 12020 S. Central Ave.\, Los Angeles\, CA\, 90059\, United States
END:VEVENT
BEGIN:VEVENT
DTSTART;TZID=America/Los_Angeles:20230827T100000
DTEND;TZID=America/Los_Angeles:20230827T140000
DTSTAMP:20260421T074845
CREATED:20230328T021725Z
LAST-MODIFIED:20230328T021725Z
UID:10001072-1693130400-1693144800@esrbc.org
SUMMARY:Family Sunday Community Bike Rides
DESCRIPTION:
URL:https://esrbc.org/event/family-sunday-community-bike-rides/2023-08-27/
LOCATION:East Riders Bike Store\, 12020 S. Central Ave.\, Los Angeles\, CA\, 90059\, United States
END:VEVENT
BEGIN:VEVENT
DTSTART;TZID=America/Los_Angeles:20230820T100000
DTEND;TZID=America/Los_Angeles:20230820T140000
DTSTAMP:20260421T074845
CREATED:20230328T021725Z
LAST-MODIFIED:20230328T021725Z
UID:10001071-1692525600-1692540000@esrbc.org
SUMMARY:Family Sunday Community Bike Rides
DESCRIPTION:
URL:https://esrbc.org/event/family-sunday-community-bike-rides/2023-08-20/
LOCATION:East Riders Bike Store\, 12020 S. Central Ave.\, Los Angeles\, CA\, 90059\, United States
END:VEVENT
BEGIN:VEVENT
DTSTART;TZID=America/Los_Angeles:20230813T100000
DTEND;TZID=America/Los_Angeles:20230813T140000
DTSTAMP:20260421T074845
CREATED:20230328T021725Z
LAST-MODIFIED:20230328T021725Z
UID:10001070-1691920800-1691935200@esrbc.org
SUMMARY:Family Sunday Community Bike Rides
DESCRIPTION:
URL:https://esrbc.org/event/family-sunday-community-bike-rides/2023-08-13/
LOCATION:East Riders Bike Store\, 12020 S. Central Ave.\, Los Angeles\, CA\, 90059\, United States
END:VEVENT
BEGIN:VEVENT
DTSTART;TZID=America/Los_Angeles:20230812T100000
DTEND;TZID=America/Los_Angeles:20230812T130000
DTSTAMP:20260421T074845
CREATED:20230715T160736Z
LAST-MODIFIED:20230715T160736Z
UID:10001317-1691834400-1691845200@esrbc.org
SUMMARY:USC Fit Families (Physical Education)
DESCRIPTION:
URL:https://esrbc.org/event/usc-fit-families-physical-education-2/
LOCATION:Ted Watkins Memorial Park\, 1335 E. 103rd St\, Los Angeles\, California\, 90002\, United States
END:VEVENT
BEGIN:VEVENT
DTSTART;TZID=America/Los_Angeles:20230806T100000
DTEND;TZID=America/Los_Angeles:20230806T140000
DTSTAMP:20260421T074845
CREATED:20230328T021725Z
LAST-MODIFIED:20230328T021725Z
UID:10001069-1691316000-1691330400@esrbc.org
SUMMARY:Family Sunday Community Bike Rides
DESCRIPTION:
URL:https://esrbc.org/event/family-sunday-community-bike-rides/2023-08-06/
LOCATION:East Riders Bike Store\, 12020 S. Central Ave.\, Los Angeles\, CA\, 90059\, United States
END:VEVENT
BEGIN:VEVENT
DTSTART;TZID=America/Los_Angeles:20230805T100000
DTEND;TZID=America/Los_Angeles:20230805T150000
DTSTAMP:20260421T074845
CREATED:20230715T160555Z
LAST-MODIFIED:20230715T160555Z
UID:10001316-1691229600-1691247600@esrbc.org
SUMMARY:Sisters of Watts Back To School Event
DESCRIPTION:
URL:https://esrbc.org/event/sisters-of-watts-back-to-school-event/
LOCATION:Ted Watkins Memorial Park\, 1335 E. 103rd St\, Los Angeles\, California\, 90002\, United States
END:VEVENT
BEGIN:VEVENT
DTSTART;TZID=America/Los_Angeles:20230801T143000
DTEND;TZID=America/Los_Angeles:20230801T173000
DTSTAMP:20260421T074845
CREATED:20230715T160250Z
LAST-MODIFIED:20230715T160250Z
UID:10001315-1690900200-1690911000@esrbc.org
SUMMARY:National Night Out 2023
DESCRIPTION:National Night Out is a day where the police and community can come together for a BBQ and games and have an opportunity to bond and create a positive relationship.
URL:https://esrbc.org/event/national-night-out-2023/
LOCATION:2131 E. Century Blvd.\, 2131 E Century Blvd.\, Los Angeles\, CA\, 90002\, United States
END:VEVENT
BEGIN:VEVENT
DTSTART;TZID=America/Los_Angeles:20230730T100000
DTEND;TZID=America/Los_Angeles:20230730T140000
DTSTAMP:20260421T074845
CREATED:20230328T021725Z
LAST-MODIFIED:20230328T021725Z
UID:10001068-1690711200-1690725600@esrbc.org
SUMMARY:Family Sunday Community Bike Rides
DESCRIPTION:
URL:https://esrbc.org/event/family-sunday-community-bike-rides/2023-07-30/
LOCATION:East Riders Bike Store\, 12020 S. Central Ave.\, Los Angeles\, CA\, 90059\, United States
END:VEVENT
BEGIN:VEVENT
DTSTART;TZID=America/Los_Angeles:20230729T110000
DTEND;TZID=America/Los_Angeles:20230729T130000
DTSTAMP:20260421T074845
CREATED:20230715T155632Z
LAST-MODIFIED:20230715T155632Z
UID:10001313-1690628400-1690635600@esrbc.org
SUMMARY:Community Resource Fair & Celebrity Basketball Game
DESCRIPTION:
URL:https://esrbc.org/event/community-resource-fair-celebrity-basketball-game/
LOCATION:Verbum Dei High School\, 11100 S. Central Ave.\, Los Angeles\, CA\, 90059\, United States
END:VEVENT
BEGIN:VEVENT
DTSTART;TZID=America/Los_Angeles:20230723T100000
DTEND;TZID=America/Los_Angeles:20230723T140000
DTSTAMP:20260421T074845
CREATED:20230328T021725Z
LAST-MODIFIED:20230328T021725Z
UID:10001067-1690106400-1690120800@esrbc.org
SUMMARY:Family Sunday Community Bike Rides
DESCRIPTION:
URL:https://esrbc.org/event/family-sunday-community-bike-rides/2023-07-23/
LOCATION:East Riders Bike Store\, 12020 S. Central Ave.\, Los Angeles\, CA\, 90059\, United States
END:VEVENT
BEGIN:VEVENT
DTSTART;TZID=America/Los_Angeles:20230723T080000
DTEND;TZID=America/Los_Angeles:20230723T130000
DTSTAMP:20260421T074845
CREATED:20230715T155926Z
LAST-MODIFIED:20230715T155926Z
UID:10001314-1690099200-1690117200@esrbc.org
SUMMARY:Alliance Youth Day of Action (Galaxy)
DESCRIPTION:
URL:https://esrbc.org/event/alliance-youth-day-of-action-galaxy/
LOCATION:BMO Stadium\, 3939 S Figueroa St\, Los Angeles\, 90037\, United States
END:VEVENT
BEGIN:VEVENT
DTSTART;TZID=America/Los_Angeles:20230716T100000
DTEND;TZID=America/Los_Angeles:20230716T140000
DTSTAMP:20260421T074845
CREATED:20230328T021725Z
LAST-MODIFIED:20230328T021725Z
UID:10001066-1689501600-1689516000@esrbc.org
SUMMARY:Family Sunday Community Bike Rides
DESCRIPTION:
URL:https://esrbc.org/event/family-sunday-community-bike-rides/2023-07-16/
LOCATION:East Riders Bike Store\, 12020 S. Central Ave.\, Los Angeles\, CA\, 90059\, United States
END:VEVENT
BEGIN:VEVENT
DTSTART;TZID=America/Los_Angeles:20230715T110000
DTEND;TZID=America/Los_Angeles:20230715T160000
DTSTAMP:20260421T074845
CREATED:20230715T155137Z
LAST-MODIFIED:20230715T155137Z
UID:10001312-1689418800-1689436800@esrbc.org
SUMMARY:Play Streets:  99th St.
DESCRIPTION:
URL:https://esrbc.org/event/play-streets-99th-st/
LOCATION:99th St
END:VEVENT
BEGIN:VEVENT
DTSTART;TZID=America/Los_Angeles:20230709T100000
DTEND;TZID=America/Los_Angeles:20230709T140000
DTSTAMP:20260421T074845
CREATED:20230328T021725Z
LAST-MODIFIED:20230328T021725Z
UID:10001065-1688896800-1688911200@esrbc.org
SUMMARY:Family Sunday Community Bike Rides
DESCRIPTION:
URL:https://esrbc.org/event/family-sunday-community-bike-rides/2023-07-09/
LOCATION:East Riders Bike Store\, 12020 S. Central Ave.\, Los Angeles\, CA\, 90059\, United States
END:VEVENT
BEGIN:VEVENT
DTSTART;TZID=America/Los_Angeles:20230702T100000
DTEND;TZID=America/Los_Angeles:20230702T140000
DTSTAMP:20260421T074845
CREATED:20230328T021725Z
LAST-MODIFIED:20230328T021725Z
UID:10001064-1688292000-1688306400@esrbc.org
SUMMARY:Family Sunday Community Bike Rides
DESCRIPTION:
URL:https://esrbc.org/event/family-sunday-community-bike-rides/2023-07-02/
LOCATION:East Riders Bike Store\, 12020 S. Central Ave.\, Los Angeles\, CA\, 90059\, United States
END:VEVENT
BEGIN:VEVENT
DTSTART;TZID=America/Los_Angeles:20230625T100000
DTEND;TZID=America/Los_Angeles:20230625T140000
DTSTAMP:20260421T074845
CREATED:20230328T021725Z
LAST-MODIFIED:20230328T021725Z
UID:10001063-1687687200-1687701600@esrbc.org
SUMMARY:Family Sunday Community Bike Rides
DESCRIPTION:
URL:https://esrbc.org/event/family-sunday-community-bike-rides/2023-06-25/
LOCATION:East Riders Bike Store\, 12020 S. Central Ave.\, Los Angeles\, CA\, 90059\, United States
END:VEVENT
BEGIN:VEVENT
DTSTART;TZID=America/Los_Angeles:20230618T100000
DTEND;TZID=America/Los_Angeles:20230618T140000
DTSTAMP:20260421T074845
CREATED:20230328T021725Z
LAST-MODIFIED:20230328T021725Z
UID:10001062-1687082400-1687096800@esrbc.org
SUMMARY:Family Sunday Community Bike Rides
DESCRIPTION:
URL:https://esrbc.org/event/family-sunday-community-bike-rides/2023-06-18/
LOCATION:East Riders Bike Store\, 12020 S. Central Ave.\, Los Angeles\, CA\, 90059\, United States
END:VEVENT
BEGIN:VEVENT
DTSTART;TZID=America/Los_Angeles:20230617T110000
DTEND;TZID=America/Los_Angeles:20230617T170000
DTSTAMP:20260421T074845
CREATED:20230328T020354Z
LAST-MODIFIED:20230328T020354Z
UID:10000005-1686999600-1687021200@esrbc.org
SUMMARY:Annual Bikenic & Resource Fair
DESCRIPTION:
URL:https://esrbc.org/event/annual-bikenic-resource-fair/
LOCATION:Ted Watkins Memorial Park\, 1335 E. 103rd St\, Los Angeles\, California\, 90002\, United States
END:VEVENT
BEGIN:VEVENT
DTSTART;TZID=America/Los_Angeles:20230611T100000
DTEND;TZID=America/Los_Angeles:20230611T140000
DTSTAMP:20260421T074845
CREATED:20230328T021725Z
LAST-MODIFIED:20230328T021725Z
UID:10001061-1686477600-1686492000@esrbc.org
SUMMARY:Family Sunday Community Bike Rides
DESCRIPTION:
URL:https://esrbc.org/event/family-sunday-community-bike-rides/2023-06-11/
LOCATION:East Riders Bike Store\, 12020 S. Central Ave.\, Los Angeles\, CA\, 90059\, United States
END:VEVENT
BEGIN:VEVENT
DTSTART;TZID=America/Los_Angeles:20230604T100000
DTEND;TZID=America/Los_Angeles:20230604T140000
DTSTAMP:20260421T074845
CREATED:20230328T021725Z
LAST-MODIFIED:20230328T021725Z
UID:10001060-1685872800-1685887200@esrbc.org
SUMMARY:Family Sunday Community Bike Rides
DESCRIPTION:
URL:https://esrbc.org/event/family-sunday-community-bike-rides/2023-06-04/
LOCATION:East Riders Bike Store\, 12020 S. Central Ave.\, Los Angeles\, CA\, 90059\, United States
END:VEVENT
END:VCALENDAR