BEGIN:VCALENDAR
VERSION:2.0
PRODID:-//East Side Riders Bike Club - ECPv6.15.20//NONSGML v1.0//EN
CALSCALE:GREGORIAN
METHOD:PUBLISH
X-WR-CALNAME:East Side Riders Bike Club
X-ORIGINAL-URL:https://esrbc.org
X-WR-CALDESC:Events for East Side Riders Bike Club
REFRESH-INTERVAL;VALUE=DURATION:PT1H
X-Robots-Tag:noindex
X-PUBLISHED-TTL:PT1H
BEGIN:VTIMEZONE
TZID:America/Los_Angeles
BEGIN:DAYLIGHT
TZOFFSETFROM:-0800
TZOFFSETTO:-0700
TZNAME:PDT
DTSTART:20270314T100000
END:DAYLIGHT
BEGIN:STANDARD
TZOFFSETFROM:-0700
TZOFFSETTO:-0800
TZNAME:PST
DTSTART:20271107T090000
END:STANDARD
BEGIN:DAYLIGHT
TZOFFSETFROM:-0800
TZOFFSETTO:-0700
TZNAME:PDT
DTSTART:20280312T100000
END:DAYLIGHT
BEGIN:STANDARD
TZOFFSETFROM:-0700
TZOFFSETTO:-0800
TZNAME:PST
DTSTART:20281105T090000
END:STANDARD
BEGIN:DAYLIGHT
TZOFFSETFROM:-0800
TZOFFSETTO:-0700
TZNAME:PDT
DTSTART:20290311T100000
END:DAYLIGHT
BEGIN:STANDARD
TZOFFSETFROM:-0700
TZOFFSETTO:-0800
TZNAME:PST
DTSTART:20291104T090000
END:STANDARD
END:VTIMEZONE
BEGIN:VEVENT
DTSTART;TZID=America/Los_Angeles:20280107T180000
DTEND;TZID=America/Los_Angeles:20280107T200000
DTSTAMP:20260421T180809
CREATED:20260115T033649Z
LAST-MODIFIED:20260115T033649Z
UID:10006476-1830880800-1830888000@esrbc.org
SUMMARY:Friday Night Bike Ride
DESCRIPTION:
URL:https://esrbc.org/event/friday-night-bike-ride-2/2028-01-07/
LOCATION:ESRBC H.P. Office\, 6013 State Street\, Huntington Park\, CA\, 90255\, United States
END:VEVENT
BEGIN:VEVENT
DTSTART;TZID=America/Los_Angeles:20280111T110000
DTEND;TZID=America/Los_Angeles:20280111T120000
DTSTAMP:20260421T180809
CREATED:20260115T032221Z
LAST-MODIFIED:20260115T032628Z
UID:10004656-1831201200-1831204800@esrbc.org
SUMMARY:Watts - Food Distribution Every Tuesday
DESCRIPTION:
URL:https://esrbc.org/event/watts-food-distribution-every-tuesday/2028-01-11/
LOCATION:Watts Civic Center\, 1513\, Los Angeles\, CA\, 90002\, United States
END:VEVENT
BEGIN:VEVENT
DTSTART;TZID=America/Los_Angeles:20280111T140000
DTEND;TZID=America/Los_Angeles:20280111T180000
DTSTAMP:20260421T180809
CREATED:20260115T034104Z
LAST-MODIFIED:20260115T034140Z
UID:10007137-1831212000-1831226400@esrbc.org
SUMMARY:Huntington Park - After School Program (Tues.)
DESCRIPTION:
URL:https://esrbc.org/event/huntington-park-after-school-program-tues/2028-01-11/
LOCATION:ESRBC H.P. Office\, 6013 State Street\, Huntington Park\, CA\, 90255\, United States
END:VEVENT
BEGIN:VEVENT
DTSTART;TZID=America/Los_Angeles:20280112T150000
DTEND;TZID=America/Los_Angeles:20280112T180000
DTSTAMP:20260421T180809
CREATED:20260115T033113Z
LAST-MODIFIED:20260115T033311Z
UID:10003678-1831302000-1831312800@esrbc.org
SUMMARY:Huntington Park - After School Program (Wed.)
DESCRIPTION:
URL:https://esrbc.org/event/huntington-park-after-school-program-2-2/2028-01-12/
LOCATION:ESRBC H.P. Office\, 6013 State Street\, Huntington Park\, CA\, 90255\, United States
END:VEVENT
BEGIN:VEVENT
DTSTART;TZID=America/Los_Angeles:20280113T150000
DTEND;TZID=America/Los_Angeles:20280113T180000
DTSTAMP:20260421T180809
CREATED:20260115T033402Z
LAST-MODIFIED:20260115T033402Z
UID:10005777-1831388400-1831399200@esrbc.org
SUMMARY:Huntington Park - After School Program (Thur.)
DESCRIPTION:
URL:https://esrbc.org/event/huntington-park-after-school-program-thur/2028-01-13/
LOCATION:ESRBC H.P. Office\, 6013 State Street\, Huntington Park\, CA\, 90255\, United States
END:VEVENT
BEGIN:VEVENT
DTSTART;TZID=America/Los_Angeles:20280118T110000
DTEND;TZID=America/Los_Angeles:20280118T120000
DTSTAMP:20260421T180809
CREATED:20260115T032221Z
LAST-MODIFIED:20260115T032628Z
UID:10004657-1831806000-1831809600@esrbc.org
SUMMARY:Watts - Food Distribution Every Tuesday
DESCRIPTION:
URL:https://esrbc.org/event/watts-food-distribution-every-tuesday/2028-01-18/
LOCATION:Watts Civic Center\, 1513\, Los Angeles\, CA\, 90002\, United States
END:VEVENT
BEGIN:VEVENT
DTSTART;TZID=America/Los_Angeles:20280118T140000
DTEND;TZID=America/Los_Angeles:20280118T180000
DTSTAMP:20260421T180809
CREATED:20260115T034104Z
LAST-MODIFIED:20260115T034140Z
UID:10007138-1831816800-1831831200@esrbc.org
SUMMARY:Huntington Park - After School Program (Tues.)
DESCRIPTION:
URL:https://esrbc.org/event/huntington-park-after-school-program-tues/2028-01-18/
LOCATION:ESRBC H.P. Office\, 6013 State Street\, Huntington Park\, CA\, 90255\, United States
END:VEVENT
BEGIN:VEVENT
DTSTART;TZID=America/Los_Angeles:20280119T150000
DTEND;TZID=America/Los_Angeles:20280119T180000
DTSTAMP:20260421T180809
CREATED:20260115T033113Z
LAST-MODIFIED:20260115T033311Z
UID:10003681-1831906800-1831917600@esrbc.org
SUMMARY:Huntington Park - After School Program (Wed.)
DESCRIPTION:
URL:https://esrbc.org/event/huntington-park-after-school-program-2-2/2028-01-19/
LOCATION:ESRBC H.P. Office\, 6013 State Street\, Huntington Park\, CA\, 90255\, United States
END:VEVENT
BEGIN:VEVENT
DTSTART;TZID=America/Los_Angeles:20280120T150000
DTEND;TZID=America/Los_Angeles:20280120T180000
DTSTAMP:20260421T180809
CREATED:20260115T033402Z
LAST-MODIFIED:20260115T033402Z
UID:10005778-1831993200-1832004000@esrbc.org
SUMMARY:Huntington Park - After School Program (Thur.)
DESCRIPTION:
URL:https://esrbc.org/event/huntington-park-after-school-program-thur/2028-01-20/
LOCATION:ESRBC H.P. Office\, 6013 State Street\, Huntington Park\, CA\, 90255\, United States
END:VEVENT
BEGIN:VEVENT
DTSTART;TZID=America/Los_Angeles:20280125T110000
DTEND;TZID=America/Los_Angeles:20280125T120000
DTSTAMP:20260421T180809
CREATED:20260115T032221Z
LAST-MODIFIED:20260115T032628Z
UID:10004658-1832410800-1832414400@esrbc.org
SUMMARY:Watts - Food Distribution Every Tuesday
DESCRIPTION:
URL:https://esrbc.org/event/watts-food-distribution-every-tuesday/2028-01-25/
LOCATION:Watts Civic Center\, 1513\, Los Angeles\, CA\, 90002\, United States
END:VEVENT
BEGIN:VEVENT
DTSTART;TZID=America/Los_Angeles:20280125T140000
DTEND;TZID=America/Los_Angeles:20280125T180000
DTSTAMP:20260421T180809
CREATED:20260115T034104Z
LAST-MODIFIED:20260115T034140Z
UID:10007139-1832421600-1832436000@esrbc.org
SUMMARY:Huntington Park - After School Program (Tues.)
DESCRIPTION:
URL:https://esrbc.org/event/huntington-park-after-school-program-tues/2028-01-25/
LOCATION:ESRBC H.P. Office\, 6013 State Street\, Huntington Park\, CA\, 90255\, United States
END:VEVENT
BEGIN:VEVENT
DTSTART;TZID=America/Los_Angeles:20280126T150000
DTEND;TZID=America/Los_Angeles:20280126T180000
DTSTAMP:20260421T180809
CREATED:20260115T033113Z
LAST-MODIFIED:20260115T033311Z
UID:10003684-1832511600-1832522400@esrbc.org
SUMMARY:Huntington Park - After School Program (Wed.)
DESCRIPTION:
URL:https://esrbc.org/event/huntington-park-after-school-program-2-2/2028-01-26/
LOCATION:ESRBC H.P. Office\, 6013 State Street\, Huntington Park\, CA\, 90255\, United States
END:VEVENT
BEGIN:VEVENT
DTSTART;TZID=America/Los_Angeles:20280127T150000
DTEND;TZID=America/Los_Angeles:20280127T180000
DTSTAMP:20260421T180809
CREATED:20260115T033402Z
LAST-MODIFIED:20260115T033402Z
UID:10005779-1832598000-1832608800@esrbc.org
SUMMARY:Huntington Park - After School Program (Thur.)
DESCRIPTION:
URL:https://esrbc.org/event/huntington-park-after-school-program-thur/2028-01-27/
LOCATION:ESRBC H.P. Office\, 6013 State Street\, Huntington Park\, CA\, 90255\, United States
END:VEVENT
BEGIN:VEVENT
DTSTART;TZID=America/Los_Angeles:20280201T110000
DTEND;TZID=America/Los_Angeles:20280201T120000
DTSTAMP:20260421T180809
CREATED:20260115T032221Z
LAST-MODIFIED:20260115T032628Z
UID:10004659-1833015600-1833019200@esrbc.org
SUMMARY:Watts - Food Distribution Every Tuesday
DESCRIPTION:
URL:https://esrbc.org/event/watts-food-distribution-every-tuesday/2028-02-01/
LOCATION:Watts Civic Center\, 1513\, Los Angeles\, CA\, 90002\, United States
END:VEVENT
BEGIN:VEVENT
DTSTART;TZID=America/Los_Angeles:20280201T140000
DTEND;TZID=America/Los_Angeles:20280201T180000
DTSTAMP:20260421T180809
CREATED:20260115T034104Z
LAST-MODIFIED:20260115T034140Z
UID:10007140-1833026400-1833040800@esrbc.org
SUMMARY:Huntington Park - After School Program (Tues.)
DESCRIPTION:
URL:https://esrbc.org/event/huntington-park-after-school-program-tues/2028-02-01/
LOCATION:ESRBC H.P. Office\, 6013 State Street\, Huntington Park\, CA\, 90255\, United States
END:VEVENT
BEGIN:VEVENT
DTSTART;TZID=America/Los_Angeles:20280202T150000
DTEND;TZID=America/Los_Angeles:20280202T180000
DTSTAMP:20260421T180809
CREATED:20260115T033113Z
LAST-MODIFIED:20260115T033311Z
UID:10003687-1833116400-1833127200@esrbc.org
SUMMARY:Huntington Park - After School Program (Wed.)
DESCRIPTION:
URL:https://esrbc.org/event/huntington-park-after-school-program-2-2/2028-02-02/
LOCATION:ESRBC H.P. Office\, 6013 State Street\, Huntington Park\, CA\, 90255\, United States
END:VEVENT
BEGIN:VEVENT
DTSTART;TZID=America/Los_Angeles:20280203T150000
DTEND;TZID=America/Los_Angeles:20280203T180000
DTSTAMP:20260421T180809
CREATED:20260115T033402Z
LAST-MODIFIED:20260115T033402Z
UID:10005780-1833202800-1833213600@esrbc.org
SUMMARY:Huntington Park - After School Program (Thur.)
DESCRIPTION:
URL:https://esrbc.org/event/huntington-park-after-school-program-thur/2028-02-03/
LOCATION:ESRBC H.P. Office\, 6013 State Street\, Huntington Park\, CA\, 90255\, United States
END:VEVENT
BEGIN:VEVENT
DTSTART;TZID=America/Los_Angeles:20280204T180000
DTEND;TZID=America/Los_Angeles:20280204T200000
DTSTAMP:20260421T180809
CREATED:20260115T033649Z
LAST-MODIFIED:20260115T033649Z
UID:10006477-1833300000-1833307200@esrbc.org
SUMMARY:Friday Night Bike Ride
DESCRIPTION:
URL:https://esrbc.org/event/friday-night-bike-ride-2/2028-02-04/
LOCATION:ESRBC H.P. Office\, 6013 State Street\, Huntington Park\, CA\, 90255\, United States
END:VEVENT
BEGIN:VEVENT
DTSTART;TZID=America/Los_Angeles:20280208T110000
DTEND;TZID=America/Los_Angeles:20280208T120000
DTSTAMP:20260421T180809
CREATED:20260115T032221Z
LAST-MODIFIED:20260115T032628Z
UID:10004660-1833620400-1833624000@esrbc.org
SUMMARY:Watts - Food Distribution Every Tuesday
DESCRIPTION:
URL:https://esrbc.org/event/watts-food-distribution-every-tuesday/2028-02-08/
LOCATION:Watts Civic Center\, 1513\, Los Angeles\, CA\, 90002\, United States
END:VEVENT
BEGIN:VEVENT
DTSTART;TZID=America/Los_Angeles:20280208T140000
DTEND;TZID=America/Los_Angeles:20280208T180000
DTSTAMP:20260421T180809
CREATED:20260115T034104Z
LAST-MODIFIED:20260115T034140Z
UID:10007141-1833631200-1833645600@esrbc.org
SUMMARY:Huntington Park - After School Program (Tues.)
DESCRIPTION:
URL:https://esrbc.org/event/huntington-park-after-school-program-tues/2028-02-08/
LOCATION:ESRBC H.P. Office\, 6013 State Street\, Huntington Park\, CA\, 90255\, United States
END:VEVENT
BEGIN:VEVENT
DTSTART;TZID=America/Los_Angeles:20280209T150000
DTEND;TZID=America/Los_Angeles:20280209T180000
DTSTAMP:20260421T180809
CREATED:20260115T033113Z
LAST-MODIFIED:20260115T033311Z
UID:10003690-1833721200-1833732000@esrbc.org
SUMMARY:Huntington Park - After School Program (Wed.)
DESCRIPTION:
URL:https://esrbc.org/event/huntington-park-after-school-program-2-2/2028-02-09/
LOCATION:ESRBC H.P. Office\, 6013 State Street\, Huntington Park\, CA\, 90255\, United States
END:VEVENT
BEGIN:VEVENT
DTSTART;TZID=America/Los_Angeles:20280210T150000
DTEND;TZID=America/Los_Angeles:20280210T180000
DTSTAMP:20260421T180809
CREATED:20260115T033402Z
LAST-MODIFIED:20260115T033402Z
UID:10005781-1833807600-1833818400@esrbc.org
SUMMARY:Huntington Park - After School Program (Thur.)
DESCRIPTION:
URL:https://esrbc.org/event/huntington-park-after-school-program-thur/2028-02-10/
LOCATION:ESRBC H.P. Office\, 6013 State Street\, Huntington Park\, CA\, 90255\, United States
END:VEVENT
BEGIN:VEVENT
DTSTART;TZID=America/Los_Angeles:20280215T110000
DTEND;TZID=America/Los_Angeles:20280215T120000
DTSTAMP:20260421T180809
CREATED:20260115T032221Z
LAST-MODIFIED:20260115T032628Z
UID:10004661-1834225200-1834228800@esrbc.org
SUMMARY:Watts - Food Distribution Every Tuesday
DESCRIPTION:
URL:https://esrbc.org/event/watts-food-distribution-every-tuesday/2028-02-15/
LOCATION:Watts Civic Center\, 1513\, Los Angeles\, CA\, 90002\, United States
END:VEVENT
BEGIN:VEVENT
DTSTART;TZID=America/Los_Angeles:20280215T140000
DTEND;TZID=America/Los_Angeles:20280215T180000
DTSTAMP:20260421T180809
CREATED:20260115T034104Z
LAST-MODIFIED:20260115T034140Z
UID:10007142-1834236000-1834250400@esrbc.org
SUMMARY:Huntington Park - After School Program (Tues.)
DESCRIPTION:
URL:https://esrbc.org/event/huntington-park-after-school-program-tues/2028-02-15/
LOCATION:ESRBC H.P. Office\, 6013 State Street\, Huntington Park\, CA\, 90255\, United States
END:VEVENT
BEGIN:VEVENT
DTSTART;TZID=America/Los_Angeles:20280216T150000
DTEND;TZID=America/Los_Angeles:20280216T180000
DTSTAMP:20260421T180809
CREATED:20260115T033113Z
LAST-MODIFIED:20260115T033311Z
UID:10003693-1834326000-1834336800@esrbc.org
SUMMARY:Huntington Park - After School Program (Wed.)
DESCRIPTION:
URL:https://esrbc.org/event/huntington-park-after-school-program-2-2/2028-02-16/
LOCATION:ESRBC H.P. Office\, 6013 State Street\, Huntington Park\, CA\, 90255\, United States
END:VEVENT
BEGIN:VEVENT
DTSTART;TZID=America/Los_Angeles:20280217T150000
DTEND;TZID=America/Los_Angeles:20280217T180000
DTSTAMP:20260421T180809
CREATED:20260115T033402Z
LAST-MODIFIED:20260115T033402Z
UID:10005782-1834412400-1834423200@esrbc.org
SUMMARY:Huntington Park - After School Program (Thur.)
DESCRIPTION:
URL:https://esrbc.org/event/huntington-park-after-school-program-thur/2028-02-17/
LOCATION:ESRBC H.P. Office\, 6013 State Street\, Huntington Park\, CA\, 90255\, United States
END:VEVENT
BEGIN:VEVENT
DTSTART;TZID=America/Los_Angeles:20280222T110000
DTEND;TZID=America/Los_Angeles:20280222T120000
DTSTAMP:20260421T180809
CREATED:20260115T032221Z
LAST-MODIFIED:20260115T032628Z
UID:10004662-1834830000-1834833600@esrbc.org
SUMMARY:Watts - Food Distribution Every Tuesday
DESCRIPTION:
URL:https://esrbc.org/event/watts-food-distribution-every-tuesday/2028-02-22/
LOCATION:Watts Civic Center\, 1513\, Los Angeles\, CA\, 90002\, United States
END:VEVENT
BEGIN:VEVENT
DTSTART;TZID=America/Los_Angeles:20280222T140000
DTEND;TZID=America/Los_Angeles:20280222T180000
DTSTAMP:20260421T180809
CREATED:20260115T034104Z
LAST-MODIFIED:20260115T034140Z
UID:10007143-1834840800-1834855200@esrbc.org
SUMMARY:Huntington Park - After School Program (Tues.)
DESCRIPTION:
URL:https://esrbc.org/event/huntington-park-after-school-program-tues/2028-02-22/
LOCATION:ESRBC H.P. Office\, 6013 State Street\, Huntington Park\, CA\, 90255\, United States
END:VEVENT
BEGIN:VEVENT
DTSTART;TZID=America/Los_Angeles:20280223T150000
DTEND;TZID=America/Los_Angeles:20280223T180000
DTSTAMP:20260421T180809
CREATED:20260115T033113Z
LAST-MODIFIED:20260115T033311Z
UID:10003696-1834930800-1834941600@esrbc.org
SUMMARY:Huntington Park - After School Program (Wed.)
DESCRIPTION:
URL:https://esrbc.org/event/huntington-park-after-school-program-2-2/2028-02-23/
LOCATION:ESRBC H.P. Office\, 6013 State Street\, Huntington Park\, CA\, 90255\, United States
END:VEVENT
BEGIN:VEVENT
DTSTART;TZID=America/Los_Angeles:20280224T150000
DTEND;TZID=America/Los_Angeles:20280224T180000
DTSTAMP:20260421T180809
CREATED:20260115T033402Z
LAST-MODIFIED:20260115T033402Z
UID:10005783-1835017200-1835028000@esrbc.org
SUMMARY:Huntington Park - After School Program (Thur.)
DESCRIPTION:
URL:https://esrbc.org/event/huntington-park-after-school-program-thur/2028-02-24/
LOCATION:ESRBC H.P. Office\, 6013 State Street\, Huntington Park\, CA\, 90255\, United States
END:VEVENT
END:VCALENDAR