BEGIN:VCALENDAR
VERSION:2.0
PRODID:-//East Side Riders Bike Club - ECPv6.15.20//NONSGML v1.0//EN
CALSCALE:GREGORIAN
METHOD:PUBLISH
X-ORIGINAL-URL:https://esrbc.org
X-WR-CALDESC:Events for East Side Riders Bike Club
REFRESH-INTERVAL;VALUE=DURATION:PT1H
X-Robots-Tag:noindex
X-PUBLISHED-TTL:PT1H
BEGIN:VTIMEZONE
TZID:America/Los_Angeles
BEGIN:DAYLIGHT
TZOFFSETFROM:-0800
TZOFFSETTO:-0700
TZNAME:PDT
DTSTART:20270314T100000
END:DAYLIGHT
BEGIN:STANDARD
TZOFFSETFROM:-0700
TZOFFSETTO:-0800
TZNAME:PST
DTSTART:20271107T090000
END:STANDARD
BEGIN:DAYLIGHT
TZOFFSETFROM:-0800
TZOFFSETTO:-0700
TZNAME:PDT
DTSTART:20280312T100000
END:DAYLIGHT
BEGIN:STANDARD
TZOFFSETFROM:-0700
TZOFFSETTO:-0800
TZNAME:PST
DTSTART:20281105T090000
END:STANDARD
BEGIN:DAYLIGHT
TZOFFSETFROM:-0800
TZOFFSETTO:-0700
TZNAME:PDT
DTSTART:20290311T100000
END:DAYLIGHT
BEGIN:STANDARD
TZOFFSETFROM:-0700
TZOFFSETTO:-0800
TZNAME:PST
DTSTART:20291104T090000
END:STANDARD
END:VTIMEZONE
BEGIN:VEVENT
DTSTART;TZID=America/Los_Angeles:20281108T150000
DTEND;TZID=America/Los_Angeles:20281108T180000
DTSTAMP:20260423T014812
CREATED:20260115T033113Z
LAST-MODIFIED:20260115T033311Z
UID:10003807-1857308400-1857319200@esrbc.org
SUMMARY:Huntington Park - After School Program (Wed.)
DESCRIPTION:
URL:https://esrbc.org/event/huntington-park-after-school-program-2-2/2028-11-08/
LOCATION:ESRBC H.P. Office\, 6013 State Street\, Huntington Park\, CA\, 90255\, United States
END:VEVENT
BEGIN:VEVENT
DTSTART;TZID=America/Los_Angeles:20281109T150000
DTEND;TZID=America/Los_Angeles:20281109T180000
DTSTAMP:20260423T014812
CREATED:20260115T033402Z
LAST-MODIFIED:20260115T033402Z
UID:10005820-1857394800-1857405600@esrbc.org
SUMMARY:Huntington Park - After School Program (Thur.)
DESCRIPTION:
URL:https://esrbc.org/event/huntington-park-after-school-program-thur/2028-11-09/
LOCATION:ESRBC H.P. Office\, 6013 State Street\, Huntington Park\, CA\, 90255\, United States
END:VEVENT
BEGIN:VEVENT
DTSTART;TZID=America/Los_Angeles:20281114T110000
DTEND;TZID=America/Los_Angeles:20281114T120000
DTSTAMP:20260423T014812
CREATED:20260115T032221Z
LAST-MODIFIED:20260115T032628Z
UID:10004700-1857812400-1857816000@esrbc.org
SUMMARY:Watts - Food Distribution Every Tuesday
DESCRIPTION:
URL:https://esrbc.org/event/watts-food-distribution-every-tuesday/2028-11-14/
LOCATION:Watts Civic Center\, 1513\, Los Angeles\, CA\, 90002\, United States
END:VEVENT
BEGIN:VEVENT
DTSTART;TZID=America/Los_Angeles:20281114T140000
DTEND;TZID=America/Los_Angeles:20281114T180000
DTSTAMP:20260423T014812
CREATED:20260115T034104Z
LAST-MODIFIED:20260115T034140Z
UID:10007181-1857823200-1857837600@esrbc.org
SUMMARY:Huntington Park - After School Program (Tues.)
DESCRIPTION:
URL:https://esrbc.org/event/huntington-park-after-school-program-tues/2028-11-14/
LOCATION:ESRBC H.P. Office\, 6013 State Street\, Huntington Park\, CA\, 90255\, United States
END:VEVENT
BEGIN:VEVENT
DTSTART;TZID=America/Los_Angeles:20281115T150000
DTEND;TZID=America/Los_Angeles:20281115T180000
DTSTAMP:20260423T014812
CREATED:20260115T033113Z
LAST-MODIFIED:20260115T033311Z
UID:10003810-1857913200-1857924000@esrbc.org
SUMMARY:Huntington Park - After School Program (Wed.)
DESCRIPTION:
URL:https://esrbc.org/event/huntington-park-after-school-program-2-2/2028-11-15/
LOCATION:ESRBC H.P. Office\, 6013 State Street\, Huntington Park\, CA\, 90255\, United States
END:VEVENT
BEGIN:VEVENT
DTSTART;TZID=America/Los_Angeles:20281116T150000
DTEND;TZID=America/Los_Angeles:20281116T180000
DTSTAMP:20260423T014812
CREATED:20260115T033402Z
LAST-MODIFIED:20260115T033402Z
UID:10005821-1857999600-1858010400@esrbc.org
SUMMARY:Huntington Park - After School Program (Thur.)
DESCRIPTION:
URL:https://esrbc.org/event/huntington-park-after-school-program-thur/2028-11-16/
LOCATION:ESRBC H.P. Office\, 6013 State Street\, Huntington Park\, CA\, 90255\, United States
END:VEVENT
BEGIN:VEVENT
DTSTART;TZID=America/Los_Angeles:20281121T110000
DTEND;TZID=America/Los_Angeles:20281121T120000
DTSTAMP:20260423T014812
CREATED:20260115T032221Z
LAST-MODIFIED:20260115T032628Z
UID:10004701-1858417200-1858420800@esrbc.org
SUMMARY:Watts - Food Distribution Every Tuesday
DESCRIPTION:
URL:https://esrbc.org/event/watts-food-distribution-every-tuesday/2028-11-21/
LOCATION:Watts Civic Center\, 1513\, Los Angeles\, CA\, 90002\, United States
END:VEVENT
BEGIN:VEVENT
DTSTART;TZID=America/Los_Angeles:20281121T140000
DTEND;TZID=America/Los_Angeles:20281121T180000
DTSTAMP:20260423T014812
CREATED:20260115T034104Z
LAST-MODIFIED:20260115T034140Z
UID:10007182-1858428000-1858442400@esrbc.org
SUMMARY:Huntington Park - After School Program (Tues.)
DESCRIPTION:
URL:https://esrbc.org/event/huntington-park-after-school-program-tues/2028-11-21/
LOCATION:ESRBC H.P. Office\, 6013 State Street\, Huntington Park\, CA\, 90255\, United States
END:VEVENT
BEGIN:VEVENT
DTSTART;TZID=America/Los_Angeles:20281122T150000
DTEND;TZID=America/Los_Angeles:20281122T180000
DTSTAMP:20260423T014812
CREATED:20260115T033113Z
LAST-MODIFIED:20260115T033311Z
UID:10003813-1858518000-1858528800@esrbc.org
SUMMARY:Huntington Park - After School Program (Wed.)
DESCRIPTION:
URL:https://esrbc.org/event/huntington-park-after-school-program-2-2/2028-11-22/
LOCATION:ESRBC H.P. Office\, 6013 State Street\, Huntington Park\, CA\, 90255\, United States
END:VEVENT
BEGIN:VEVENT
DTSTART;TZID=America/Los_Angeles:20281123T150000
DTEND;TZID=America/Los_Angeles:20281123T180000
DTSTAMP:20260423T014812
CREATED:20260115T033402Z
LAST-MODIFIED:20260115T033402Z
UID:10005822-1858604400-1858615200@esrbc.org
SUMMARY:Huntington Park - After School Program (Thur.)
DESCRIPTION:
URL:https://esrbc.org/event/huntington-park-after-school-program-thur/2028-11-23/
LOCATION:ESRBC H.P. Office\, 6013 State Street\, Huntington Park\, CA\, 90255\, United States
END:VEVENT
BEGIN:VEVENT
DTSTART;TZID=America/Los_Angeles:20281128T110000
DTEND;TZID=America/Los_Angeles:20281128T120000
DTSTAMP:20260423T014812
CREATED:20260115T032221Z
LAST-MODIFIED:20260115T032628Z
UID:10004702-1859022000-1859025600@esrbc.org
SUMMARY:Watts - Food Distribution Every Tuesday
DESCRIPTION:
URL:https://esrbc.org/event/watts-food-distribution-every-tuesday/2028-11-28/
LOCATION:Watts Civic Center\, 1513\, Los Angeles\, CA\, 90002\, United States
END:VEVENT
BEGIN:VEVENT
DTSTART;TZID=America/Los_Angeles:20281128T140000
DTEND;TZID=America/Los_Angeles:20281128T180000
DTSTAMP:20260423T014812
CREATED:20260115T034104Z
LAST-MODIFIED:20260115T034140Z
UID:10007183-1859032800-1859047200@esrbc.org
SUMMARY:Huntington Park - After School Program (Tues.)
DESCRIPTION:
URL:https://esrbc.org/event/huntington-park-after-school-program-tues/2028-11-28/
LOCATION:ESRBC H.P. Office\, 6013 State Street\, Huntington Park\, CA\, 90255\, United States
END:VEVENT
BEGIN:VEVENT
DTSTART;TZID=America/Los_Angeles:20281129T150000
DTEND;TZID=America/Los_Angeles:20281129T180000
DTSTAMP:20260423T014812
CREATED:20260115T033113Z
LAST-MODIFIED:20260115T033311Z
UID:10003816-1859122800-1859133600@esrbc.org
SUMMARY:Huntington Park - After School Program (Wed.)
DESCRIPTION:
URL:https://esrbc.org/event/huntington-park-after-school-program-2-2/2028-11-29/
LOCATION:ESRBC H.P. Office\, 6013 State Street\, Huntington Park\, CA\, 90255\, United States
END:VEVENT
BEGIN:VEVENT
DTSTART;TZID=America/Los_Angeles:20281130T150000
DTEND;TZID=America/Los_Angeles:20281130T180000
DTSTAMP:20260423T014812
CREATED:20260115T033402Z
LAST-MODIFIED:20260115T033402Z
UID:10005823-1859209200-1859220000@esrbc.org
SUMMARY:Huntington Park - After School Program (Thur.)
DESCRIPTION:
URL:https://esrbc.org/event/huntington-park-after-school-program-thur/2028-11-30/
LOCATION:ESRBC H.P. Office\, 6013 State Street\, Huntington Park\, CA\, 90255\, United States
END:VEVENT
BEGIN:VEVENT
DTSTART;TZID=America/Los_Angeles:20281201T180000
DTEND;TZID=America/Los_Angeles:20281201T200000
DTSTAMP:20260423T014812
CREATED:20260115T033649Z
LAST-MODIFIED:20260115T033649Z
UID:10006487-1859306400-1859313600@esrbc.org
SUMMARY:Friday Night Bike Ride
DESCRIPTION:
URL:https://esrbc.org/event/friday-night-bike-ride-2/2028-12-01/
LOCATION:ESRBC H.P. Office\, 6013 State Street\, Huntington Park\, CA\, 90255\, United States
END:VEVENT
BEGIN:VEVENT
DTSTART;TZID=America/Los_Angeles:20281205T110000
DTEND;TZID=America/Los_Angeles:20281205T120000
DTSTAMP:20260423T014812
CREATED:20260115T032221Z
LAST-MODIFIED:20260115T032628Z
UID:10004703-1859626800-1859630400@esrbc.org
SUMMARY:Watts - Food Distribution Every Tuesday
DESCRIPTION:
URL:https://esrbc.org/event/watts-food-distribution-every-tuesday/2028-12-05/
LOCATION:Watts Civic Center\, 1513\, Los Angeles\, CA\, 90002\, United States
END:VEVENT
BEGIN:VEVENT
DTSTART;TZID=America/Los_Angeles:20281205T140000
DTEND;TZID=America/Los_Angeles:20281205T180000
DTSTAMP:20260423T014812
CREATED:20260115T034104Z
LAST-MODIFIED:20260115T034140Z
UID:10007184-1859637600-1859652000@esrbc.org
SUMMARY:Huntington Park - After School Program (Tues.)
DESCRIPTION:
URL:https://esrbc.org/event/huntington-park-after-school-program-tues/2028-12-05/
LOCATION:ESRBC H.P. Office\, 6013 State Street\, Huntington Park\, CA\, 90255\, United States
END:VEVENT
BEGIN:VEVENT
DTSTART;TZID=America/Los_Angeles:20281206T150000
DTEND;TZID=America/Los_Angeles:20281206T180000
DTSTAMP:20260423T014812
CREATED:20260115T033113Z
LAST-MODIFIED:20260115T033311Z
UID:10003819-1859727600-1859738400@esrbc.org
SUMMARY:Huntington Park - After School Program (Wed.)
DESCRIPTION:
URL:https://esrbc.org/event/huntington-park-after-school-program-2-2/2028-12-06/
LOCATION:ESRBC H.P. Office\, 6013 State Street\, Huntington Park\, CA\, 90255\, United States
END:VEVENT
BEGIN:VEVENT
DTSTART;TZID=America/Los_Angeles:20281207T150000
DTEND;TZID=America/Los_Angeles:20281207T180000
DTSTAMP:20260423T014812
CREATED:20260115T033402Z
LAST-MODIFIED:20260115T033402Z
UID:10005824-1859814000-1859824800@esrbc.org
SUMMARY:Huntington Park - After School Program (Thur.)
DESCRIPTION:
URL:https://esrbc.org/event/huntington-park-after-school-program-thur/2028-12-07/
LOCATION:ESRBC H.P. Office\, 6013 State Street\, Huntington Park\, CA\, 90255\, United States
END:VEVENT
BEGIN:VEVENT
DTSTART;TZID=America/Los_Angeles:20281212T110000
DTEND;TZID=America/Los_Angeles:20281212T120000
DTSTAMP:20260423T014812
CREATED:20260115T032221Z
LAST-MODIFIED:20260115T032628Z
UID:10004704-1860231600-1860235200@esrbc.org
SUMMARY:Watts - Food Distribution Every Tuesday
DESCRIPTION:
URL:https://esrbc.org/event/watts-food-distribution-every-tuesday/2028-12-12/
LOCATION:Watts Civic Center\, 1513\, Los Angeles\, CA\, 90002\, United States
END:VEVENT
BEGIN:VEVENT
DTSTART;TZID=America/Los_Angeles:20281212T140000
DTEND;TZID=America/Los_Angeles:20281212T180000
DTSTAMP:20260423T014812
CREATED:20260115T034104Z
LAST-MODIFIED:20260115T034140Z
UID:10007185-1860242400-1860256800@esrbc.org
SUMMARY:Huntington Park - After School Program (Tues.)
DESCRIPTION:
URL:https://esrbc.org/event/huntington-park-after-school-program-tues/2028-12-12/
LOCATION:ESRBC H.P. Office\, 6013 State Street\, Huntington Park\, CA\, 90255\, United States
END:VEVENT
BEGIN:VEVENT
DTSTART;TZID=America/Los_Angeles:20281213T150000
DTEND;TZID=America/Los_Angeles:20281213T180000
DTSTAMP:20260423T014812
CREATED:20260115T033113Z
LAST-MODIFIED:20260115T033311Z
UID:10003822-1860332400-1860343200@esrbc.org
SUMMARY:Huntington Park - After School Program (Wed.)
DESCRIPTION:
URL:https://esrbc.org/event/huntington-park-after-school-program-2-2/2028-12-13/
LOCATION:ESRBC H.P. Office\, 6013 State Street\, Huntington Park\, CA\, 90255\, United States
END:VEVENT
BEGIN:VEVENT
DTSTART;TZID=America/Los_Angeles:20281214T150000
DTEND;TZID=America/Los_Angeles:20281214T180000
DTSTAMP:20260423T014812
CREATED:20260115T033402Z
LAST-MODIFIED:20260115T033402Z
UID:10005825-1860418800-1860429600@esrbc.org
SUMMARY:Huntington Park - After School Program (Thur.)
DESCRIPTION:
URL:https://esrbc.org/event/huntington-park-after-school-program-thur/2028-12-14/
LOCATION:ESRBC H.P. Office\, 6013 State Street\, Huntington Park\, CA\, 90255\, United States
END:VEVENT
BEGIN:VEVENT
DTSTART;TZID=America/Los_Angeles:20281219T110000
DTEND;TZID=America/Los_Angeles:20281219T120000
DTSTAMP:20260423T014812
CREATED:20260115T032221Z
LAST-MODIFIED:20260115T032628Z
UID:10004705-1860836400-1860840000@esrbc.org
SUMMARY:Watts - Food Distribution Every Tuesday
DESCRIPTION:
URL:https://esrbc.org/event/watts-food-distribution-every-tuesday/2028-12-19/
LOCATION:Watts Civic Center\, 1513\, Los Angeles\, CA\, 90002\, United States
END:VEVENT
BEGIN:VEVENT
DTSTART;TZID=America/Los_Angeles:20281219T140000
DTEND;TZID=America/Los_Angeles:20281219T180000
DTSTAMP:20260423T014812
CREATED:20260115T034104Z
LAST-MODIFIED:20260115T034140Z
UID:10007186-1860847200-1860861600@esrbc.org
SUMMARY:Huntington Park - After School Program (Tues.)
DESCRIPTION:
URL:https://esrbc.org/event/huntington-park-after-school-program-tues/2028-12-19/
LOCATION:ESRBC H.P. Office\, 6013 State Street\, Huntington Park\, CA\, 90255\, United States
END:VEVENT
BEGIN:VEVENT
DTSTART;TZID=America/Los_Angeles:20281220T150000
DTEND;TZID=America/Los_Angeles:20281220T180000
DTSTAMP:20260423T014812
CREATED:20260115T033113Z
LAST-MODIFIED:20260115T033311Z
UID:10003825-1860937200-1860948000@esrbc.org
SUMMARY:Huntington Park - After School Program (Wed.)
DESCRIPTION:
URL:https://esrbc.org/event/huntington-park-after-school-program-2-2/2028-12-20/
LOCATION:ESRBC H.P. Office\, 6013 State Street\, Huntington Park\, CA\, 90255\, United States
END:VEVENT
BEGIN:VEVENT
DTSTART;TZID=America/Los_Angeles:20281221T150000
DTEND;TZID=America/Los_Angeles:20281221T180000
DTSTAMP:20260423T014812
CREATED:20260115T033402Z
LAST-MODIFIED:20260115T033402Z
UID:10005826-1861023600-1861034400@esrbc.org
SUMMARY:Huntington Park - After School Program (Thur.)
DESCRIPTION:
URL:https://esrbc.org/event/huntington-park-after-school-program-thur/2028-12-21/
LOCATION:ESRBC H.P. Office\, 6013 State Street\, Huntington Park\, CA\, 90255\, United States
END:VEVENT
BEGIN:VEVENT
DTSTART;TZID=America/Los_Angeles:20281226T110000
DTEND;TZID=America/Los_Angeles:20281226T120000
DTSTAMP:20260423T014812
CREATED:20260115T032221Z
LAST-MODIFIED:20260115T032628Z
UID:10004706-1861441200-1861444800@esrbc.org
SUMMARY:Watts - Food Distribution Every Tuesday
DESCRIPTION:
URL:https://esrbc.org/event/watts-food-distribution-every-tuesday/2028-12-26/
LOCATION:Watts Civic Center\, 1513\, Los Angeles\, CA\, 90002\, United States
END:VEVENT
BEGIN:VEVENT
DTSTART;TZID=America/Los_Angeles:20281226T140000
DTEND;TZID=America/Los_Angeles:20281226T180000
DTSTAMP:20260423T014812
CREATED:20260115T034104Z
LAST-MODIFIED:20260115T034140Z
UID:10007187-1861452000-1861466400@esrbc.org
SUMMARY:Huntington Park - After School Program (Tues.)
DESCRIPTION:
URL:https://esrbc.org/event/huntington-park-after-school-program-tues/2028-12-26/
LOCATION:ESRBC H.P. Office\, 6013 State Street\, Huntington Park\, CA\, 90255\, United States
END:VEVENT
BEGIN:VEVENT
DTSTART;TZID=America/Los_Angeles:20281227T150000
DTEND;TZID=America/Los_Angeles:20281227T180000
DTSTAMP:20260423T014812
CREATED:20260115T033113Z
LAST-MODIFIED:20260115T033311Z
UID:10003828-1861542000-1861552800@esrbc.org
SUMMARY:Huntington Park - After School Program (Wed.)
DESCRIPTION:
URL:https://esrbc.org/event/huntington-park-after-school-program-2-2/2028-12-27/
LOCATION:ESRBC H.P. Office\, 6013 State Street\, Huntington Park\, CA\, 90255\, United States
END:VEVENT
END:VCALENDAR