BEGIN:VCALENDAR
VERSION:2.0
PRODID:-//East Side Riders Bike Club - ECPv6.15.20//NONSGML v1.0//EN
CALSCALE:GREGORIAN
METHOD:PUBLISH
X-ORIGINAL-URL:https://esrbc.org
X-WR-CALDESC:Events for East Side Riders Bike Club
REFRESH-INTERVAL;VALUE=DURATION:PT1H
X-Robots-Tag:noindex
X-PUBLISHED-TTL:PT1H
BEGIN:VTIMEZONE
TZID:America/Los_Angeles
BEGIN:DAYLIGHT
TZOFFSETFROM:-0800
TZOFFSETTO:-0700
TZNAME:PDT
DTSTART:20280312T100000
END:DAYLIGHT
BEGIN:STANDARD
TZOFFSETFROM:-0700
TZOFFSETTO:-0800
TZNAME:PST
DTSTART:20281105T090000
END:STANDARD
BEGIN:DAYLIGHT
TZOFFSETFROM:-0800
TZOFFSETTO:-0700
TZNAME:PDT
DTSTART:20290311T100000
END:DAYLIGHT
BEGIN:STANDARD
TZOFFSETFROM:-0700
TZOFFSETTO:-0800
TZNAME:PST
DTSTART:20291104T090000
END:STANDARD
BEGIN:DAYLIGHT
TZOFFSETFROM:-0800
TZOFFSETTO:-0700
TZNAME:PDT
DTSTART:20300310T100000
END:DAYLIGHT
BEGIN:STANDARD
TZOFFSETFROM:-0700
TZOFFSETTO:-0800
TZNAME:PST
DTSTART:20301103T090000
END:STANDARD
END:VTIMEZONE
BEGIN:VEVENT
DTSTART;TZID=America/Los_Angeles:20290313T140000
DTEND;TZID=America/Los_Angeles:20290313T180000
DTSTAMP:20260423T120921
CREATED:20260115T034104Z
LAST-MODIFIED:20260115T034140Z
UID:10007198-1868104800-1868119200@esrbc.org
SUMMARY:Huntington Park - After School Program (Tues.)
DESCRIPTION:
URL:https://esrbc.org/event/huntington-park-after-school-program-tues/2029-03-13/
LOCATION:ESRBC H.P. Office\, 6013 State Street\, Huntington Park\, CA\, 90255\, United States
END:VEVENT
BEGIN:VEVENT
DTSTART;TZID=America/Los_Angeles:20290314T150000
DTEND;TZID=America/Los_Angeles:20290314T180000
DTSTAMP:20260423T120921
CREATED:20260115T033113Z
LAST-MODIFIED:20260115T033311Z
UID:10003861-1868194800-1868205600@esrbc.org
SUMMARY:Huntington Park - After School Program (Wed.)
DESCRIPTION:
URL:https://esrbc.org/event/huntington-park-after-school-program-2-2/2029-03-14/
LOCATION:ESRBC H.P. Office\, 6013 State Street\, Huntington Park\, CA\, 90255\, United States
END:VEVENT
BEGIN:VEVENT
DTSTART;TZID=America/Los_Angeles:20290315T150000
DTEND;TZID=America/Los_Angeles:20290315T180000
DTSTAMP:20260423T120921
CREATED:20260115T033402Z
LAST-MODIFIED:20260115T033402Z
UID:10005838-1868281200-1868292000@esrbc.org
SUMMARY:Huntington Park - After School Program (Thur.)
DESCRIPTION:
URL:https://esrbc.org/event/huntington-park-after-school-program-thur/2029-03-15/
LOCATION:ESRBC H.P. Office\, 6013 State Street\, Huntington Park\, CA\, 90255\, United States
END:VEVENT
BEGIN:VEVENT
DTSTART;TZID=America/Los_Angeles:20290320T110000
DTEND;TZID=America/Los_Angeles:20290320T120000
DTSTAMP:20260423T120921
CREATED:20260115T032221Z
LAST-MODIFIED:20260115T032628Z
UID:10004718-1868698800-1868702400@esrbc.org
SUMMARY:Watts - Food Distribution Every Tuesday
DESCRIPTION:
URL:https://esrbc.org/event/watts-food-distribution-every-tuesday/2029-03-20/
LOCATION:Watts Civic Center\, 1513\, Los Angeles\, CA\, 90002\, United States
END:VEVENT
BEGIN:VEVENT
DTSTART;TZID=America/Los_Angeles:20290320T140000
DTEND;TZID=America/Los_Angeles:20290320T180000
DTSTAMP:20260423T120921
CREATED:20260115T034104Z
LAST-MODIFIED:20260115T034140Z
UID:10007199-1868709600-1868724000@esrbc.org
SUMMARY:Huntington Park - After School Program (Tues.)
DESCRIPTION:
URL:https://esrbc.org/event/huntington-park-after-school-program-tues/2029-03-20/
LOCATION:ESRBC H.P. Office\, 6013 State Street\, Huntington Park\, CA\, 90255\, United States
END:VEVENT
BEGIN:VEVENT
DTSTART;TZID=America/Los_Angeles:20290321T150000
DTEND;TZID=America/Los_Angeles:20290321T180000
DTSTAMP:20260423T120921
CREATED:20260115T033113Z
LAST-MODIFIED:20260115T033311Z
UID:10003864-1868799600-1868810400@esrbc.org
SUMMARY:Huntington Park - After School Program (Wed.)
DESCRIPTION:
URL:https://esrbc.org/event/huntington-park-after-school-program-2-2/2029-03-21/
LOCATION:ESRBC H.P. Office\, 6013 State Street\, Huntington Park\, CA\, 90255\, United States
END:VEVENT
BEGIN:VEVENT
DTSTART;TZID=America/Los_Angeles:20290322T150000
DTEND;TZID=America/Los_Angeles:20290322T180000
DTSTAMP:20260423T120921
CREATED:20260115T033402Z
LAST-MODIFIED:20260115T033402Z
UID:10005839-1868886000-1868896800@esrbc.org
SUMMARY:Huntington Park - After School Program (Thur.)
DESCRIPTION:
URL:https://esrbc.org/event/huntington-park-after-school-program-thur/2029-03-22/
LOCATION:ESRBC H.P. Office\, 6013 State Street\, Huntington Park\, CA\, 90255\, United States
END:VEVENT
BEGIN:VEVENT
DTSTART;TZID=America/Los_Angeles:20290327T110000
DTEND;TZID=America/Los_Angeles:20290327T120000
DTSTAMP:20260423T120921
CREATED:20260115T032221Z
LAST-MODIFIED:20260115T032628Z
UID:10004719-1869303600-1869307200@esrbc.org
SUMMARY:Watts - Food Distribution Every Tuesday
DESCRIPTION:
URL:https://esrbc.org/event/watts-food-distribution-every-tuesday/2029-03-27/
LOCATION:Watts Civic Center\, 1513\, Los Angeles\, CA\, 90002\, United States
END:VEVENT
BEGIN:VEVENT
DTSTART;TZID=America/Los_Angeles:20290327T140000
DTEND;TZID=America/Los_Angeles:20290327T180000
DTSTAMP:20260423T120921
CREATED:20260115T034104Z
LAST-MODIFIED:20260115T034140Z
UID:10007200-1869314400-1869328800@esrbc.org
SUMMARY:Huntington Park - After School Program (Tues.)
DESCRIPTION:
URL:https://esrbc.org/event/huntington-park-after-school-program-tues/2029-03-27/
LOCATION:ESRBC H.P. Office\, 6013 State Street\, Huntington Park\, CA\, 90255\, United States
END:VEVENT
BEGIN:VEVENT
DTSTART;TZID=America/Los_Angeles:20290328T150000
DTEND;TZID=America/Los_Angeles:20290328T180000
DTSTAMP:20260423T120921
CREATED:20260115T033113Z
LAST-MODIFIED:20260115T033311Z
UID:10003867-1869404400-1869415200@esrbc.org
SUMMARY:Huntington Park - After School Program (Wed.)
DESCRIPTION:
URL:https://esrbc.org/event/huntington-park-after-school-program-2-2/2029-03-28/
LOCATION:ESRBC H.P. Office\, 6013 State Street\, Huntington Park\, CA\, 90255\, United States
END:VEVENT
BEGIN:VEVENT
DTSTART;TZID=America/Los_Angeles:20290329T150000
DTEND;TZID=America/Los_Angeles:20290329T180000
DTSTAMP:20260423T120921
CREATED:20260115T033402Z
LAST-MODIFIED:20260115T033402Z
UID:10005840-1869490800-1869501600@esrbc.org
SUMMARY:Huntington Park - After School Program (Thur.)
DESCRIPTION:
URL:https://esrbc.org/event/huntington-park-after-school-program-thur/2029-03-29/
LOCATION:ESRBC H.P. Office\, 6013 State Street\, Huntington Park\, CA\, 90255\, United States
END:VEVENT
BEGIN:VEVENT
DTSTART;TZID=America/Los_Angeles:20290403T110000
DTEND;TZID=America/Los_Angeles:20290403T120000
DTSTAMP:20260423T120921
CREATED:20260115T032221Z
LAST-MODIFIED:20260115T032628Z
UID:10004720-1869908400-1869912000@esrbc.org
SUMMARY:Watts - Food Distribution Every Tuesday
DESCRIPTION:
URL:https://esrbc.org/event/watts-food-distribution-every-tuesday/2029-04-03/
LOCATION:Watts Civic Center\, 1513\, Los Angeles\, CA\, 90002\, United States
END:VEVENT
BEGIN:VEVENT
DTSTART;TZID=America/Los_Angeles:20290403T140000
DTEND;TZID=America/Los_Angeles:20290403T180000
DTSTAMP:20260423T120921
CREATED:20260115T034104Z
LAST-MODIFIED:20260115T034140Z
UID:10007201-1869919200-1869933600@esrbc.org
SUMMARY:Huntington Park - After School Program (Tues.)
DESCRIPTION:
URL:https://esrbc.org/event/huntington-park-after-school-program-tues/2029-04-03/
LOCATION:ESRBC H.P. Office\, 6013 State Street\, Huntington Park\, CA\, 90255\, United States
END:VEVENT
BEGIN:VEVENT
DTSTART;TZID=America/Los_Angeles:20290404T150000
DTEND;TZID=America/Los_Angeles:20290404T180000
DTSTAMP:20260423T120921
CREATED:20260115T033113Z
LAST-MODIFIED:20260115T033311Z
UID:10003870-1870009200-1870020000@esrbc.org
SUMMARY:Huntington Park - After School Program (Wed.)
DESCRIPTION:
URL:https://esrbc.org/event/huntington-park-after-school-program-2-2/2029-04-04/
LOCATION:ESRBC H.P. Office\, 6013 State Street\, Huntington Park\, CA\, 90255\, United States
END:VEVENT
BEGIN:VEVENT
DTSTART;TZID=America/Los_Angeles:20290405T150000
DTEND;TZID=America/Los_Angeles:20290405T180000
DTSTAMP:20260423T120921
CREATED:20260115T033402Z
LAST-MODIFIED:20260115T033402Z
UID:10005841-1870095600-1870106400@esrbc.org
SUMMARY:Huntington Park - After School Program (Thur.)
DESCRIPTION:
URL:https://esrbc.org/event/huntington-park-after-school-program-thur/2029-04-05/
LOCATION:ESRBC H.P. Office\, 6013 State Street\, Huntington Park\, CA\, 90255\, United States
END:VEVENT
BEGIN:VEVENT
DTSTART;TZID=America/Los_Angeles:20290406T180000
DTEND;TZID=America/Los_Angeles:20290406T200000
DTSTAMP:20260423T120921
CREATED:20260115T033649Z
LAST-MODIFIED:20260115T033649Z
UID:10006491-1870192800-1870200000@esrbc.org
SUMMARY:Friday Night Bike Ride
DESCRIPTION:
URL:https://esrbc.org/event/friday-night-bike-ride-2/2029-04-06/
LOCATION:ESRBC H.P. Office\, 6013 State Street\, Huntington Park\, CA\, 90255\, United States
END:VEVENT
BEGIN:VEVENT
DTSTART;TZID=America/Los_Angeles:20290410T110000
DTEND;TZID=America/Los_Angeles:20290410T120000
DTSTAMP:20260423T120921
CREATED:20260115T032221Z
LAST-MODIFIED:20260115T032628Z
UID:10004721-1870513200-1870516800@esrbc.org
SUMMARY:Watts - Food Distribution Every Tuesday
DESCRIPTION:
URL:https://esrbc.org/event/watts-food-distribution-every-tuesday/2029-04-10/
LOCATION:Watts Civic Center\, 1513\, Los Angeles\, CA\, 90002\, United States
END:VEVENT
BEGIN:VEVENT
DTSTART;TZID=America/Los_Angeles:20290410T140000
DTEND;TZID=America/Los_Angeles:20290410T180000
DTSTAMP:20260423T120921
CREATED:20260115T034104Z
LAST-MODIFIED:20260115T034140Z
UID:10007202-1870524000-1870538400@esrbc.org
SUMMARY:Huntington Park - After School Program (Tues.)
DESCRIPTION:
URL:https://esrbc.org/event/huntington-park-after-school-program-tues/2029-04-10/
LOCATION:ESRBC H.P. Office\, 6013 State Street\, Huntington Park\, CA\, 90255\, United States
END:VEVENT
BEGIN:VEVENT
DTSTART;TZID=America/Los_Angeles:20290411T150000
DTEND;TZID=America/Los_Angeles:20290411T180000
DTSTAMP:20260423T120921
CREATED:20260115T033113Z
LAST-MODIFIED:20260115T033311Z
UID:10003873-1870614000-1870624800@esrbc.org
SUMMARY:Huntington Park - After School Program (Wed.)
DESCRIPTION:
URL:https://esrbc.org/event/huntington-park-after-school-program-2-2/2029-04-11/
LOCATION:ESRBC H.P. Office\, 6013 State Street\, Huntington Park\, CA\, 90255\, United States
END:VEVENT
BEGIN:VEVENT
DTSTART;TZID=America/Los_Angeles:20290412T150000
DTEND;TZID=America/Los_Angeles:20290412T180000
DTSTAMP:20260423T120921
CREATED:20260115T033402Z
LAST-MODIFIED:20260115T033402Z
UID:10005842-1870700400-1870711200@esrbc.org
SUMMARY:Huntington Park - After School Program (Thur.)
DESCRIPTION:
URL:https://esrbc.org/event/huntington-park-after-school-program-thur/2029-04-12/
LOCATION:ESRBC H.P. Office\, 6013 State Street\, Huntington Park\, CA\, 90255\, United States
END:VEVENT
BEGIN:VEVENT
DTSTART;TZID=America/Los_Angeles:20290417T110000
DTEND;TZID=America/Los_Angeles:20290417T120000
DTSTAMP:20260423T120921
CREATED:20260115T032221Z
LAST-MODIFIED:20260115T032628Z
UID:10004722-1871118000-1871121600@esrbc.org
SUMMARY:Watts - Food Distribution Every Tuesday
DESCRIPTION:
URL:https://esrbc.org/event/watts-food-distribution-every-tuesday/2029-04-17/
LOCATION:Watts Civic Center\, 1513\, Los Angeles\, CA\, 90002\, United States
END:VEVENT
BEGIN:VEVENT
DTSTART;TZID=America/Los_Angeles:20290417T140000
DTEND;TZID=America/Los_Angeles:20290417T180000
DTSTAMP:20260423T120921
CREATED:20260115T034104Z
LAST-MODIFIED:20260115T034140Z
UID:10007203-1871128800-1871143200@esrbc.org
SUMMARY:Huntington Park - After School Program (Tues.)
DESCRIPTION:
URL:https://esrbc.org/event/huntington-park-after-school-program-tues/2029-04-17/
LOCATION:ESRBC H.P. Office\, 6013 State Street\, Huntington Park\, CA\, 90255\, United States
END:VEVENT
BEGIN:VEVENT
DTSTART;TZID=America/Los_Angeles:20290418T150000
DTEND;TZID=America/Los_Angeles:20290418T180000
DTSTAMP:20260423T120921
CREATED:20260115T033113Z
LAST-MODIFIED:20260115T033311Z
UID:10003876-1871218800-1871229600@esrbc.org
SUMMARY:Huntington Park - After School Program (Wed.)
DESCRIPTION:
URL:https://esrbc.org/event/huntington-park-after-school-program-2-2/2029-04-18/
LOCATION:ESRBC H.P. Office\, 6013 State Street\, Huntington Park\, CA\, 90255\, United States
END:VEVENT
BEGIN:VEVENT
DTSTART;TZID=America/Los_Angeles:20290419T150000
DTEND;TZID=America/Los_Angeles:20290419T180000
DTSTAMP:20260423T120921
CREATED:20260115T033402Z
LAST-MODIFIED:20260115T033402Z
UID:10005843-1871305200-1871316000@esrbc.org
SUMMARY:Huntington Park - After School Program (Thur.)
DESCRIPTION:
URL:https://esrbc.org/event/huntington-park-after-school-program-thur/2029-04-19/
LOCATION:ESRBC H.P. Office\, 6013 State Street\, Huntington Park\, CA\, 90255\, United States
END:VEVENT
BEGIN:VEVENT
DTSTART;TZID=America/Los_Angeles:20290424T110000
DTEND;TZID=America/Los_Angeles:20290424T120000
DTSTAMP:20260423T120921
CREATED:20260115T032221Z
LAST-MODIFIED:20260115T032628Z
UID:10004723-1871722800-1871726400@esrbc.org
SUMMARY:Watts - Food Distribution Every Tuesday
DESCRIPTION:
URL:https://esrbc.org/event/watts-food-distribution-every-tuesday/2029-04-24/
LOCATION:Watts Civic Center\, 1513\, Los Angeles\, CA\, 90002\, United States
END:VEVENT
BEGIN:VEVENT
DTSTART;TZID=America/Los_Angeles:20290424T140000
DTEND;TZID=America/Los_Angeles:20290424T180000
DTSTAMP:20260423T120921
CREATED:20260115T034104Z
LAST-MODIFIED:20260115T034140Z
UID:10007204-1871733600-1871748000@esrbc.org
SUMMARY:Huntington Park - After School Program (Tues.)
DESCRIPTION:
URL:https://esrbc.org/event/huntington-park-after-school-program-tues/2029-04-24/
LOCATION:ESRBC H.P. Office\, 6013 State Street\, Huntington Park\, CA\, 90255\, United States
END:VEVENT
BEGIN:VEVENT
DTSTART;TZID=America/Los_Angeles:20290425T150000
DTEND;TZID=America/Los_Angeles:20290425T180000
DTSTAMP:20260423T120921
CREATED:20260115T033113Z
LAST-MODIFIED:20260115T033311Z
UID:10003879-1871823600-1871834400@esrbc.org
SUMMARY:Huntington Park - After School Program (Wed.)
DESCRIPTION:
URL:https://esrbc.org/event/huntington-park-after-school-program-2-2/2029-04-25/
LOCATION:ESRBC H.P. Office\, 6013 State Street\, Huntington Park\, CA\, 90255\, United States
END:VEVENT
BEGIN:VEVENT
DTSTART;TZID=America/Los_Angeles:20290426T150000
DTEND;TZID=America/Los_Angeles:20290426T180000
DTSTAMP:20260423T120921
CREATED:20260115T033402Z
LAST-MODIFIED:20260115T033402Z
UID:10005844-1871910000-1871920800@esrbc.org
SUMMARY:Huntington Park - After School Program (Thur.)
DESCRIPTION:
URL:https://esrbc.org/event/huntington-park-after-school-program-thur/2029-04-26/
LOCATION:ESRBC H.P. Office\, 6013 State Street\, Huntington Park\, CA\, 90255\, United States
END:VEVENT
BEGIN:VEVENT
DTSTART;TZID=America/Los_Angeles:20290501T110000
DTEND;TZID=America/Los_Angeles:20290501T120000
DTSTAMP:20260423T120921
CREATED:20260115T032221Z
LAST-MODIFIED:20260115T032628Z
UID:10004724-1872327600-1872331200@esrbc.org
SUMMARY:Watts - Food Distribution Every Tuesday
DESCRIPTION:
URL:https://esrbc.org/event/watts-food-distribution-every-tuesday/2029-05-01/
LOCATION:Watts Civic Center\, 1513\, Los Angeles\, CA\, 90002\, United States
END:VEVENT
BEGIN:VEVENT
DTSTART;TZID=America/Los_Angeles:20290501T140000
DTEND;TZID=America/Los_Angeles:20290501T180000
DTSTAMP:20260423T120921
CREATED:20260115T034104Z
LAST-MODIFIED:20260115T034140Z
UID:10007205-1872338400-1872352800@esrbc.org
SUMMARY:Huntington Park - After School Program (Tues.)
DESCRIPTION:
URL:https://esrbc.org/event/huntington-park-after-school-program-tues/2029-05-01/
LOCATION:ESRBC H.P. Office\, 6013 State Street\, Huntington Park\, CA\, 90255\, United States
END:VEVENT
END:VCALENDAR