BEGIN:VCALENDAR
VERSION:2.0
PRODID:-//East Side Riders Bike Club - ECPv6.15.20//NONSGML v1.0//EN
CALSCALE:GREGORIAN
METHOD:PUBLISH
X-ORIGINAL-URL:https://esrbc.org
X-WR-CALDESC:Events for East Side Riders Bike Club
REFRESH-INTERVAL;VALUE=DURATION:PT1H
X-Robots-Tag:noindex
X-PUBLISHED-TTL:PT1H
BEGIN:VTIMEZONE
TZID:America/Los_Angeles
BEGIN:DAYLIGHT
TZOFFSETFROM:-0800
TZOFFSETTO:-0700
TZNAME:PDT
DTSTART:20270314T100000
END:DAYLIGHT
BEGIN:STANDARD
TZOFFSETFROM:-0700
TZOFFSETTO:-0800
TZNAME:PST
DTSTART:20271107T090000
END:STANDARD
BEGIN:DAYLIGHT
TZOFFSETFROM:-0800
TZOFFSETTO:-0700
TZNAME:PDT
DTSTART:20280312T100000
END:DAYLIGHT
BEGIN:STANDARD
TZOFFSETFROM:-0700
TZOFFSETTO:-0800
TZNAME:PST
DTSTART:20281105T090000
END:STANDARD
BEGIN:DAYLIGHT
TZOFFSETFROM:-0800
TZOFFSETTO:-0700
TZNAME:PDT
DTSTART:20290311T100000
END:DAYLIGHT
BEGIN:STANDARD
TZOFFSETFROM:-0700
TZOFFSETTO:-0800
TZNAME:PST
DTSTART:20291104T090000
END:STANDARD
END:VTIMEZONE
BEGIN:VEVENT
DTSTART;TZID=America/Los_Angeles:20280914T150000
DTEND;TZID=America/Los_Angeles:20280914T180000
DTSTAMP:20260422T154858
CREATED:20260115T033402Z
LAST-MODIFIED:20260115T033402Z
UID:10005812-1852556400-1852567200@esrbc.org
SUMMARY:Huntington Park - After School Program (Thur.)
DESCRIPTION:
URL:https://esrbc.org/event/huntington-park-after-school-program-thur/2028-09-14/
LOCATION:ESRBC H.P. Office\, 6013 State Street\, Huntington Park\, CA\, 90255\, United States
END:VEVENT
BEGIN:VEVENT
DTSTART;TZID=America/Los_Angeles:20280919T110000
DTEND;TZID=America/Los_Angeles:20280919T120000
DTSTAMP:20260422T154858
CREATED:20260115T032221Z
LAST-MODIFIED:20260115T032628Z
UID:10004692-1852974000-1852977600@esrbc.org
SUMMARY:Watts - Food Distribution Every Tuesday
DESCRIPTION:
URL:https://esrbc.org/event/watts-food-distribution-every-tuesday/2028-09-19/
LOCATION:Watts Civic Center\, 1513\, Los Angeles\, CA\, 90002\, United States
END:VEVENT
BEGIN:VEVENT
DTSTART;TZID=America/Los_Angeles:20280919T140000
DTEND;TZID=America/Los_Angeles:20280919T180000
DTSTAMP:20260422T154858
CREATED:20260115T034104Z
LAST-MODIFIED:20260115T034140Z
UID:10007173-1852984800-1852999200@esrbc.org
SUMMARY:Huntington Park - After School Program (Tues.)
DESCRIPTION:
URL:https://esrbc.org/event/huntington-park-after-school-program-tues/2028-09-19/
LOCATION:ESRBC H.P. Office\, 6013 State Street\, Huntington Park\, CA\, 90255\, United States
END:VEVENT
BEGIN:VEVENT
DTSTART;TZID=America/Los_Angeles:20280920T150000
DTEND;TZID=America/Los_Angeles:20280920T180000
DTSTAMP:20260422T154858
CREATED:20260115T033113Z
LAST-MODIFIED:20260115T033311Z
UID:10003786-1853074800-1853085600@esrbc.org
SUMMARY:Huntington Park - After School Program (Wed.)
DESCRIPTION:
URL:https://esrbc.org/event/huntington-park-after-school-program-2-2/2028-09-20/
LOCATION:ESRBC H.P. Office\, 6013 State Street\, Huntington Park\, CA\, 90255\, United States
END:VEVENT
BEGIN:VEVENT
DTSTART;TZID=America/Los_Angeles:20280921T150000
DTEND;TZID=America/Los_Angeles:20280921T180000
DTSTAMP:20260422T154858
CREATED:20260115T033402Z
LAST-MODIFIED:20260115T033402Z
UID:10005813-1853161200-1853172000@esrbc.org
SUMMARY:Huntington Park - After School Program (Thur.)
DESCRIPTION:
URL:https://esrbc.org/event/huntington-park-after-school-program-thur/2028-09-21/
LOCATION:ESRBC H.P. Office\, 6013 State Street\, Huntington Park\, CA\, 90255\, United States
END:VEVENT
BEGIN:VEVENT
DTSTART;TZID=America/Los_Angeles:20280926T110000
DTEND;TZID=America/Los_Angeles:20280926T120000
DTSTAMP:20260422T154858
CREATED:20260115T032221Z
LAST-MODIFIED:20260115T032628Z
UID:10004693-1853578800-1853582400@esrbc.org
SUMMARY:Watts - Food Distribution Every Tuesday
DESCRIPTION:
URL:https://esrbc.org/event/watts-food-distribution-every-tuesday/2028-09-26/
LOCATION:Watts Civic Center\, 1513\, Los Angeles\, CA\, 90002\, United States
END:VEVENT
BEGIN:VEVENT
DTSTART;TZID=America/Los_Angeles:20280926T140000
DTEND;TZID=America/Los_Angeles:20280926T180000
DTSTAMP:20260422T154858
CREATED:20260115T034104Z
LAST-MODIFIED:20260115T034140Z
UID:10007174-1853589600-1853604000@esrbc.org
SUMMARY:Huntington Park - After School Program (Tues.)
DESCRIPTION:
URL:https://esrbc.org/event/huntington-park-after-school-program-tues/2028-09-26/
LOCATION:ESRBC H.P. Office\, 6013 State Street\, Huntington Park\, CA\, 90255\, United States
END:VEVENT
BEGIN:VEVENT
DTSTART;TZID=America/Los_Angeles:20280927T150000
DTEND;TZID=America/Los_Angeles:20280927T180000
DTSTAMP:20260422T154858
CREATED:20260115T033113Z
LAST-MODIFIED:20260115T033311Z
UID:10003789-1853679600-1853690400@esrbc.org
SUMMARY:Huntington Park - After School Program (Wed.)
DESCRIPTION:
URL:https://esrbc.org/event/huntington-park-after-school-program-2-2/2028-09-27/
LOCATION:ESRBC H.P. Office\, 6013 State Street\, Huntington Park\, CA\, 90255\, United States
END:VEVENT
BEGIN:VEVENT
DTSTART;TZID=America/Los_Angeles:20280928T150000
DTEND;TZID=America/Los_Angeles:20280928T180000
DTSTAMP:20260422T154858
CREATED:20260115T033402Z
LAST-MODIFIED:20260115T033402Z
UID:10005814-1853766000-1853776800@esrbc.org
SUMMARY:Huntington Park - After School Program (Thur.)
DESCRIPTION:
URL:https://esrbc.org/event/huntington-park-after-school-program-thur/2028-09-28/
LOCATION:ESRBC H.P. Office\, 6013 State Street\, Huntington Park\, CA\, 90255\, United States
END:VEVENT
BEGIN:VEVENT
DTSTART;TZID=America/Los_Angeles:20281003T110000
DTEND;TZID=America/Los_Angeles:20281003T120000
DTSTAMP:20260422T154858
CREATED:20260115T032221Z
LAST-MODIFIED:20260115T032628Z
UID:10004694-1854183600-1854187200@esrbc.org
SUMMARY:Watts - Food Distribution Every Tuesday
DESCRIPTION:
URL:https://esrbc.org/event/watts-food-distribution-every-tuesday/2028-10-03/
LOCATION:Watts Civic Center\, 1513\, Los Angeles\, CA\, 90002\, United States
END:VEVENT
BEGIN:VEVENT
DTSTART;TZID=America/Los_Angeles:20281003T140000
DTEND;TZID=America/Los_Angeles:20281003T180000
DTSTAMP:20260422T154858
CREATED:20260115T034104Z
LAST-MODIFIED:20260115T034140Z
UID:10007175-1854194400-1854208800@esrbc.org
SUMMARY:Huntington Park - After School Program (Tues.)
DESCRIPTION:
URL:https://esrbc.org/event/huntington-park-after-school-program-tues/2028-10-03/
LOCATION:ESRBC H.P. Office\, 6013 State Street\, Huntington Park\, CA\, 90255\, United States
END:VEVENT
BEGIN:VEVENT
DTSTART;TZID=America/Los_Angeles:20281004T150000
DTEND;TZID=America/Los_Angeles:20281004T180000
DTSTAMP:20260422T154858
CREATED:20260115T033113Z
LAST-MODIFIED:20260115T033311Z
UID:10003792-1854284400-1854295200@esrbc.org
SUMMARY:Huntington Park - After School Program (Wed.)
DESCRIPTION:
URL:https://esrbc.org/event/huntington-park-after-school-program-2-2/2028-10-04/
LOCATION:ESRBC H.P. Office\, 6013 State Street\, Huntington Park\, CA\, 90255\, United States
END:VEVENT
BEGIN:VEVENT
DTSTART;TZID=America/Los_Angeles:20281005T150000
DTEND;TZID=America/Los_Angeles:20281005T180000
DTSTAMP:20260422T154858
CREATED:20260115T033402Z
LAST-MODIFIED:20260115T033402Z
UID:10005815-1854370800-1854381600@esrbc.org
SUMMARY:Huntington Park - After School Program (Thur.)
DESCRIPTION:
URL:https://esrbc.org/event/huntington-park-after-school-program-thur/2028-10-05/
LOCATION:ESRBC H.P. Office\, 6013 State Street\, Huntington Park\, CA\, 90255\, United States
END:VEVENT
BEGIN:VEVENT
DTSTART;TZID=America/Los_Angeles:20281006T180000
DTEND;TZID=America/Los_Angeles:20281006T200000
DTSTAMP:20260422T154858
CREATED:20260115T033649Z
LAST-MODIFIED:20260115T033649Z
UID:10006485-1854468000-1854475200@esrbc.org
SUMMARY:Friday Night Bike Ride
DESCRIPTION:
URL:https://esrbc.org/event/friday-night-bike-ride-2/2028-10-06/
LOCATION:ESRBC H.P. Office\, 6013 State Street\, Huntington Park\, CA\, 90255\, United States
END:VEVENT
BEGIN:VEVENT
DTSTART;TZID=America/Los_Angeles:20281010T110000
DTEND;TZID=America/Los_Angeles:20281010T120000
DTSTAMP:20260422T154858
CREATED:20260115T032221Z
LAST-MODIFIED:20260115T032628Z
UID:10004695-1854788400-1854792000@esrbc.org
SUMMARY:Watts - Food Distribution Every Tuesday
DESCRIPTION:
URL:https://esrbc.org/event/watts-food-distribution-every-tuesday/2028-10-10/
LOCATION:Watts Civic Center\, 1513\, Los Angeles\, CA\, 90002\, United States
END:VEVENT
BEGIN:VEVENT
DTSTART;TZID=America/Los_Angeles:20281010T140000
DTEND;TZID=America/Los_Angeles:20281010T180000
DTSTAMP:20260422T154858
CREATED:20260115T034104Z
LAST-MODIFIED:20260115T034140Z
UID:10007176-1854799200-1854813600@esrbc.org
SUMMARY:Huntington Park - After School Program (Tues.)
DESCRIPTION:
URL:https://esrbc.org/event/huntington-park-after-school-program-tues/2028-10-10/
LOCATION:ESRBC H.P. Office\, 6013 State Street\, Huntington Park\, CA\, 90255\, United States
END:VEVENT
BEGIN:VEVENT
DTSTART;TZID=America/Los_Angeles:20281011T150000
DTEND;TZID=America/Los_Angeles:20281011T180000
DTSTAMP:20260422T154858
CREATED:20260115T033113Z
LAST-MODIFIED:20260115T033311Z
UID:10003795-1854889200-1854900000@esrbc.org
SUMMARY:Huntington Park - After School Program (Wed.)
DESCRIPTION:
URL:https://esrbc.org/event/huntington-park-after-school-program-2-2/2028-10-11/
LOCATION:ESRBC H.P. Office\, 6013 State Street\, Huntington Park\, CA\, 90255\, United States
END:VEVENT
BEGIN:VEVENT
DTSTART;TZID=America/Los_Angeles:20281012T150000
DTEND;TZID=America/Los_Angeles:20281012T180000
DTSTAMP:20260422T154858
CREATED:20260115T033402Z
LAST-MODIFIED:20260115T033402Z
UID:10005816-1854975600-1854986400@esrbc.org
SUMMARY:Huntington Park - After School Program (Thur.)
DESCRIPTION:
URL:https://esrbc.org/event/huntington-park-after-school-program-thur/2028-10-12/
LOCATION:ESRBC H.P. Office\, 6013 State Street\, Huntington Park\, CA\, 90255\, United States
END:VEVENT
BEGIN:VEVENT
DTSTART;TZID=America/Los_Angeles:20281017T110000
DTEND;TZID=America/Los_Angeles:20281017T120000
DTSTAMP:20260422T154858
CREATED:20260115T032221Z
LAST-MODIFIED:20260115T032628Z
UID:10004696-1855393200-1855396800@esrbc.org
SUMMARY:Watts - Food Distribution Every Tuesday
DESCRIPTION:
URL:https://esrbc.org/event/watts-food-distribution-every-tuesday/2028-10-17/
LOCATION:Watts Civic Center\, 1513\, Los Angeles\, CA\, 90002\, United States
END:VEVENT
BEGIN:VEVENT
DTSTART;TZID=America/Los_Angeles:20281017T140000
DTEND;TZID=America/Los_Angeles:20281017T180000
DTSTAMP:20260422T154858
CREATED:20260115T034104Z
LAST-MODIFIED:20260115T034140Z
UID:10007177-1855404000-1855418400@esrbc.org
SUMMARY:Huntington Park - After School Program (Tues.)
DESCRIPTION:
URL:https://esrbc.org/event/huntington-park-after-school-program-tues/2028-10-17/
LOCATION:ESRBC H.P. Office\, 6013 State Street\, Huntington Park\, CA\, 90255\, United States
END:VEVENT
BEGIN:VEVENT
DTSTART;TZID=America/Los_Angeles:20281018T150000
DTEND;TZID=America/Los_Angeles:20281018T180000
DTSTAMP:20260422T154858
CREATED:20260115T033113Z
LAST-MODIFIED:20260115T033311Z
UID:10003798-1855494000-1855504800@esrbc.org
SUMMARY:Huntington Park - After School Program (Wed.)
DESCRIPTION:
URL:https://esrbc.org/event/huntington-park-after-school-program-2-2/2028-10-18/
LOCATION:ESRBC H.P. Office\, 6013 State Street\, Huntington Park\, CA\, 90255\, United States
END:VEVENT
BEGIN:VEVENT
DTSTART;TZID=America/Los_Angeles:20281019T150000
DTEND;TZID=America/Los_Angeles:20281019T180000
DTSTAMP:20260422T154858
CREATED:20260115T033402Z
LAST-MODIFIED:20260115T033402Z
UID:10005817-1855580400-1855591200@esrbc.org
SUMMARY:Huntington Park - After School Program (Thur.)
DESCRIPTION:
URL:https://esrbc.org/event/huntington-park-after-school-program-thur/2028-10-19/
LOCATION:ESRBC H.P. Office\, 6013 State Street\, Huntington Park\, CA\, 90255\, United States
END:VEVENT
BEGIN:VEVENT
DTSTART;TZID=America/Los_Angeles:20281024T110000
DTEND;TZID=America/Los_Angeles:20281024T120000
DTSTAMP:20260422T154858
CREATED:20260115T032221Z
LAST-MODIFIED:20260115T032628Z
UID:10004697-1855998000-1856001600@esrbc.org
SUMMARY:Watts - Food Distribution Every Tuesday
DESCRIPTION:
URL:https://esrbc.org/event/watts-food-distribution-every-tuesday/2028-10-24/
LOCATION:Watts Civic Center\, 1513\, Los Angeles\, CA\, 90002\, United States
END:VEVENT
BEGIN:VEVENT
DTSTART;TZID=America/Los_Angeles:20281024T140000
DTEND;TZID=America/Los_Angeles:20281024T180000
DTSTAMP:20260422T154858
CREATED:20260115T034104Z
LAST-MODIFIED:20260115T034140Z
UID:10007178-1856008800-1856023200@esrbc.org
SUMMARY:Huntington Park - After School Program (Tues.)
DESCRIPTION:
URL:https://esrbc.org/event/huntington-park-after-school-program-tues/2028-10-24/
LOCATION:ESRBC H.P. Office\, 6013 State Street\, Huntington Park\, CA\, 90255\, United States
END:VEVENT
BEGIN:VEVENT
DTSTART;TZID=America/Los_Angeles:20281025T150000
DTEND;TZID=America/Los_Angeles:20281025T180000
DTSTAMP:20260422T154858
CREATED:20260115T033113Z
LAST-MODIFIED:20260115T033311Z
UID:10003801-1856098800-1856109600@esrbc.org
SUMMARY:Huntington Park - After School Program (Wed.)
DESCRIPTION:
URL:https://esrbc.org/event/huntington-park-after-school-program-2-2/2028-10-25/
LOCATION:ESRBC H.P. Office\, 6013 State Street\, Huntington Park\, CA\, 90255\, United States
END:VEVENT
BEGIN:VEVENT
DTSTART;TZID=America/Los_Angeles:20281026T150000
DTEND;TZID=America/Los_Angeles:20281026T180000
DTSTAMP:20260422T154858
CREATED:20260115T033402Z
LAST-MODIFIED:20260115T033402Z
UID:10005818-1856185200-1856196000@esrbc.org
SUMMARY:Huntington Park - After School Program (Thur.)
DESCRIPTION:
URL:https://esrbc.org/event/huntington-park-after-school-program-thur/2028-10-26/
LOCATION:ESRBC H.P. Office\, 6013 State Street\, Huntington Park\, CA\, 90255\, United States
END:VEVENT
BEGIN:VEVENT
DTSTART;TZID=America/Los_Angeles:20281031T110000
DTEND;TZID=America/Los_Angeles:20281031T120000
DTSTAMP:20260422T154858
CREATED:20260115T032221Z
LAST-MODIFIED:20260115T032628Z
UID:10004698-1856602800-1856606400@esrbc.org
SUMMARY:Watts - Food Distribution Every Tuesday
DESCRIPTION:
URL:https://esrbc.org/event/watts-food-distribution-every-tuesday/2028-10-31/
LOCATION:Watts Civic Center\, 1513\, Los Angeles\, CA\, 90002\, United States
END:VEVENT
BEGIN:VEVENT
DTSTART;TZID=America/Los_Angeles:20281031T140000
DTEND;TZID=America/Los_Angeles:20281031T180000
DTSTAMP:20260422T154858
CREATED:20260115T034104Z
LAST-MODIFIED:20260115T034140Z
UID:10007179-1856613600-1856628000@esrbc.org
SUMMARY:Huntington Park - After School Program (Tues.)
DESCRIPTION:
URL:https://esrbc.org/event/huntington-park-after-school-program-tues/2028-10-31/
LOCATION:ESRBC H.P. Office\, 6013 State Street\, Huntington Park\, CA\, 90255\, United States
END:VEVENT
BEGIN:VEVENT
DTSTART;TZID=America/Los_Angeles:20281101T150000
DTEND;TZID=America/Los_Angeles:20281101T180000
DTSTAMP:20260422T154858
CREATED:20260115T033113Z
LAST-MODIFIED:20260115T033311Z
UID:10003804-1856703600-1856714400@esrbc.org
SUMMARY:Huntington Park - After School Program (Wed.)
DESCRIPTION:
URL:https://esrbc.org/event/huntington-park-after-school-program-2-2/2028-11-01/
LOCATION:ESRBC H.P. Office\, 6013 State Street\, Huntington Park\, CA\, 90255\, United States
END:VEVENT
BEGIN:VEVENT
DTSTART;TZID=America/Los_Angeles:20281102T150000
DTEND;TZID=America/Los_Angeles:20281102T180000
DTSTAMP:20260422T154858
CREATED:20260115T033402Z
LAST-MODIFIED:20260115T033402Z
UID:10005819-1856790000-1856800800@esrbc.org
SUMMARY:Huntington Park - After School Program (Thur.)
DESCRIPTION:
URL:https://esrbc.org/event/huntington-park-after-school-program-thur/2028-11-02/
LOCATION:ESRBC H.P. Office\, 6013 State Street\, Huntington Park\, CA\, 90255\, United States
END:VEVENT
END:VCALENDAR