BEGIN:VCALENDAR
VERSION:2.0
PRODID:-//East Side Riders Bike Club - ECPv6.15.20//NONSGML v1.0//EN
CALSCALE:GREGORIAN
METHOD:PUBLISH
X-WR-CALNAME:East Side Riders Bike Club
X-ORIGINAL-URL:https://esrbc.org
X-WR-CALDESC:Events for East Side Riders Bike Club
REFRESH-INTERVAL;VALUE=DURATION:PT1H
X-Robots-Tag:noindex
X-PUBLISHED-TTL:PT1H
BEGIN:VTIMEZONE
TZID:America/Los_Angeles
BEGIN:DAYLIGHT
TZOFFSETFROM:-0800
TZOFFSETTO:-0700
TZNAME:PDT
DTSTART:20280312T100000
END:DAYLIGHT
BEGIN:STANDARD
TZOFFSETFROM:-0700
TZOFFSETTO:-0800
TZNAME:PST
DTSTART:20281105T090000
END:STANDARD
BEGIN:DAYLIGHT
TZOFFSETFROM:-0800
TZOFFSETTO:-0700
TZNAME:PDT
DTSTART:20290311T100000
END:DAYLIGHT
BEGIN:STANDARD
TZOFFSETFROM:-0700
TZOFFSETTO:-0800
TZNAME:PST
DTSTART:20291104T090000
END:STANDARD
BEGIN:DAYLIGHT
TZOFFSETFROM:-0800
TZOFFSETTO:-0700
TZNAME:PDT
DTSTART:20300310T100000
END:DAYLIGHT
BEGIN:STANDARD
TZOFFSETFROM:-0700
TZOFFSETTO:-0800
TZNAME:PST
DTSTART:20301103T090000
END:STANDARD
END:VTIMEZONE
BEGIN:VEVENT
DTSTART;TZID=America/Los_Angeles:20290530T150000
DTEND;TZID=America/Los_Angeles:20290530T180000
DTSTAMP:20260423T153451
CREATED:20260115T033113Z
LAST-MODIFIED:20260115T033311Z
UID:10003894-1874847600-1874858400@esrbc.org
SUMMARY:Huntington Park - After School Program (Wed.)
DESCRIPTION:
URL:https://esrbc.org/event/huntington-park-after-school-program-2-2/2029-05-30/
LOCATION:ESRBC H.P. Office\, 6013 State Street\, Huntington Park\, CA\, 90255\, United States
END:VEVENT
BEGIN:VEVENT
DTSTART;TZID=America/Los_Angeles:20290531T150000
DTEND;TZID=America/Los_Angeles:20290531T180000
DTSTAMP:20260423T153451
CREATED:20260115T033402Z
LAST-MODIFIED:20260115T033402Z
UID:10005849-1874934000-1874944800@esrbc.org
SUMMARY:Huntington Park - After School Program (Thur.)
DESCRIPTION:
URL:https://esrbc.org/event/huntington-park-after-school-program-thur/2029-05-31/
LOCATION:ESRBC H.P. Office\, 6013 State Street\, Huntington Park\, CA\, 90255\, United States
END:VEVENT
BEGIN:VEVENT
DTSTART;TZID=America/Los_Angeles:20290601T180000
DTEND;TZID=America/Los_Angeles:20290601T200000
DTSTAMP:20260423T153451
CREATED:20260115T033649Z
LAST-MODIFIED:20260115T033649Z
UID:10006493-1875031200-1875038400@esrbc.org
SUMMARY:Friday Night Bike Ride
DESCRIPTION:
URL:https://esrbc.org/event/friday-night-bike-ride-2/2029-06-01/
LOCATION:ESRBC H.P. Office\, 6013 State Street\, Huntington Park\, CA\, 90255\, United States
END:VEVENT
BEGIN:VEVENT
DTSTART;TZID=America/Los_Angeles:20290605T110000
DTEND;TZID=America/Los_Angeles:20290605T120000
DTSTAMP:20260423T153451
CREATED:20260115T032221Z
LAST-MODIFIED:20260115T032628Z
UID:10004729-1875351600-1875355200@esrbc.org
SUMMARY:Watts - Food Distribution Every Tuesday
DESCRIPTION:
URL:https://esrbc.org/event/watts-food-distribution-every-tuesday/2029-06-05/
LOCATION:Watts Civic Center\, 1513\, Los Angeles\, CA\, 90002\, United States
END:VEVENT
BEGIN:VEVENT
DTSTART;TZID=America/Los_Angeles:20290605T140000
DTEND;TZID=America/Los_Angeles:20290605T180000
DTSTAMP:20260423T153451
CREATED:20260115T034104Z
LAST-MODIFIED:20260115T034140Z
UID:10007210-1875362400-1875376800@esrbc.org
SUMMARY:Huntington Park - After School Program (Tues.)
DESCRIPTION:
URL:https://esrbc.org/event/huntington-park-after-school-program-tues/2029-06-05/
LOCATION:ESRBC H.P. Office\, 6013 State Street\, Huntington Park\, CA\, 90255\, United States
END:VEVENT
BEGIN:VEVENT
DTSTART;TZID=America/Los_Angeles:20290606T150000
DTEND;TZID=America/Los_Angeles:20290606T180000
DTSTAMP:20260423T153451
CREATED:20260115T033113Z
LAST-MODIFIED:20260115T033311Z
UID:10003897-1875452400-1875463200@esrbc.org
SUMMARY:Huntington Park - After School Program (Wed.)
DESCRIPTION:
URL:https://esrbc.org/event/huntington-park-after-school-program-2-2/2029-06-06/
LOCATION:ESRBC H.P. Office\, 6013 State Street\, Huntington Park\, CA\, 90255\, United States
END:VEVENT
BEGIN:VEVENT
DTSTART;TZID=America/Los_Angeles:20290607T150000
DTEND;TZID=America/Los_Angeles:20290607T180000
DTSTAMP:20260423T153451
CREATED:20260115T033402Z
LAST-MODIFIED:20260115T033402Z
UID:10005850-1875538800-1875549600@esrbc.org
SUMMARY:Huntington Park - After School Program (Thur.)
DESCRIPTION:
URL:https://esrbc.org/event/huntington-park-after-school-program-thur/2029-06-07/
LOCATION:ESRBC H.P. Office\, 6013 State Street\, Huntington Park\, CA\, 90255\, United States
END:VEVENT
BEGIN:VEVENT
DTSTART;TZID=America/Los_Angeles:20290612T110000
DTEND;TZID=America/Los_Angeles:20290612T120000
DTSTAMP:20260423T153451
CREATED:20260115T032221Z
LAST-MODIFIED:20260115T032628Z
UID:10004730-1875956400-1875960000@esrbc.org
SUMMARY:Watts - Food Distribution Every Tuesday
DESCRIPTION:
URL:https://esrbc.org/event/watts-food-distribution-every-tuesday/2029-06-12/
LOCATION:Watts Civic Center\, 1513\, Los Angeles\, CA\, 90002\, United States
END:VEVENT
BEGIN:VEVENT
DTSTART;TZID=America/Los_Angeles:20290612T140000
DTEND;TZID=America/Los_Angeles:20290612T180000
DTSTAMP:20260423T153451
CREATED:20260115T034104Z
LAST-MODIFIED:20260115T034140Z
UID:10007211-1875967200-1875981600@esrbc.org
SUMMARY:Huntington Park - After School Program (Tues.)
DESCRIPTION:
URL:https://esrbc.org/event/huntington-park-after-school-program-tues/2029-06-12/
LOCATION:ESRBC H.P. Office\, 6013 State Street\, Huntington Park\, CA\, 90255\, United States
END:VEVENT
BEGIN:VEVENT
DTSTART;TZID=America/Los_Angeles:20290613T150000
DTEND;TZID=America/Los_Angeles:20290613T180000
DTSTAMP:20260423T153451
CREATED:20260115T033113Z
LAST-MODIFIED:20260115T033311Z
UID:10003900-1876057200-1876068000@esrbc.org
SUMMARY:Huntington Park - After School Program (Wed.)
DESCRIPTION:
URL:https://esrbc.org/event/huntington-park-after-school-program-2-2/2029-06-13/
LOCATION:ESRBC H.P. Office\, 6013 State Street\, Huntington Park\, CA\, 90255\, United States
END:VEVENT
BEGIN:VEVENT
DTSTART;TZID=America/Los_Angeles:20290614T150000
DTEND;TZID=America/Los_Angeles:20290614T180000
DTSTAMP:20260423T153451
CREATED:20260115T033402Z
LAST-MODIFIED:20260115T033402Z
UID:10005851-1876143600-1876154400@esrbc.org
SUMMARY:Huntington Park - After School Program (Thur.)
DESCRIPTION:
URL:https://esrbc.org/event/huntington-park-after-school-program-thur/2029-06-14/
LOCATION:ESRBC H.P. Office\, 6013 State Street\, Huntington Park\, CA\, 90255\, United States
END:VEVENT
BEGIN:VEVENT
DTSTART;TZID=America/Los_Angeles:20290619T110000
DTEND;TZID=America/Los_Angeles:20290619T120000
DTSTAMP:20260423T153451
CREATED:20260115T032221Z
LAST-MODIFIED:20260115T032628Z
UID:10004731-1876561200-1876564800@esrbc.org
SUMMARY:Watts - Food Distribution Every Tuesday
DESCRIPTION:
URL:https://esrbc.org/event/watts-food-distribution-every-tuesday/2029-06-19/
LOCATION:Watts Civic Center\, 1513\, Los Angeles\, CA\, 90002\, United States
END:VEVENT
BEGIN:VEVENT
DTSTART;TZID=America/Los_Angeles:20290619T140000
DTEND;TZID=America/Los_Angeles:20290619T180000
DTSTAMP:20260423T153451
CREATED:20260115T034104Z
LAST-MODIFIED:20260115T034140Z
UID:10007212-1876572000-1876586400@esrbc.org
SUMMARY:Huntington Park - After School Program (Tues.)
DESCRIPTION:
URL:https://esrbc.org/event/huntington-park-after-school-program-tues/2029-06-19/
LOCATION:ESRBC H.P. Office\, 6013 State Street\, Huntington Park\, CA\, 90255\, United States
END:VEVENT
BEGIN:VEVENT
DTSTART;TZID=America/Los_Angeles:20290620T150000
DTEND;TZID=America/Los_Angeles:20290620T180000
DTSTAMP:20260423T153451
CREATED:20260115T033113Z
LAST-MODIFIED:20260115T033311Z
UID:10003903-1876662000-1876672800@esrbc.org
SUMMARY:Huntington Park - After School Program (Wed.)
DESCRIPTION:
URL:https://esrbc.org/event/huntington-park-after-school-program-2-2/2029-06-20/
LOCATION:ESRBC H.P. Office\, 6013 State Street\, Huntington Park\, CA\, 90255\, United States
END:VEVENT
BEGIN:VEVENT
DTSTART;TZID=America/Los_Angeles:20290621T150000
DTEND;TZID=America/Los_Angeles:20290621T180000
DTSTAMP:20260423T153451
CREATED:20260115T033402Z
LAST-MODIFIED:20260115T033402Z
UID:10005852-1876748400-1876759200@esrbc.org
SUMMARY:Huntington Park - After School Program (Thur.)
DESCRIPTION:
URL:https://esrbc.org/event/huntington-park-after-school-program-thur/2029-06-21/
LOCATION:ESRBC H.P. Office\, 6013 State Street\, Huntington Park\, CA\, 90255\, United States
END:VEVENT
BEGIN:VEVENT
DTSTART;TZID=America/Los_Angeles:20290626T110000
DTEND;TZID=America/Los_Angeles:20290626T120000
DTSTAMP:20260423T153451
CREATED:20260115T032221Z
LAST-MODIFIED:20260115T032628Z
UID:10004732-1877166000-1877169600@esrbc.org
SUMMARY:Watts - Food Distribution Every Tuesday
DESCRIPTION:
URL:https://esrbc.org/event/watts-food-distribution-every-tuesday/2029-06-26/
LOCATION:Watts Civic Center\, 1513\, Los Angeles\, CA\, 90002\, United States
END:VEVENT
BEGIN:VEVENT
DTSTART;TZID=America/Los_Angeles:20290626T140000
DTEND;TZID=America/Los_Angeles:20290626T180000
DTSTAMP:20260423T153451
CREATED:20260115T034104Z
LAST-MODIFIED:20260115T034140Z
UID:10007213-1877176800-1877191200@esrbc.org
SUMMARY:Huntington Park - After School Program (Tues.)
DESCRIPTION:
URL:https://esrbc.org/event/huntington-park-after-school-program-tues/2029-06-26/
LOCATION:ESRBC H.P. Office\, 6013 State Street\, Huntington Park\, CA\, 90255\, United States
END:VEVENT
BEGIN:VEVENT
DTSTART;TZID=America/Los_Angeles:20290627T150000
DTEND;TZID=America/Los_Angeles:20290627T180000
DTSTAMP:20260423T153451
CREATED:20260115T033113Z
LAST-MODIFIED:20260115T033311Z
UID:10003906-1877266800-1877277600@esrbc.org
SUMMARY:Huntington Park - After School Program (Wed.)
DESCRIPTION:
URL:https://esrbc.org/event/huntington-park-after-school-program-2-2/2029-06-27/
LOCATION:ESRBC H.P. Office\, 6013 State Street\, Huntington Park\, CA\, 90255\, United States
END:VEVENT
BEGIN:VEVENT
DTSTART;TZID=America/Los_Angeles:20290628T150000
DTEND;TZID=America/Los_Angeles:20290628T180000
DTSTAMP:20260423T153451
CREATED:20260115T033402Z
LAST-MODIFIED:20260115T033402Z
UID:10005853-1877353200-1877364000@esrbc.org
SUMMARY:Huntington Park - After School Program (Thur.)
DESCRIPTION:
URL:https://esrbc.org/event/huntington-park-after-school-program-thur/2029-06-28/
LOCATION:ESRBC H.P. Office\, 6013 State Street\, Huntington Park\, CA\, 90255\, United States
END:VEVENT
BEGIN:VEVENT
DTSTART;TZID=America/Los_Angeles:20290703T110000
DTEND;TZID=America/Los_Angeles:20290703T120000
DTSTAMP:20260423T153451
CREATED:20260115T032221Z
LAST-MODIFIED:20260115T032628Z
UID:10004733-1877770800-1877774400@esrbc.org
SUMMARY:Watts - Food Distribution Every Tuesday
DESCRIPTION:
URL:https://esrbc.org/event/watts-food-distribution-every-tuesday/2029-07-03/
LOCATION:Watts Civic Center\, 1513\, Los Angeles\, CA\, 90002\, United States
END:VEVENT
BEGIN:VEVENT
DTSTART;TZID=America/Los_Angeles:20290703T140000
DTEND;TZID=America/Los_Angeles:20290703T180000
DTSTAMP:20260423T153451
CREATED:20260115T034104Z
LAST-MODIFIED:20260115T034140Z
UID:10007214-1877781600-1877796000@esrbc.org
SUMMARY:Huntington Park - After School Program (Tues.)
DESCRIPTION:
URL:https://esrbc.org/event/huntington-park-after-school-program-tues/2029-07-03/
LOCATION:ESRBC H.P. Office\, 6013 State Street\, Huntington Park\, CA\, 90255\, United States
END:VEVENT
BEGIN:VEVENT
DTSTART;TZID=America/Los_Angeles:20290704T150000
DTEND;TZID=America/Los_Angeles:20290704T180000
DTSTAMP:20260423T153451
CREATED:20260115T033113Z
LAST-MODIFIED:20260115T033311Z
UID:10003909-1877871600-1877882400@esrbc.org
SUMMARY:Huntington Park - After School Program (Wed.)
DESCRIPTION:
URL:https://esrbc.org/event/huntington-park-after-school-program-2-2/2029-07-04/
LOCATION:ESRBC H.P. Office\, 6013 State Street\, Huntington Park\, CA\, 90255\, United States
END:VEVENT
BEGIN:VEVENT
DTSTART;TZID=America/Los_Angeles:20290705T150000
DTEND;TZID=America/Los_Angeles:20290705T180000
DTSTAMP:20260423T153451
CREATED:20260115T033402Z
LAST-MODIFIED:20260115T033402Z
UID:10005854-1877958000-1877968800@esrbc.org
SUMMARY:Huntington Park - After School Program (Thur.)
DESCRIPTION:
URL:https://esrbc.org/event/huntington-park-after-school-program-thur/2029-07-05/
LOCATION:ESRBC H.P. Office\, 6013 State Street\, Huntington Park\, CA\, 90255\, United States
END:VEVENT
BEGIN:VEVENT
DTSTART;TZID=America/Los_Angeles:20290706T180000
DTEND;TZID=America/Los_Angeles:20290706T200000
DTSTAMP:20260423T153451
CREATED:20260115T033649Z
LAST-MODIFIED:20260115T033649Z
UID:10006494-1878055200-1878062400@esrbc.org
SUMMARY:Friday Night Bike Ride
DESCRIPTION:
URL:https://esrbc.org/event/friday-night-bike-ride-2/2029-07-06/
LOCATION:ESRBC H.P. Office\, 6013 State Street\, Huntington Park\, CA\, 90255\, United States
END:VEVENT
BEGIN:VEVENT
DTSTART;TZID=America/Los_Angeles:20290710T110000
DTEND;TZID=America/Los_Angeles:20290710T120000
DTSTAMP:20260423T153451
CREATED:20260115T032221Z
LAST-MODIFIED:20260115T032628Z
UID:10004734-1878375600-1878379200@esrbc.org
SUMMARY:Watts - Food Distribution Every Tuesday
DESCRIPTION:
URL:https://esrbc.org/event/watts-food-distribution-every-tuesday/2029-07-10/
LOCATION:Watts Civic Center\, 1513\, Los Angeles\, CA\, 90002\, United States
END:VEVENT
BEGIN:VEVENT
DTSTART;TZID=America/Los_Angeles:20290710T140000
DTEND;TZID=America/Los_Angeles:20290710T180000
DTSTAMP:20260423T153451
CREATED:20260115T034104Z
LAST-MODIFIED:20260115T034140Z
UID:10007215-1878386400-1878400800@esrbc.org
SUMMARY:Huntington Park - After School Program (Tues.)
DESCRIPTION:
URL:https://esrbc.org/event/huntington-park-after-school-program-tues/2029-07-10/
LOCATION:ESRBC H.P. Office\, 6013 State Street\, Huntington Park\, CA\, 90255\, United States
END:VEVENT
BEGIN:VEVENT
DTSTART;TZID=America/Los_Angeles:20290711T150000
DTEND;TZID=America/Los_Angeles:20290711T180000
DTSTAMP:20260423T153451
CREATED:20260115T033113Z
LAST-MODIFIED:20260115T033311Z
UID:10003912-1878476400-1878487200@esrbc.org
SUMMARY:Huntington Park - After School Program (Wed.)
DESCRIPTION:
URL:https://esrbc.org/event/huntington-park-after-school-program-2-2/2029-07-11/
LOCATION:ESRBC H.P. Office\, 6013 State Street\, Huntington Park\, CA\, 90255\, United States
END:VEVENT
BEGIN:VEVENT
DTSTART;TZID=America/Los_Angeles:20290712T150000
DTEND;TZID=America/Los_Angeles:20290712T180000
DTSTAMP:20260423T153451
CREATED:20260115T033402Z
LAST-MODIFIED:20260115T033402Z
UID:10005855-1878562800-1878573600@esrbc.org
SUMMARY:Huntington Park - After School Program (Thur.)
DESCRIPTION:
URL:https://esrbc.org/event/huntington-park-after-school-program-thur/2029-07-12/
LOCATION:ESRBC H.P. Office\, 6013 State Street\, Huntington Park\, CA\, 90255\, United States
END:VEVENT
BEGIN:VEVENT
DTSTART;TZID=America/Los_Angeles:20290717T110000
DTEND;TZID=America/Los_Angeles:20290717T120000
DTSTAMP:20260423T153451
CREATED:20260115T032221Z
LAST-MODIFIED:20260115T032628Z
UID:10004735-1878980400-1878984000@esrbc.org
SUMMARY:Watts - Food Distribution Every Tuesday
DESCRIPTION:
URL:https://esrbc.org/event/watts-food-distribution-every-tuesday/2029-07-17/
LOCATION:Watts Civic Center\, 1513\, Los Angeles\, CA\, 90002\, United States
END:VEVENT
BEGIN:VEVENT
DTSTART;TZID=America/Los_Angeles:20290717T140000
DTEND;TZID=America/Los_Angeles:20290717T180000
DTSTAMP:20260423T153451
CREATED:20260115T034104Z
LAST-MODIFIED:20260115T034140Z
UID:10007216-1878991200-1879005600@esrbc.org
SUMMARY:Huntington Park - After School Program (Tues.)
DESCRIPTION:
URL:https://esrbc.org/event/huntington-park-after-school-program-tues/2029-07-17/
LOCATION:ESRBC H.P. Office\, 6013 State Street\, Huntington Park\, CA\, 90255\, United States
END:VEVENT
END:VCALENDAR