BEGIN:VCALENDAR
VERSION:2.0
PRODID:-//East Side Riders Bike Club - ECPv6.15.20//NONSGML v1.0//EN
CALSCALE:GREGORIAN
METHOD:PUBLISH
X-WR-CALNAME:East Side Riders Bike Club
X-ORIGINAL-URL:https://esrbc.org
X-WR-CALDESC:Events for East Side Riders Bike Club
REFRESH-INTERVAL;VALUE=DURATION:PT1H
X-Robots-Tag:noindex
X-PUBLISHED-TTL:PT1H
BEGIN:VTIMEZONE
TZID:America/Los_Angeles
BEGIN:DAYLIGHT
TZOFFSETFROM:-0800
TZOFFSETTO:-0700
TZNAME:PDT
DTSTART:20290311T100000
END:DAYLIGHT
BEGIN:STANDARD
TZOFFSETFROM:-0700
TZOFFSETTO:-0800
TZNAME:PST
DTSTART:20291104T090000
END:STANDARD
BEGIN:DAYLIGHT
TZOFFSETFROM:-0800
TZOFFSETTO:-0700
TZNAME:PDT
DTSTART:20300310T100000
END:DAYLIGHT
BEGIN:STANDARD
TZOFFSETFROM:-0700
TZOFFSETTO:-0800
TZNAME:PST
DTSTART:20301103T090000
END:STANDARD
BEGIN:DAYLIGHT
TZOFFSETFROM:-0800
TZOFFSETTO:-0700
TZNAME:PDT
DTSTART:20310309T100000
END:DAYLIGHT
BEGIN:STANDARD
TZOFFSETFROM:-0700
TZOFFSETTO:-0800
TZNAME:PST
DTSTART:20311102T090000
END:STANDARD
END:VTIMEZONE
BEGIN:VEVENT
DTSTART;TZID=America/Los_Angeles:20300403T150000
DTEND;TZID=America/Los_Angeles:20300403T180000
DTSTAMP:20260425T061432
CREATED:20260115T033113Z
LAST-MODIFIED:20260115T033311Z
UID:10004026-1901458800-1901469600@esrbc.org
SUMMARY:Huntington Park - After School Program (Wed.)
DESCRIPTION:
URL:https://esrbc.org/event/huntington-park-after-school-program-2-2/2030-04-03/
LOCATION:ESRBC H.P. Office\, 6013 State Street\, Huntington Park\, CA\, 90255\, United States
END:VEVENT
BEGIN:VEVENT
DTSTART;TZID=America/Los_Angeles:20300404T150000
DTEND;TZID=America/Los_Angeles:20300404T180000
DTSTAMP:20260425T061432
CREATED:20260115T033402Z
LAST-MODIFIED:20260115T033402Z
UID:10005893-1901545200-1901556000@esrbc.org
SUMMARY:Huntington Park - After School Program (Thur.)
DESCRIPTION:
URL:https://esrbc.org/event/huntington-park-after-school-program-thur/2030-04-04/
LOCATION:ESRBC H.P. Office\, 6013 State Street\, Huntington Park\, CA\, 90255\, United States
END:VEVENT
BEGIN:VEVENT
DTSTART;TZID=America/Los_Angeles:20300405T180000
DTEND;TZID=America/Los_Angeles:20300405T200000
DTSTAMP:20260425T061432
CREATED:20260115T033649Z
LAST-MODIFIED:20260115T033649Z
UID:10006503-1901642400-1901649600@esrbc.org
SUMMARY:Friday Night Bike Ride
DESCRIPTION:
URL:https://esrbc.org/event/friday-night-bike-ride-2/2030-04-05/
LOCATION:ESRBC H.P. Office\, 6013 State Street\, Huntington Park\, CA\, 90255\, United States
END:VEVENT
BEGIN:VEVENT
DTSTART;TZID=America/Los_Angeles:20300409T110000
DTEND;TZID=America/Los_Angeles:20300409T120000
DTSTAMP:20260425T061432
CREATED:20260115T032221Z
LAST-MODIFIED:20260115T032628Z
UID:10004773-1901962800-1901966400@esrbc.org
SUMMARY:Watts - Food Distribution Every Tuesday
DESCRIPTION:
URL:https://esrbc.org/event/watts-food-distribution-every-tuesday/2030-04-09/
LOCATION:Watts Civic Center\, 1513\, Los Angeles\, CA\, 90002\, United States
END:VEVENT
BEGIN:VEVENT
DTSTART;TZID=America/Los_Angeles:20300409T140000
DTEND;TZID=America/Los_Angeles:20300409T180000
DTSTAMP:20260425T061432
CREATED:20260115T034104Z
LAST-MODIFIED:20260115T034140Z
UID:10007254-1901973600-1901988000@esrbc.org
SUMMARY:Huntington Park - After School Program (Tues.)
DESCRIPTION:
URL:https://esrbc.org/event/huntington-park-after-school-program-tues/2030-04-09/
LOCATION:ESRBC H.P. Office\, 6013 State Street\, Huntington Park\, CA\, 90255\, United States
END:VEVENT
BEGIN:VEVENT
DTSTART;TZID=America/Los_Angeles:20300410T150000
DTEND;TZID=America/Los_Angeles:20300410T180000
DTSTAMP:20260425T061432
CREATED:20260115T033113Z
LAST-MODIFIED:20260115T033311Z
UID:10004029-1902063600-1902074400@esrbc.org
SUMMARY:Huntington Park - After School Program (Wed.)
DESCRIPTION:
URL:https://esrbc.org/event/huntington-park-after-school-program-2-2/2030-04-10/
LOCATION:ESRBC H.P. Office\, 6013 State Street\, Huntington Park\, CA\, 90255\, United States
END:VEVENT
BEGIN:VEVENT
DTSTART;TZID=America/Los_Angeles:20300411T150000
DTEND;TZID=America/Los_Angeles:20300411T180000
DTSTAMP:20260425T061432
CREATED:20260115T033402Z
LAST-MODIFIED:20260115T033402Z
UID:10005894-1902150000-1902160800@esrbc.org
SUMMARY:Huntington Park - After School Program (Thur.)
DESCRIPTION:
URL:https://esrbc.org/event/huntington-park-after-school-program-thur/2030-04-11/
LOCATION:ESRBC H.P. Office\, 6013 State Street\, Huntington Park\, CA\, 90255\, United States
END:VEVENT
BEGIN:VEVENT
DTSTART;TZID=America/Los_Angeles:20300416T110000
DTEND;TZID=America/Los_Angeles:20300416T120000
DTSTAMP:20260425T061432
CREATED:20260115T032221Z
LAST-MODIFIED:20260115T032628Z
UID:10004774-1902567600-1902571200@esrbc.org
SUMMARY:Watts - Food Distribution Every Tuesday
DESCRIPTION:
URL:https://esrbc.org/event/watts-food-distribution-every-tuesday/2030-04-16/
LOCATION:Watts Civic Center\, 1513\, Los Angeles\, CA\, 90002\, United States
END:VEVENT
BEGIN:VEVENT
DTSTART;TZID=America/Los_Angeles:20300416T140000
DTEND;TZID=America/Los_Angeles:20300416T180000
DTSTAMP:20260425T061432
CREATED:20260115T034104Z
LAST-MODIFIED:20260115T034140Z
UID:10007255-1902578400-1902592800@esrbc.org
SUMMARY:Huntington Park - After School Program (Tues.)
DESCRIPTION:
URL:https://esrbc.org/event/huntington-park-after-school-program-tues/2030-04-16/
LOCATION:ESRBC H.P. Office\, 6013 State Street\, Huntington Park\, CA\, 90255\, United States
END:VEVENT
BEGIN:VEVENT
DTSTART;TZID=America/Los_Angeles:20300417T150000
DTEND;TZID=America/Los_Angeles:20300417T180000
DTSTAMP:20260425T061432
CREATED:20260115T033113Z
LAST-MODIFIED:20260115T033311Z
UID:10004815-1902668400-1902679200@esrbc.org
SUMMARY:Huntington Park - After School Program (Wed.)
DESCRIPTION:
URL:https://esrbc.org/event/huntington-park-after-school-program-2-2/2030-04-17/
LOCATION:ESRBC H.P. Office\, 6013 State Street\, Huntington Park\, CA\, 90255\, United States
END:VEVENT
BEGIN:VEVENT
DTSTART;TZID=America/Los_Angeles:20300418T150000
DTEND;TZID=America/Los_Angeles:20300418T180000
DTSTAMP:20260425T061432
CREATED:20260115T033402Z
LAST-MODIFIED:20260115T033402Z
UID:10005895-1902754800-1902765600@esrbc.org
SUMMARY:Huntington Park - After School Program (Thur.)
DESCRIPTION:
URL:https://esrbc.org/event/huntington-park-after-school-program-thur/2030-04-18/
LOCATION:ESRBC H.P. Office\, 6013 State Street\, Huntington Park\, CA\, 90255\, United States
END:VEVENT
BEGIN:VEVENT
DTSTART;TZID=America/Los_Angeles:20300423T110000
DTEND;TZID=America/Los_Angeles:20300423T120000
DTSTAMP:20260425T061432
CREATED:20260115T032221Z
LAST-MODIFIED:20260115T032628Z
UID:10004775-1903172400-1903176000@esrbc.org
SUMMARY:Watts - Food Distribution Every Tuesday
DESCRIPTION:
URL:https://esrbc.org/event/watts-food-distribution-every-tuesday/2030-04-23/
LOCATION:Watts Civic Center\, 1513\, Los Angeles\, CA\, 90002\, United States
END:VEVENT
BEGIN:VEVENT
DTSTART;TZID=America/Los_Angeles:20300423T140000
DTEND;TZID=America/Los_Angeles:20300423T180000
DTSTAMP:20260425T061432
CREATED:20260115T034104Z
LAST-MODIFIED:20260115T034140Z
UID:10007256-1903183200-1903197600@esrbc.org
SUMMARY:Huntington Park - After School Program (Tues.)
DESCRIPTION:
URL:https://esrbc.org/event/huntington-park-after-school-program-tues/2030-04-23/
LOCATION:ESRBC H.P. Office\, 6013 State Street\, Huntington Park\, CA\, 90255\, United States
END:VEVENT
BEGIN:VEVENT
DTSTART;TZID=America/Los_Angeles:20300424T150000
DTEND;TZID=America/Los_Angeles:20300424T180000
DTSTAMP:20260425T061432
CREATED:20260115T033113Z
LAST-MODIFIED:20260115T033311Z
UID:10004817-1903273200-1903284000@esrbc.org
SUMMARY:Huntington Park - After School Program (Wed.)
DESCRIPTION:
URL:https://esrbc.org/event/huntington-park-after-school-program-2-2/2030-04-24/
LOCATION:ESRBC H.P. Office\, 6013 State Street\, Huntington Park\, CA\, 90255\, United States
END:VEVENT
BEGIN:VEVENT
DTSTART;TZID=America/Los_Angeles:20300425T150000
DTEND;TZID=America/Los_Angeles:20300425T180000
DTSTAMP:20260425T061432
CREATED:20260115T033402Z
LAST-MODIFIED:20260115T033402Z
UID:10005896-1903359600-1903370400@esrbc.org
SUMMARY:Huntington Park - After School Program (Thur.)
DESCRIPTION:
URL:https://esrbc.org/event/huntington-park-after-school-program-thur/2030-04-25/
LOCATION:ESRBC H.P. Office\, 6013 State Street\, Huntington Park\, CA\, 90255\, United States
END:VEVENT
BEGIN:VEVENT
DTSTART;TZID=America/Los_Angeles:20300430T110000
DTEND;TZID=America/Los_Angeles:20300430T120000
DTSTAMP:20260425T061432
CREATED:20260115T032221Z
LAST-MODIFIED:20260115T032628Z
UID:10004776-1903777200-1903780800@esrbc.org
SUMMARY:Watts - Food Distribution Every Tuesday
DESCRIPTION:
URL:https://esrbc.org/event/watts-food-distribution-every-tuesday/2030-04-30/
LOCATION:Watts Civic Center\, 1513\, Los Angeles\, CA\, 90002\, United States
END:VEVENT
BEGIN:VEVENT
DTSTART;TZID=America/Los_Angeles:20300430T140000
DTEND;TZID=America/Los_Angeles:20300430T180000
DTSTAMP:20260425T061432
CREATED:20260115T034104Z
LAST-MODIFIED:20260115T034140Z
UID:10007257-1903788000-1903802400@esrbc.org
SUMMARY:Huntington Park - After School Program (Tues.)
DESCRIPTION:
URL:https://esrbc.org/event/huntington-park-after-school-program-tues/2030-04-30/
LOCATION:ESRBC H.P. Office\, 6013 State Street\, Huntington Park\, CA\, 90255\, United States
END:VEVENT
BEGIN:VEVENT
DTSTART;TZID=America/Los_Angeles:20300501T150000
DTEND;TZID=America/Los_Angeles:20300501T180000
DTSTAMP:20260425T061432
CREATED:20260115T033113Z
LAST-MODIFIED:20260115T033311Z
UID:10004819-1903878000-1903888800@esrbc.org
SUMMARY:Huntington Park - After School Program (Wed.)
DESCRIPTION:
URL:https://esrbc.org/event/huntington-park-after-school-program-2-2/2030-05-01/
LOCATION:ESRBC H.P. Office\, 6013 State Street\, Huntington Park\, CA\, 90255\, United States
END:VEVENT
BEGIN:VEVENT
DTSTART;TZID=America/Los_Angeles:20300502T150000
DTEND;TZID=America/Los_Angeles:20300502T180000
DTSTAMP:20260425T061432
CREATED:20260115T033402Z
LAST-MODIFIED:20260115T033402Z
UID:10005897-1903964400-1903975200@esrbc.org
SUMMARY:Huntington Park - After School Program (Thur.)
DESCRIPTION:
URL:https://esrbc.org/event/huntington-park-after-school-program-thur/2030-05-02/
LOCATION:ESRBC H.P. Office\, 6013 State Street\, Huntington Park\, CA\, 90255\, United States
END:VEVENT
BEGIN:VEVENT
DTSTART;TZID=America/Los_Angeles:20300503T180000
DTEND;TZID=America/Los_Angeles:20300503T200000
DTSTAMP:20260425T061432
CREATED:20260115T033649Z
LAST-MODIFIED:20260115T033649Z
UID:10006504-1904061600-1904068800@esrbc.org
SUMMARY:Friday Night Bike Ride
DESCRIPTION:
URL:https://esrbc.org/event/friday-night-bike-ride-2/2030-05-03/
LOCATION:ESRBC H.P. Office\, 6013 State Street\, Huntington Park\, CA\, 90255\, United States
END:VEVENT
BEGIN:VEVENT
DTSTART;TZID=America/Los_Angeles:20300507T110000
DTEND;TZID=America/Los_Angeles:20300507T120000
DTSTAMP:20260425T061432
CREATED:20260115T032221Z
LAST-MODIFIED:20260115T032628Z
UID:10004777-1904382000-1904385600@esrbc.org
SUMMARY:Watts - Food Distribution Every Tuesday
DESCRIPTION:
URL:https://esrbc.org/event/watts-food-distribution-every-tuesday/2030-05-07/
LOCATION:Watts Civic Center\, 1513\, Los Angeles\, CA\, 90002\, United States
END:VEVENT
BEGIN:VEVENT
DTSTART;TZID=America/Los_Angeles:20300507T140000
DTEND;TZID=America/Los_Angeles:20300507T180000
DTSTAMP:20260425T061432
CREATED:20260115T034104Z
LAST-MODIFIED:20260115T034140Z
UID:10007258-1904392800-1904407200@esrbc.org
SUMMARY:Huntington Park - After School Program (Tues.)
DESCRIPTION:
URL:https://esrbc.org/event/huntington-park-after-school-program-tues/2030-05-07/
LOCATION:ESRBC H.P. Office\, 6013 State Street\, Huntington Park\, CA\, 90255\, United States
END:VEVENT
BEGIN:VEVENT
DTSTART;TZID=America/Los_Angeles:20300508T150000
DTEND;TZID=America/Los_Angeles:20300508T180000
DTSTAMP:20260425T061432
CREATED:20260115T033113Z
LAST-MODIFIED:20260115T033311Z
UID:10004821-1904482800-1904493600@esrbc.org
SUMMARY:Huntington Park - After School Program (Wed.)
DESCRIPTION:
URL:https://esrbc.org/event/huntington-park-after-school-program-2-2/2030-05-08/
LOCATION:ESRBC H.P. Office\, 6013 State Street\, Huntington Park\, CA\, 90255\, United States
END:VEVENT
BEGIN:VEVENT
DTSTART;TZID=America/Los_Angeles:20300509T150000
DTEND;TZID=America/Los_Angeles:20300509T180000
DTSTAMP:20260425T061432
CREATED:20260115T033402Z
LAST-MODIFIED:20260115T033402Z
UID:10005898-1904569200-1904580000@esrbc.org
SUMMARY:Huntington Park - After School Program (Thur.)
DESCRIPTION:
URL:https://esrbc.org/event/huntington-park-after-school-program-thur/2030-05-09/
LOCATION:ESRBC H.P. Office\, 6013 State Street\, Huntington Park\, CA\, 90255\, United States
END:VEVENT
BEGIN:VEVENT
DTSTART;TZID=America/Los_Angeles:20300514T110000
DTEND;TZID=America/Los_Angeles:20300514T120000
DTSTAMP:20260425T061432
CREATED:20260115T032221Z
LAST-MODIFIED:20260115T032628Z
UID:10004778-1904986800-1904990400@esrbc.org
SUMMARY:Watts - Food Distribution Every Tuesday
DESCRIPTION:
URL:https://esrbc.org/event/watts-food-distribution-every-tuesday/2030-05-14/
LOCATION:Watts Civic Center\, 1513\, Los Angeles\, CA\, 90002\, United States
END:VEVENT
BEGIN:VEVENT
DTSTART;TZID=America/Los_Angeles:20300514T140000
DTEND;TZID=America/Los_Angeles:20300514T180000
DTSTAMP:20260425T061432
CREATED:20260115T034104Z
LAST-MODIFIED:20260115T034140Z
UID:10007259-1904997600-1905012000@esrbc.org
SUMMARY:Huntington Park - After School Program (Tues.)
DESCRIPTION:
URL:https://esrbc.org/event/huntington-park-after-school-program-tues/2030-05-14/
LOCATION:ESRBC H.P. Office\, 6013 State Street\, Huntington Park\, CA\, 90255\, United States
END:VEVENT
BEGIN:VEVENT
DTSTART;TZID=America/Los_Angeles:20300515T150000
DTEND;TZID=America/Los_Angeles:20300515T180000
DTSTAMP:20260425T061432
CREATED:20260115T033113Z
LAST-MODIFIED:20260115T033311Z
UID:10004823-1905087600-1905098400@esrbc.org
SUMMARY:Huntington Park - After School Program (Wed.)
DESCRIPTION:
URL:https://esrbc.org/event/huntington-park-after-school-program-2-2/2030-05-15/
LOCATION:ESRBC H.P. Office\, 6013 State Street\, Huntington Park\, CA\, 90255\, United States
END:VEVENT
BEGIN:VEVENT
DTSTART;TZID=America/Los_Angeles:20300516T150000
DTEND;TZID=America/Los_Angeles:20300516T180000
DTSTAMP:20260425T061432
CREATED:20260115T033402Z
LAST-MODIFIED:20260115T033402Z
UID:10005899-1905174000-1905184800@esrbc.org
SUMMARY:Huntington Park - After School Program (Thur.)
DESCRIPTION:
URL:https://esrbc.org/event/huntington-park-after-school-program-thur/2030-05-16/
LOCATION:ESRBC H.P. Office\, 6013 State Street\, Huntington Park\, CA\, 90255\, United States
END:VEVENT
BEGIN:VEVENT
DTSTART;TZID=America/Los_Angeles:20300521T110000
DTEND;TZID=America/Los_Angeles:20300521T120000
DTSTAMP:20260425T061432
CREATED:20260115T032221Z
LAST-MODIFIED:20260115T032628Z
UID:10004779-1905591600-1905595200@esrbc.org
SUMMARY:Watts - Food Distribution Every Tuesday
DESCRIPTION:
URL:https://esrbc.org/event/watts-food-distribution-every-tuesday/2030-05-21/
LOCATION:Watts Civic Center\, 1513\, Los Angeles\, CA\, 90002\, United States
END:VEVENT
BEGIN:VEVENT
DTSTART;TZID=America/Los_Angeles:20300521T140000
DTEND;TZID=America/Los_Angeles:20300521T180000
DTSTAMP:20260425T061432
CREATED:20260115T034104Z
LAST-MODIFIED:20260115T034140Z
UID:10007260-1905602400-1905616800@esrbc.org
SUMMARY:Huntington Park - After School Program (Tues.)
DESCRIPTION:
URL:https://esrbc.org/event/huntington-park-after-school-program-tues/2030-05-21/
LOCATION:ESRBC H.P. Office\, 6013 State Street\, Huntington Park\, CA\, 90255\, United States
END:VEVENT
END:VCALENDAR