BEGIN:VCALENDAR
VERSION:2.0
PRODID:-//East Side Riders Bike Club - ECPv6.15.20//NONSGML v1.0//EN
CALSCALE:GREGORIAN
METHOD:PUBLISH
X-WR-CALNAME:East Side Riders Bike Club
X-ORIGINAL-URL:https://esrbc.org
X-WR-CALDESC:Events for East Side Riders Bike Club
REFRESH-INTERVAL;VALUE=DURATION:PT1H
X-Robots-Tag:noindex
X-PUBLISHED-TTL:PT1H
BEGIN:VTIMEZONE
TZID:America/Los_Angeles
BEGIN:DAYLIGHT
TZOFFSETFROM:-0800
TZOFFSETTO:-0700
TZNAME:PDT
DTSTART:20270314T100000
END:DAYLIGHT
BEGIN:STANDARD
TZOFFSETFROM:-0700
TZOFFSETTO:-0800
TZNAME:PST
DTSTART:20271107T090000
END:STANDARD
BEGIN:DAYLIGHT
TZOFFSETFROM:-0800
TZOFFSETTO:-0700
TZNAME:PDT
DTSTART:20280312T100000
END:DAYLIGHT
BEGIN:STANDARD
TZOFFSETFROM:-0700
TZOFFSETTO:-0800
TZNAME:PST
DTSTART:20281105T090000
END:STANDARD
BEGIN:DAYLIGHT
TZOFFSETFROM:-0800
TZOFFSETTO:-0700
TZNAME:PDT
DTSTART:20290311T100000
END:DAYLIGHT
BEGIN:STANDARD
TZOFFSETFROM:-0700
TZOFFSETTO:-0800
TZNAME:PST
DTSTART:20291104T090000
END:STANDARD
BEGIN:DAYLIGHT
TZOFFSETFROM:-0800
TZOFFSETTO:-0700
TZNAME:PDT
DTSTART:20300310T100000
END:DAYLIGHT
BEGIN:STANDARD
TZOFFSETFROM:-0700
TZOFFSETTO:-0800
TZNAME:PST
DTSTART:20301103T090000
END:STANDARD
END:VTIMEZONE
BEGIN:VEVENT
DTSTART;TZID=America/Los_Angeles:20281212T110000
DTEND;TZID=America/Los_Angeles:20281212T120000
DTSTAMP:20260423T033419
CREATED:20260115T032221Z
LAST-MODIFIED:20260115T032628Z
UID:10004704-1860231600-1860235200@esrbc.org
SUMMARY:Watts - Food Distribution Every Tuesday
DESCRIPTION:
URL:https://esrbc.org/event/watts-food-distribution-every-tuesday/2028-12-12/
LOCATION:Watts Civic Center\, 1513\, Los Angeles\, CA\, 90002\, United States
END:VEVENT
BEGIN:VEVENT
DTSTART;TZID=America/Los_Angeles:20281212T140000
DTEND;TZID=America/Los_Angeles:20281212T180000
DTSTAMP:20260423T033420
CREATED:20260115T034104Z
LAST-MODIFIED:20260115T034140Z
UID:10007185-1860242400-1860256800@esrbc.org
SUMMARY:Huntington Park - After School Program (Tues.)
DESCRIPTION:
URL:https://esrbc.org/event/huntington-park-after-school-program-tues/2028-12-12/
LOCATION:ESRBC H.P. Office\, 6013 State Street\, Huntington Park\, CA\, 90255\, United States
END:VEVENT
BEGIN:VEVENT
DTSTART;TZID=America/Los_Angeles:20281213T150000
DTEND;TZID=America/Los_Angeles:20281213T180000
DTSTAMP:20260423T033420
CREATED:20260115T033113Z
LAST-MODIFIED:20260115T033311Z
UID:10003822-1860332400-1860343200@esrbc.org
SUMMARY:Huntington Park - After School Program (Wed.)
DESCRIPTION:
URL:https://esrbc.org/event/huntington-park-after-school-program-2-2/2028-12-13/
LOCATION:ESRBC H.P. Office\, 6013 State Street\, Huntington Park\, CA\, 90255\, United States
END:VEVENT
BEGIN:VEVENT
DTSTART;TZID=America/Los_Angeles:20281214T150000
DTEND;TZID=America/Los_Angeles:20281214T180000
DTSTAMP:20260423T033420
CREATED:20260115T033402Z
LAST-MODIFIED:20260115T033402Z
UID:10005825-1860418800-1860429600@esrbc.org
SUMMARY:Huntington Park - After School Program (Thur.)
DESCRIPTION:
URL:https://esrbc.org/event/huntington-park-after-school-program-thur/2028-12-14/
LOCATION:ESRBC H.P. Office\, 6013 State Street\, Huntington Park\, CA\, 90255\, United States
END:VEVENT
BEGIN:VEVENT
DTSTART;TZID=America/Los_Angeles:20281219T110000
DTEND;TZID=America/Los_Angeles:20281219T120000
DTSTAMP:20260423T033420
CREATED:20260115T032221Z
LAST-MODIFIED:20260115T032628Z
UID:10004705-1860836400-1860840000@esrbc.org
SUMMARY:Watts - Food Distribution Every Tuesday
DESCRIPTION:
URL:https://esrbc.org/event/watts-food-distribution-every-tuesday/2028-12-19/
LOCATION:Watts Civic Center\, 1513\, Los Angeles\, CA\, 90002\, United States
END:VEVENT
BEGIN:VEVENT
DTSTART;TZID=America/Los_Angeles:20281219T140000
DTEND;TZID=America/Los_Angeles:20281219T180000
DTSTAMP:20260423T033420
CREATED:20260115T034104Z
LAST-MODIFIED:20260115T034140Z
UID:10007186-1860847200-1860861600@esrbc.org
SUMMARY:Huntington Park - After School Program (Tues.)
DESCRIPTION:
URL:https://esrbc.org/event/huntington-park-after-school-program-tues/2028-12-19/
LOCATION:ESRBC H.P. Office\, 6013 State Street\, Huntington Park\, CA\, 90255\, United States
END:VEVENT
BEGIN:VEVENT
DTSTART;TZID=America/Los_Angeles:20281220T150000
DTEND;TZID=America/Los_Angeles:20281220T180000
DTSTAMP:20260423T033420
CREATED:20260115T033113Z
LAST-MODIFIED:20260115T033311Z
UID:10003825-1860937200-1860948000@esrbc.org
SUMMARY:Huntington Park - After School Program (Wed.)
DESCRIPTION:
URL:https://esrbc.org/event/huntington-park-after-school-program-2-2/2028-12-20/
LOCATION:ESRBC H.P. Office\, 6013 State Street\, Huntington Park\, CA\, 90255\, United States
END:VEVENT
BEGIN:VEVENT
DTSTART;TZID=America/Los_Angeles:20281221T150000
DTEND;TZID=America/Los_Angeles:20281221T180000
DTSTAMP:20260423T033420
CREATED:20260115T033402Z
LAST-MODIFIED:20260115T033402Z
UID:10005826-1861023600-1861034400@esrbc.org
SUMMARY:Huntington Park - After School Program (Thur.)
DESCRIPTION:
URL:https://esrbc.org/event/huntington-park-after-school-program-thur/2028-12-21/
LOCATION:ESRBC H.P. Office\, 6013 State Street\, Huntington Park\, CA\, 90255\, United States
END:VEVENT
BEGIN:VEVENT
DTSTART;TZID=America/Los_Angeles:20281226T110000
DTEND;TZID=America/Los_Angeles:20281226T120000
DTSTAMP:20260423T033420
CREATED:20260115T032221Z
LAST-MODIFIED:20260115T032628Z
UID:10004706-1861441200-1861444800@esrbc.org
SUMMARY:Watts - Food Distribution Every Tuesday
DESCRIPTION:
URL:https://esrbc.org/event/watts-food-distribution-every-tuesday/2028-12-26/
LOCATION:Watts Civic Center\, 1513\, Los Angeles\, CA\, 90002\, United States
END:VEVENT
BEGIN:VEVENT
DTSTART;TZID=America/Los_Angeles:20281226T140000
DTEND;TZID=America/Los_Angeles:20281226T180000
DTSTAMP:20260423T033420
CREATED:20260115T034104Z
LAST-MODIFIED:20260115T034140Z
UID:10007187-1861452000-1861466400@esrbc.org
SUMMARY:Huntington Park - After School Program (Tues.)
DESCRIPTION:
URL:https://esrbc.org/event/huntington-park-after-school-program-tues/2028-12-26/
LOCATION:ESRBC H.P. Office\, 6013 State Street\, Huntington Park\, CA\, 90255\, United States
END:VEVENT
BEGIN:VEVENT
DTSTART;TZID=America/Los_Angeles:20281227T150000
DTEND;TZID=America/Los_Angeles:20281227T180000
DTSTAMP:20260423T033420
CREATED:20260115T033113Z
LAST-MODIFIED:20260115T033311Z
UID:10003828-1861542000-1861552800@esrbc.org
SUMMARY:Huntington Park - After School Program (Wed.)
DESCRIPTION:
URL:https://esrbc.org/event/huntington-park-after-school-program-2-2/2028-12-27/
LOCATION:ESRBC H.P. Office\, 6013 State Street\, Huntington Park\, CA\, 90255\, United States
END:VEVENT
BEGIN:VEVENT
DTSTART;TZID=America/Los_Angeles:20281228T150000
DTEND;TZID=America/Los_Angeles:20281228T180000
DTSTAMP:20260423T033420
CREATED:20260115T033402Z
LAST-MODIFIED:20260115T033402Z
UID:10005827-1861628400-1861639200@esrbc.org
SUMMARY:Huntington Park - After School Program (Thur.)
DESCRIPTION:
URL:https://esrbc.org/event/huntington-park-after-school-program-thur/2028-12-28/
LOCATION:ESRBC H.P. Office\, 6013 State Street\, Huntington Park\, CA\, 90255\, United States
END:VEVENT
BEGIN:VEVENT
DTSTART;TZID=America/Los_Angeles:20290102T110000
DTEND;TZID=America/Los_Angeles:20290102T120000
DTSTAMP:20260423T033420
CREATED:20260115T032221Z
LAST-MODIFIED:20260115T032628Z
UID:10004707-1862046000-1862049600@esrbc.org
SUMMARY:Watts - Food Distribution Every Tuesday
DESCRIPTION:
URL:https://esrbc.org/event/watts-food-distribution-every-tuesday/2029-01-02/
LOCATION:Watts Civic Center\, 1513\, Los Angeles\, CA\, 90002\, United States
END:VEVENT
BEGIN:VEVENT
DTSTART;TZID=America/Los_Angeles:20290102T140000
DTEND;TZID=America/Los_Angeles:20290102T180000
DTSTAMP:20260423T033420
CREATED:20260115T034104Z
LAST-MODIFIED:20260115T034140Z
UID:10007188-1862056800-1862071200@esrbc.org
SUMMARY:Huntington Park - After School Program (Tues.)
DESCRIPTION:
URL:https://esrbc.org/event/huntington-park-after-school-program-tues/2029-01-02/
LOCATION:ESRBC H.P. Office\, 6013 State Street\, Huntington Park\, CA\, 90255\, United States
END:VEVENT
BEGIN:VEVENT
DTSTART;TZID=America/Los_Angeles:20290103T150000
DTEND;TZID=America/Los_Angeles:20290103T180000
DTSTAMP:20260423T033420
CREATED:20260115T033113Z
LAST-MODIFIED:20260115T033311Z
UID:10003831-1862146800-1862157600@esrbc.org
SUMMARY:Huntington Park - After School Program (Wed.)
DESCRIPTION:
URL:https://esrbc.org/event/huntington-park-after-school-program-2-2/2029-01-03/
LOCATION:ESRBC H.P. Office\, 6013 State Street\, Huntington Park\, CA\, 90255\, United States
END:VEVENT
BEGIN:VEVENT
DTSTART;TZID=America/Los_Angeles:20290104T150000
DTEND;TZID=America/Los_Angeles:20290104T180000
DTSTAMP:20260423T033420
CREATED:20260115T033402Z
LAST-MODIFIED:20260115T033402Z
UID:10005828-1862233200-1862244000@esrbc.org
SUMMARY:Huntington Park - After School Program (Thur.)
DESCRIPTION:
URL:https://esrbc.org/event/huntington-park-after-school-program-thur/2029-01-04/
LOCATION:ESRBC H.P. Office\, 6013 State Street\, Huntington Park\, CA\, 90255\, United States
END:VEVENT
BEGIN:VEVENT
DTSTART;TZID=America/Los_Angeles:20290105T180000
DTEND;TZID=America/Los_Angeles:20290105T200000
DTSTAMP:20260423T033420
CREATED:20260115T033649Z
LAST-MODIFIED:20260115T033649Z
UID:10006488-1862330400-1862337600@esrbc.org
SUMMARY:Friday Night Bike Ride
DESCRIPTION:
URL:https://esrbc.org/event/friday-night-bike-ride-2/2029-01-05/
LOCATION:ESRBC H.P. Office\, 6013 State Street\, Huntington Park\, CA\, 90255\, United States
END:VEVENT
BEGIN:VEVENT
DTSTART;TZID=America/Los_Angeles:20290109T110000
DTEND;TZID=America/Los_Angeles:20290109T120000
DTSTAMP:20260423T033420
CREATED:20260115T032221Z
LAST-MODIFIED:20260115T032628Z
UID:10004708-1862650800-1862654400@esrbc.org
SUMMARY:Watts - Food Distribution Every Tuesday
DESCRIPTION:
URL:https://esrbc.org/event/watts-food-distribution-every-tuesday/2029-01-09/
LOCATION:Watts Civic Center\, 1513\, Los Angeles\, CA\, 90002\, United States
END:VEVENT
BEGIN:VEVENT
DTSTART;TZID=America/Los_Angeles:20290109T140000
DTEND;TZID=America/Los_Angeles:20290109T180000
DTSTAMP:20260423T033420
CREATED:20260115T034104Z
LAST-MODIFIED:20260115T034140Z
UID:10007189-1862661600-1862676000@esrbc.org
SUMMARY:Huntington Park - After School Program (Tues.)
DESCRIPTION:
URL:https://esrbc.org/event/huntington-park-after-school-program-tues/2029-01-09/
LOCATION:ESRBC H.P. Office\, 6013 State Street\, Huntington Park\, CA\, 90255\, United States
END:VEVENT
BEGIN:VEVENT
DTSTART;TZID=America/Los_Angeles:20290110T150000
DTEND;TZID=America/Los_Angeles:20290110T180000
DTSTAMP:20260423T033420
CREATED:20260115T033113Z
LAST-MODIFIED:20260115T033311Z
UID:10003834-1862751600-1862762400@esrbc.org
SUMMARY:Huntington Park - After School Program (Wed.)
DESCRIPTION:
URL:https://esrbc.org/event/huntington-park-after-school-program-2-2/2029-01-10/
LOCATION:ESRBC H.P. Office\, 6013 State Street\, Huntington Park\, CA\, 90255\, United States
END:VEVENT
BEGIN:VEVENT
DTSTART;TZID=America/Los_Angeles:20290111T150000
DTEND;TZID=America/Los_Angeles:20290111T180000
DTSTAMP:20260423T033420
CREATED:20260115T033402Z
LAST-MODIFIED:20260115T033402Z
UID:10005829-1862838000-1862848800@esrbc.org
SUMMARY:Huntington Park - After School Program (Thur.)
DESCRIPTION:
URL:https://esrbc.org/event/huntington-park-after-school-program-thur/2029-01-11/
LOCATION:ESRBC H.P. Office\, 6013 State Street\, Huntington Park\, CA\, 90255\, United States
END:VEVENT
BEGIN:VEVENT
DTSTART;TZID=America/Los_Angeles:20290116T110000
DTEND;TZID=America/Los_Angeles:20290116T120000
DTSTAMP:20260423T033420
CREATED:20260115T032221Z
LAST-MODIFIED:20260115T032628Z
UID:10004709-1863255600-1863259200@esrbc.org
SUMMARY:Watts - Food Distribution Every Tuesday
DESCRIPTION:
URL:https://esrbc.org/event/watts-food-distribution-every-tuesday/2029-01-16/
LOCATION:Watts Civic Center\, 1513\, Los Angeles\, CA\, 90002\, United States
END:VEVENT
BEGIN:VEVENT
DTSTART;TZID=America/Los_Angeles:20290116T140000
DTEND;TZID=America/Los_Angeles:20290116T180000
DTSTAMP:20260423T033420
CREATED:20260115T034104Z
LAST-MODIFIED:20260115T034140Z
UID:10007190-1863266400-1863280800@esrbc.org
SUMMARY:Huntington Park - After School Program (Tues.)
DESCRIPTION:
URL:https://esrbc.org/event/huntington-park-after-school-program-tues/2029-01-16/
LOCATION:ESRBC H.P. Office\, 6013 State Street\, Huntington Park\, CA\, 90255\, United States
END:VEVENT
BEGIN:VEVENT
DTSTART;TZID=America/Los_Angeles:20290117T150000
DTEND;TZID=America/Los_Angeles:20290117T180000
DTSTAMP:20260423T033420
CREATED:20260115T033113Z
LAST-MODIFIED:20260115T033311Z
UID:10003837-1863356400-1863367200@esrbc.org
SUMMARY:Huntington Park - After School Program (Wed.)
DESCRIPTION:
URL:https://esrbc.org/event/huntington-park-after-school-program-2-2/2029-01-17/
LOCATION:ESRBC H.P. Office\, 6013 State Street\, Huntington Park\, CA\, 90255\, United States
END:VEVENT
BEGIN:VEVENT
DTSTART;TZID=America/Los_Angeles:20290118T150000
DTEND;TZID=America/Los_Angeles:20290118T180000
DTSTAMP:20260423T033420
CREATED:20260115T033402Z
LAST-MODIFIED:20260115T033402Z
UID:10005830-1863442800-1863453600@esrbc.org
SUMMARY:Huntington Park - After School Program (Thur.)
DESCRIPTION:
URL:https://esrbc.org/event/huntington-park-after-school-program-thur/2029-01-18/
LOCATION:ESRBC H.P. Office\, 6013 State Street\, Huntington Park\, CA\, 90255\, United States
END:VEVENT
BEGIN:VEVENT
DTSTART;TZID=America/Los_Angeles:20290123T110000
DTEND;TZID=America/Los_Angeles:20290123T120000
DTSTAMP:20260423T033420
CREATED:20260115T032221Z
LAST-MODIFIED:20260115T032628Z
UID:10004710-1863860400-1863864000@esrbc.org
SUMMARY:Watts - Food Distribution Every Tuesday
DESCRIPTION:
URL:https://esrbc.org/event/watts-food-distribution-every-tuesday/2029-01-23/
LOCATION:Watts Civic Center\, 1513\, Los Angeles\, CA\, 90002\, United States
END:VEVENT
BEGIN:VEVENT
DTSTART;TZID=America/Los_Angeles:20290123T140000
DTEND;TZID=America/Los_Angeles:20290123T180000
DTSTAMP:20260423T033420
CREATED:20260115T034104Z
LAST-MODIFIED:20260115T034140Z
UID:10007191-1863871200-1863885600@esrbc.org
SUMMARY:Huntington Park - After School Program (Tues.)
DESCRIPTION:
URL:https://esrbc.org/event/huntington-park-after-school-program-tues/2029-01-23/
LOCATION:ESRBC H.P. Office\, 6013 State Street\, Huntington Park\, CA\, 90255\, United States
END:VEVENT
BEGIN:VEVENT
DTSTART;TZID=America/Los_Angeles:20290124T150000
DTEND;TZID=America/Los_Angeles:20290124T180000
DTSTAMP:20260423T033420
CREATED:20260115T033113Z
LAST-MODIFIED:20260115T033311Z
UID:10003840-1863961200-1863972000@esrbc.org
SUMMARY:Huntington Park - After School Program (Wed.)
DESCRIPTION:
URL:https://esrbc.org/event/huntington-park-after-school-program-2-2/2029-01-24/
LOCATION:ESRBC H.P. Office\, 6013 State Street\, Huntington Park\, CA\, 90255\, United States
END:VEVENT
BEGIN:VEVENT
DTSTART;TZID=America/Los_Angeles:20290125T150000
DTEND;TZID=America/Los_Angeles:20290125T180000
DTSTAMP:20260423T033420
CREATED:20260115T033402Z
LAST-MODIFIED:20260115T033402Z
UID:10005831-1864047600-1864058400@esrbc.org
SUMMARY:Huntington Park - After School Program (Thur.)
DESCRIPTION:
URL:https://esrbc.org/event/huntington-park-after-school-program-thur/2029-01-25/
LOCATION:ESRBC H.P. Office\, 6013 State Street\, Huntington Park\, CA\, 90255\, United States
END:VEVENT
BEGIN:VEVENT
DTSTART;TZID=America/Los_Angeles:20290130T110000
DTEND;TZID=America/Los_Angeles:20290130T120000
DTSTAMP:20260423T033420
CREATED:20260115T032221Z
LAST-MODIFIED:20260115T032628Z
UID:10004711-1864465200-1864468800@esrbc.org
SUMMARY:Watts - Food Distribution Every Tuesday
DESCRIPTION:
URL:https://esrbc.org/event/watts-food-distribution-every-tuesday/2029-01-30/
LOCATION:Watts Civic Center\, 1513\, Los Angeles\, CA\, 90002\, United States
END:VEVENT
END:VCALENDAR