BEGIN:VCALENDAR
VERSION:2.0
PRODID:-//East Side Riders Bike Club - ECPv6.15.20//NONSGML v1.0//EN
CALSCALE:GREGORIAN
METHOD:PUBLISH
X-ORIGINAL-URL:https://esrbc.org
X-WR-CALDESC:Events for East Side Riders Bike Club
REFRESH-INTERVAL;VALUE=DURATION:PT1H
X-Robots-Tag:noindex
X-PUBLISHED-TTL:PT1H
BEGIN:VTIMEZONE
TZID:America/Los_Angeles
BEGIN:DAYLIGHT
TZOFFSETFROM:-0800
TZOFFSETTO:-0700
TZNAME:PDT
DTSTART:20280312T100000
END:DAYLIGHT
BEGIN:STANDARD
TZOFFSETFROM:-0700
TZOFFSETTO:-0800
TZNAME:PST
DTSTART:20281105T090000
END:STANDARD
BEGIN:DAYLIGHT
TZOFFSETFROM:-0800
TZOFFSETTO:-0700
TZNAME:PDT
DTSTART:20290311T100000
END:DAYLIGHT
BEGIN:STANDARD
TZOFFSETFROM:-0700
TZOFFSETTO:-0800
TZNAME:PST
DTSTART:20291104T090000
END:STANDARD
BEGIN:DAYLIGHT
TZOFFSETFROM:-0800
TZOFFSETTO:-0700
TZNAME:PDT
DTSTART:20300310T100000
END:DAYLIGHT
BEGIN:STANDARD
TZOFFSETFROM:-0700
TZOFFSETTO:-0800
TZNAME:PST
DTSTART:20301103T090000
END:STANDARD
END:VTIMEZONE
BEGIN:VEVENT
DTSTART;TZID=America/Los_Angeles:20290907T180000
DTEND;TZID=America/Los_Angeles:20290907T200000
DTSTAMP:20260425T044714
CREATED:20260115T033649Z
LAST-MODIFIED:20260115T033649Z
UID:10006496-1883498400-1883505600@esrbc.org
SUMMARY:Friday Night Bike Ride
DESCRIPTION:
URL:https://esrbc.org/event/friday-night-bike-ride-2/2029-09-07/
LOCATION:ESRBC H.P. Office\, 6013 State Street\, Huntington Park\, CA\, 90255\, United States
END:VEVENT
BEGIN:VEVENT
DTSTART;TZID=America/Los_Angeles:20290911T110000
DTEND;TZID=America/Los_Angeles:20290911T120000
DTSTAMP:20260425T044714
CREATED:20260115T032221Z
LAST-MODIFIED:20260115T032628Z
UID:10004743-1883818800-1883822400@esrbc.org
SUMMARY:Watts - Food Distribution Every Tuesday
DESCRIPTION:
URL:https://esrbc.org/event/watts-food-distribution-every-tuesday/2029-09-11/
LOCATION:Watts Civic Center\, 1513\, Los Angeles\, CA\, 90002\, United States
END:VEVENT
BEGIN:VEVENT
DTSTART;TZID=America/Los_Angeles:20290911T140000
DTEND;TZID=America/Los_Angeles:20290911T180000
DTSTAMP:20260425T044714
CREATED:20260115T034104Z
LAST-MODIFIED:20260115T034140Z
UID:10007224-1883829600-1883844000@esrbc.org
SUMMARY:Huntington Park - After School Program (Tues.)
DESCRIPTION:
URL:https://esrbc.org/event/huntington-park-after-school-program-tues/2029-09-11/
LOCATION:ESRBC H.P. Office\, 6013 State Street\, Huntington Park\, CA\, 90255\, United States
END:VEVENT
BEGIN:VEVENT
DTSTART;TZID=America/Los_Angeles:20290912T150000
DTEND;TZID=America/Los_Angeles:20290912T180000
DTSTAMP:20260425T044714
CREATED:20260115T033113Z
LAST-MODIFIED:20260115T033311Z
UID:10003939-1883919600-1883930400@esrbc.org
SUMMARY:Huntington Park - After School Program (Wed.)
DESCRIPTION:
URL:https://esrbc.org/event/huntington-park-after-school-program-2-2/2029-09-12/
LOCATION:ESRBC H.P. Office\, 6013 State Street\, Huntington Park\, CA\, 90255\, United States
END:VEVENT
BEGIN:VEVENT
DTSTART;TZID=America/Los_Angeles:20290913T150000
DTEND;TZID=America/Los_Angeles:20290913T180000
DTSTAMP:20260425T044714
CREATED:20260115T033402Z
LAST-MODIFIED:20260115T033402Z
UID:10005864-1884006000-1884016800@esrbc.org
SUMMARY:Huntington Park - After School Program (Thur.)
DESCRIPTION:
URL:https://esrbc.org/event/huntington-park-after-school-program-thur/2029-09-13/
LOCATION:ESRBC H.P. Office\, 6013 State Street\, Huntington Park\, CA\, 90255\, United States
END:VEVENT
BEGIN:VEVENT
DTSTART;TZID=America/Los_Angeles:20290918T110000
DTEND;TZID=America/Los_Angeles:20290918T120000
DTSTAMP:20260425T044714
CREATED:20260115T032221Z
LAST-MODIFIED:20260115T032628Z
UID:10004744-1884423600-1884427200@esrbc.org
SUMMARY:Watts - Food Distribution Every Tuesday
DESCRIPTION:
URL:https://esrbc.org/event/watts-food-distribution-every-tuesday/2029-09-18/
LOCATION:Watts Civic Center\, 1513\, Los Angeles\, CA\, 90002\, United States
END:VEVENT
BEGIN:VEVENT
DTSTART;TZID=America/Los_Angeles:20290918T140000
DTEND;TZID=America/Los_Angeles:20290918T180000
DTSTAMP:20260425T044714
CREATED:20260115T034104Z
LAST-MODIFIED:20260115T034140Z
UID:10007225-1884434400-1884448800@esrbc.org
SUMMARY:Huntington Park - After School Program (Tues.)
DESCRIPTION:
URL:https://esrbc.org/event/huntington-park-after-school-program-tues/2029-09-18/
LOCATION:ESRBC H.P. Office\, 6013 State Street\, Huntington Park\, CA\, 90255\, United States
END:VEVENT
BEGIN:VEVENT
DTSTART;TZID=America/Los_Angeles:20290919T150000
DTEND;TZID=America/Los_Angeles:20290919T180000
DTSTAMP:20260425T044714
CREATED:20260115T033113Z
LAST-MODIFIED:20260115T033311Z
UID:10003942-1884524400-1884535200@esrbc.org
SUMMARY:Huntington Park - After School Program (Wed.)
DESCRIPTION:
URL:https://esrbc.org/event/huntington-park-after-school-program-2-2/2029-09-19/
LOCATION:ESRBC H.P. Office\, 6013 State Street\, Huntington Park\, CA\, 90255\, United States
END:VEVENT
BEGIN:VEVENT
DTSTART;TZID=America/Los_Angeles:20290920T150000
DTEND;TZID=America/Los_Angeles:20290920T180000
DTSTAMP:20260425T044714
CREATED:20260115T033402Z
LAST-MODIFIED:20260115T033402Z
UID:10005865-1884610800-1884621600@esrbc.org
SUMMARY:Huntington Park - After School Program (Thur.)
DESCRIPTION:
URL:https://esrbc.org/event/huntington-park-after-school-program-thur/2029-09-20/
LOCATION:ESRBC H.P. Office\, 6013 State Street\, Huntington Park\, CA\, 90255\, United States
END:VEVENT
BEGIN:VEVENT
DTSTART;TZID=America/Los_Angeles:20290925T110000
DTEND;TZID=America/Los_Angeles:20290925T120000
DTSTAMP:20260425T044714
CREATED:20260115T032221Z
LAST-MODIFIED:20260115T032628Z
UID:10004745-1885028400-1885032000@esrbc.org
SUMMARY:Watts - Food Distribution Every Tuesday
DESCRIPTION:
URL:https://esrbc.org/event/watts-food-distribution-every-tuesday/2029-09-25/
LOCATION:Watts Civic Center\, 1513\, Los Angeles\, CA\, 90002\, United States
END:VEVENT
BEGIN:VEVENT
DTSTART;TZID=America/Los_Angeles:20290925T140000
DTEND;TZID=America/Los_Angeles:20290925T180000
DTSTAMP:20260425T044714
CREATED:20260115T034104Z
LAST-MODIFIED:20260115T034140Z
UID:10007226-1885039200-1885053600@esrbc.org
SUMMARY:Huntington Park - After School Program (Tues.)
DESCRIPTION:
URL:https://esrbc.org/event/huntington-park-after-school-program-tues/2029-09-25/
LOCATION:ESRBC H.P. Office\, 6013 State Street\, Huntington Park\, CA\, 90255\, United States
END:VEVENT
BEGIN:VEVENT
DTSTART;TZID=America/Los_Angeles:20290926T150000
DTEND;TZID=America/Los_Angeles:20290926T180000
DTSTAMP:20260425T044714
CREATED:20260115T033113Z
LAST-MODIFIED:20260115T033311Z
UID:10003945-1885129200-1885140000@esrbc.org
SUMMARY:Huntington Park - After School Program (Wed.)
DESCRIPTION:
URL:https://esrbc.org/event/huntington-park-after-school-program-2-2/2029-09-26/
LOCATION:ESRBC H.P. Office\, 6013 State Street\, Huntington Park\, CA\, 90255\, United States
END:VEVENT
BEGIN:VEVENT
DTSTART;TZID=America/Los_Angeles:20290927T150000
DTEND;TZID=America/Los_Angeles:20290927T180000
DTSTAMP:20260425T044714
CREATED:20260115T033402Z
LAST-MODIFIED:20260115T033402Z
UID:10005866-1885215600-1885226400@esrbc.org
SUMMARY:Huntington Park - After School Program (Thur.)
DESCRIPTION:
URL:https://esrbc.org/event/huntington-park-after-school-program-thur/2029-09-27/
LOCATION:ESRBC H.P. Office\, 6013 State Street\, Huntington Park\, CA\, 90255\, United States
END:VEVENT
BEGIN:VEVENT
DTSTART;TZID=America/Los_Angeles:20291002T110000
DTEND;TZID=America/Los_Angeles:20291002T120000
DTSTAMP:20260425T044714
CREATED:20260115T032221Z
LAST-MODIFIED:20260115T032628Z
UID:10004746-1885633200-1885636800@esrbc.org
SUMMARY:Watts - Food Distribution Every Tuesday
DESCRIPTION:
URL:https://esrbc.org/event/watts-food-distribution-every-tuesday/2029-10-02/
LOCATION:Watts Civic Center\, 1513\, Los Angeles\, CA\, 90002\, United States
END:VEVENT
BEGIN:VEVENT
DTSTART;TZID=America/Los_Angeles:20291002T140000
DTEND;TZID=America/Los_Angeles:20291002T180000
DTSTAMP:20260425T044714
CREATED:20260115T034104Z
LAST-MODIFIED:20260115T034140Z
UID:10007227-1885644000-1885658400@esrbc.org
SUMMARY:Huntington Park - After School Program (Tues.)
DESCRIPTION:
URL:https://esrbc.org/event/huntington-park-after-school-program-tues/2029-10-02/
LOCATION:ESRBC H.P. Office\, 6013 State Street\, Huntington Park\, CA\, 90255\, United States
END:VEVENT
BEGIN:VEVENT
DTSTART;TZID=America/Los_Angeles:20291003T150000
DTEND;TZID=America/Los_Angeles:20291003T180000
DTSTAMP:20260425T044714
CREATED:20260115T033113Z
LAST-MODIFIED:20260115T033311Z
UID:10003948-1885734000-1885744800@esrbc.org
SUMMARY:Huntington Park - After School Program (Wed.)
DESCRIPTION:
URL:https://esrbc.org/event/huntington-park-after-school-program-2-2/2029-10-03/
LOCATION:ESRBC H.P. Office\, 6013 State Street\, Huntington Park\, CA\, 90255\, United States
END:VEVENT
BEGIN:VEVENT
DTSTART;TZID=America/Los_Angeles:20291004T150000
DTEND;TZID=America/Los_Angeles:20291004T180000
DTSTAMP:20260425T044714
CREATED:20260115T033402Z
LAST-MODIFIED:20260115T033402Z
UID:10005867-1885820400-1885831200@esrbc.org
SUMMARY:Huntington Park - After School Program (Thur.)
DESCRIPTION:
URL:https://esrbc.org/event/huntington-park-after-school-program-thur/2029-10-04/
LOCATION:ESRBC H.P. Office\, 6013 State Street\, Huntington Park\, CA\, 90255\, United States
END:VEVENT
BEGIN:VEVENT
DTSTART;TZID=America/Los_Angeles:20291005T180000
DTEND;TZID=America/Los_Angeles:20291005T200000
DTSTAMP:20260425T044714
CREATED:20260115T033649Z
LAST-MODIFIED:20260115T033649Z
UID:10006497-1885917600-1885924800@esrbc.org
SUMMARY:Friday Night Bike Ride
DESCRIPTION:
URL:https://esrbc.org/event/friday-night-bike-ride-2/2029-10-05/
LOCATION:ESRBC H.P. Office\, 6013 State Street\, Huntington Park\, CA\, 90255\, United States
END:VEVENT
BEGIN:VEVENT
DTSTART;TZID=America/Los_Angeles:20291009T110000
DTEND;TZID=America/Los_Angeles:20291009T120000
DTSTAMP:20260425T044714
CREATED:20260115T032221Z
LAST-MODIFIED:20260115T032628Z
UID:10004747-1886238000-1886241600@esrbc.org
SUMMARY:Watts - Food Distribution Every Tuesday
DESCRIPTION:
URL:https://esrbc.org/event/watts-food-distribution-every-tuesday/2029-10-09/
LOCATION:Watts Civic Center\, 1513\, Los Angeles\, CA\, 90002\, United States
END:VEVENT
BEGIN:VEVENT
DTSTART;TZID=America/Los_Angeles:20291009T140000
DTEND;TZID=America/Los_Angeles:20291009T180000
DTSTAMP:20260425T044714
CREATED:20260115T034104Z
LAST-MODIFIED:20260115T034140Z
UID:10007228-1886248800-1886263200@esrbc.org
SUMMARY:Huntington Park - After School Program (Tues.)
DESCRIPTION:
URL:https://esrbc.org/event/huntington-park-after-school-program-tues/2029-10-09/
LOCATION:ESRBC H.P. Office\, 6013 State Street\, Huntington Park\, CA\, 90255\, United States
END:VEVENT
BEGIN:VEVENT
DTSTART;TZID=America/Los_Angeles:20291010T150000
DTEND;TZID=America/Los_Angeles:20291010T180000
DTSTAMP:20260425T044714
CREATED:20260115T033113Z
LAST-MODIFIED:20260115T033311Z
UID:10003951-1886338800-1886349600@esrbc.org
SUMMARY:Huntington Park - After School Program (Wed.)
DESCRIPTION:
URL:https://esrbc.org/event/huntington-park-after-school-program-2-2/2029-10-10/
LOCATION:ESRBC H.P. Office\, 6013 State Street\, Huntington Park\, CA\, 90255\, United States
END:VEVENT
BEGIN:VEVENT
DTSTART;TZID=America/Los_Angeles:20291011T150000
DTEND;TZID=America/Los_Angeles:20291011T180000
DTSTAMP:20260425T044714
CREATED:20260115T033402Z
LAST-MODIFIED:20260115T033402Z
UID:10005868-1886425200-1886436000@esrbc.org
SUMMARY:Huntington Park - After School Program (Thur.)
DESCRIPTION:
URL:https://esrbc.org/event/huntington-park-after-school-program-thur/2029-10-11/
LOCATION:ESRBC H.P. Office\, 6013 State Street\, Huntington Park\, CA\, 90255\, United States
END:VEVENT
BEGIN:VEVENT
DTSTART;TZID=America/Los_Angeles:20291016T110000
DTEND;TZID=America/Los_Angeles:20291016T120000
DTSTAMP:20260425T044714
CREATED:20260115T032221Z
LAST-MODIFIED:20260115T032628Z
UID:10004748-1886842800-1886846400@esrbc.org
SUMMARY:Watts - Food Distribution Every Tuesday
DESCRIPTION:
URL:https://esrbc.org/event/watts-food-distribution-every-tuesday/2029-10-16/
LOCATION:Watts Civic Center\, 1513\, Los Angeles\, CA\, 90002\, United States
END:VEVENT
BEGIN:VEVENT
DTSTART;TZID=America/Los_Angeles:20291016T140000
DTEND;TZID=America/Los_Angeles:20291016T180000
DTSTAMP:20260425T044714
CREATED:20260115T034104Z
LAST-MODIFIED:20260115T034140Z
UID:10007229-1886853600-1886868000@esrbc.org
SUMMARY:Huntington Park - After School Program (Tues.)
DESCRIPTION:
URL:https://esrbc.org/event/huntington-park-after-school-program-tues/2029-10-16/
LOCATION:ESRBC H.P. Office\, 6013 State Street\, Huntington Park\, CA\, 90255\, United States
END:VEVENT
BEGIN:VEVENT
DTSTART;TZID=America/Los_Angeles:20291017T150000
DTEND;TZID=America/Los_Angeles:20291017T180000
DTSTAMP:20260425T044714
CREATED:20260115T033113Z
LAST-MODIFIED:20260115T033311Z
UID:10003954-1886943600-1886954400@esrbc.org
SUMMARY:Huntington Park - After School Program (Wed.)
DESCRIPTION:
URL:https://esrbc.org/event/huntington-park-after-school-program-2-2/2029-10-17/
LOCATION:ESRBC H.P. Office\, 6013 State Street\, Huntington Park\, CA\, 90255\, United States
END:VEVENT
BEGIN:VEVENT
DTSTART;TZID=America/Los_Angeles:20291018T150000
DTEND;TZID=America/Los_Angeles:20291018T180000
DTSTAMP:20260425T044714
CREATED:20260115T033402Z
LAST-MODIFIED:20260115T033402Z
UID:10005869-1887030000-1887040800@esrbc.org
SUMMARY:Huntington Park - After School Program (Thur.)
DESCRIPTION:
URL:https://esrbc.org/event/huntington-park-after-school-program-thur/2029-10-18/
LOCATION:ESRBC H.P. Office\, 6013 State Street\, Huntington Park\, CA\, 90255\, United States
END:VEVENT
BEGIN:VEVENT
DTSTART;TZID=America/Los_Angeles:20291023T110000
DTEND;TZID=America/Los_Angeles:20291023T120000
DTSTAMP:20260425T044714
CREATED:20260115T032221Z
LAST-MODIFIED:20260115T032628Z
UID:10004749-1887447600-1887451200@esrbc.org
SUMMARY:Watts - Food Distribution Every Tuesday
DESCRIPTION:
URL:https://esrbc.org/event/watts-food-distribution-every-tuesday/2029-10-23/
LOCATION:Watts Civic Center\, 1513\, Los Angeles\, CA\, 90002\, United States
END:VEVENT
BEGIN:VEVENT
DTSTART;TZID=America/Los_Angeles:20291023T140000
DTEND;TZID=America/Los_Angeles:20291023T180000
DTSTAMP:20260425T044714
CREATED:20260115T034104Z
LAST-MODIFIED:20260115T034140Z
UID:10007230-1887458400-1887472800@esrbc.org
SUMMARY:Huntington Park - After School Program (Tues.)
DESCRIPTION:
URL:https://esrbc.org/event/huntington-park-after-school-program-tues/2029-10-23/
LOCATION:ESRBC H.P. Office\, 6013 State Street\, Huntington Park\, CA\, 90255\, United States
END:VEVENT
BEGIN:VEVENT
DTSTART;TZID=America/Los_Angeles:20291024T150000
DTEND;TZID=America/Los_Angeles:20291024T180000
DTSTAMP:20260425T044714
CREATED:20260115T033113Z
LAST-MODIFIED:20260115T033311Z
UID:10003957-1887548400-1887559200@esrbc.org
SUMMARY:Huntington Park - After School Program (Wed.)
DESCRIPTION:
URL:https://esrbc.org/event/huntington-park-after-school-program-2-2/2029-10-24/
LOCATION:ESRBC H.P. Office\, 6013 State Street\, Huntington Park\, CA\, 90255\, United States
END:VEVENT
BEGIN:VEVENT
DTSTART;TZID=America/Los_Angeles:20291025T150000
DTEND;TZID=America/Los_Angeles:20291025T180000
DTSTAMP:20260425T044714
CREATED:20260115T033402Z
LAST-MODIFIED:20260115T033402Z
UID:10005870-1887634800-1887645600@esrbc.org
SUMMARY:Huntington Park - After School Program (Thur.)
DESCRIPTION:
URL:https://esrbc.org/event/huntington-park-after-school-program-thur/2029-10-25/
LOCATION:ESRBC H.P. Office\, 6013 State Street\, Huntington Park\, CA\, 90255\, United States
END:VEVENT
END:VCALENDAR