BEGIN:VCALENDAR
VERSION:2.0
PRODID:-//East Side Riders Bike Club - ECPv6.15.20//NONSGML v1.0//EN
CALSCALE:GREGORIAN
METHOD:PUBLISH
X-WR-CALNAME:East Side Riders Bike Club
X-ORIGINAL-URL:https://esrbc.org
X-WR-CALDESC:Events for East Side Riders Bike Club
REFRESH-INTERVAL;VALUE=DURATION:PT1H
X-Robots-Tag:noindex
X-PUBLISHED-TTL:PT1H
BEGIN:VTIMEZONE
TZID:America/Los_Angeles
BEGIN:DAYLIGHT
TZOFFSETFROM:-0800
TZOFFSETTO:-0700
TZNAME:PDT
DTSTART:20290311T100000
END:DAYLIGHT
BEGIN:STANDARD
TZOFFSETFROM:-0700
TZOFFSETTO:-0800
TZNAME:PST
DTSTART:20291104T090000
END:STANDARD
BEGIN:DAYLIGHT
TZOFFSETFROM:-0800
TZOFFSETTO:-0700
TZNAME:PDT
DTSTART:20300310T100000
END:DAYLIGHT
BEGIN:STANDARD
TZOFFSETFROM:-0700
TZOFFSETTO:-0800
TZNAME:PST
DTSTART:20301103T090000
END:STANDARD
BEGIN:DAYLIGHT
TZOFFSETFROM:-0800
TZOFFSETTO:-0700
TZNAME:PDT
DTSTART:20310309T100000
END:DAYLIGHT
BEGIN:STANDARD
TZOFFSETFROM:-0700
TZOFFSETTO:-0800
TZNAME:PST
DTSTART:20311102T090000
END:STANDARD
END:VTIMEZONE
BEGIN:VEVENT
DTSTART;TZID=America/Los_Angeles:20300910T110000
DTEND;TZID=America/Los_Angeles:20300910T120000
DTSTAMP:20260425T181439
CREATED:20260115T032221Z
LAST-MODIFIED:20260115T032628Z
UID:10004795-1915268400-1915272000@esrbc.org
SUMMARY:Watts - Food Distribution Every Tuesday
DESCRIPTION:
URL:https://esrbc.org/event/watts-food-distribution-every-tuesday/2030-09-10/
LOCATION:Watts Civic Center\, 1513\, Los Angeles\, CA\, 90002\, United States
END:VEVENT
BEGIN:VEVENT
DTSTART;TZID=America/Los_Angeles:20300910T140000
DTEND;TZID=America/Los_Angeles:20300910T180000
DTSTAMP:20260425T181439
CREATED:20260115T034104Z
LAST-MODIFIED:20260115T034140Z
UID:10007276-1915279200-1915293600@esrbc.org
SUMMARY:Huntington Park - After School Program (Tues.)
DESCRIPTION:
URL:https://esrbc.org/event/huntington-park-after-school-program-tues/2030-09-10/
LOCATION:ESRBC H.P. Office\, 6013 State Street\, Huntington Park\, CA\, 90255\, United States
END:VEVENT
BEGIN:VEVENT
DTSTART;TZID=America/Los_Angeles:20300911T150000
DTEND;TZID=America/Los_Angeles:20300911T180000
DTSTAMP:20260425T181439
CREATED:20260115T033113Z
LAST-MODIFIED:20260115T033311Z
UID:10004857-1915369200-1915380000@esrbc.org
SUMMARY:Huntington Park - After School Program (Wed.)
DESCRIPTION:
URL:https://esrbc.org/event/huntington-park-after-school-program-2-2/2030-09-11/
LOCATION:ESRBC H.P. Office\, 6013 State Street\, Huntington Park\, CA\, 90255\, United States
END:VEVENT
BEGIN:VEVENT
DTSTART;TZID=America/Los_Angeles:20300912T150000
DTEND;TZID=America/Los_Angeles:20300912T180000
DTSTAMP:20260425T181439
CREATED:20260115T033402Z
LAST-MODIFIED:20260115T033402Z
UID:10005916-1915455600-1915466400@esrbc.org
SUMMARY:Huntington Park - After School Program (Thur.)
DESCRIPTION:
URL:https://esrbc.org/event/huntington-park-after-school-program-thur/2030-09-12/
LOCATION:ESRBC H.P. Office\, 6013 State Street\, Huntington Park\, CA\, 90255\, United States
END:VEVENT
BEGIN:VEVENT
DTSTART;TZID=America/Los_Angeles:20300917T110000
DTEND;TZID=America/Los_Angeles:20300917T120000
DTSTAMP:20260425T181439
CREATED:20260115T032221Z
LAST-MODIFIED:20260115T032628Z
UID:10004796-1915873200-1915876800@esrbc.org
SUMMARY:Watts - Food Distribution Every Tuesday
DESCRIPTION:
URL:https://esrbc.org/event/watts-food-distribution-every-tuesday/2030-09-17/
LOCATION:Watts Civic Center\, 1513\, Los Angeles\, CA\, 90002\, United States
END:VEVENT
BEGIN:VEVENT
DTSTART;TZID=America/Los_Angeles:20300917T140000
DTEND;TZID=America/Los_Angeles:20300917T180000
DTSTAMP:20260425T181439
CREATED:20260115T034104Z
LAST-MODIFIED:20260115T034140Z
UID:10007277-1915884000-1915898400@esrbc.org
SUMMARY:Huntington Park - After School Program (Tues.)
DESCRIPTION:
URL:https://esrbc.org/event/huntington-park-after-school-program-tues/2030-09-17/
LOCATION:ESRBC H.P. Office\, 6013 State Street\, Huntington Park\, CA\, 90255\, United States
END:VEVENT
BEGIN:VEVENT
DTSTART;TZID=America/Los_Angeles:20300918T150000
DTEND;TZID=America/Los_Angeles:20300918T180000
DTSTAMP:20260425T181439
CREATED:20260115T033113Z
LAST-MODIFIED:20260115T033311Z
UID:10004859-1915974000-1915984800@esrbc.org
SUMMARY:Huntington Park - After School Program (Wed.)
DESCRIPTION:
URL:https://esrbc.org/event/huntington-park-after-school-program-2-2/2030-09-18/
LOCATION:ESRBC H.P. Office\, 6013 State Street\, Huntington Park\, CA\, 90255\, United States
END:VEVENT
BEGIN:VEVENT
DTSTART;TZID=America/Los_Angeles:20300919T150000
DTEND;TZID=America/Los_Angeles:20300919T180000
DTSTAMP:20260425T181439
CREATED:20260115T033402Z
LAST-MODIFIED:20260115T033402Z
UID:10005917-1916060400-1916071200@esrbc.org
SUMMARY:Huntington Park - After School Program (Thur.)
DESCRIPTION:
URL:https://esrbc.org/event/huntington-park-after-school-program-thur/2030-09-19/
LOCATION:ESRBC H.P. Office\, 6013 State Street\, Huntington Park\, CA\, 90255\, United States
END:VEVENT
BEGIN:VEVENT
DTSTART;TZID=America/Los_Angeles:20300924T110000
DTEND;TZID=America/Los_Angeles:20300924T120000
DTSTAMP:20260425T181439
CREATED:20260115T032221Z
LAST-MODIFIED:20260115T032628Z
UID:10004797-1916478000-1916481600@esrbc.org
SUMMARY:Watts - Food Distribution Every Tuesday
DESCRIPTION:
URL:https://esrbc.org/event/watts-food-distribution-every-tuesday/2030-09-24/
LOCATION:Watts Civic Center\, 1513\, Los Angeles\, CA\, 90002\, United States
END:VEVENT
BEGIN:VEVENT
DTSTART;TZID=America/Los_Angeles:20300924T140000
DTEND;TZID=America/Los_Angeles:20300924T180000
DTSTAMP:20260425T181439
CREATED:20260115T034104Z
LAST-MODIFIED:20260115T034140Z
UID:10007278-1916488800-1916503200@esrbc.org
SUMMARY:Huntington Park - After School Program (Tues.)
DESCRIPTION:
URL:https://esrbc.org/event/huntington-park-after-school-program-tues/2030-09-24/
LOCATION:ESRBC H.P. Office\, 6013 State Street\, Huntington Park\, CA\, 90255\, United States
END:VEVENT
BEGIN:VEVENT
DTSTART;TZID=America/Los_Angeles:20300925T150000
DTEND;TZID=America/Los_Angeles:20300925T180000
DTSTAMP:20260425T181439
CREATED:20260115T033113Z
LAST-MODIFIED:20260115T033311Z
UID:10004861-1916578800-1916589600@esrbc.org
SUMMARY:Huntington Park - After School Program (Wed.)
DESCRIPTION:
URL:https://esrbc.org/event/huntington-park-after-school-program-2-2/2030-09-25/
LOCATION:ESRBC H.P. Office\, 6013 State Street\, Huntington Park\, CA\, 90255\, United States
END:VEVENT
BEGIN:VEVENT
DTSTART;TZID=America/Los_Angeles:20300926T150000
DTEND;TZID=America/Los_Angeles:20300926T180000
DTSTAMP:20260425T181439
CREATED:20260115T033402Z
LAST-MODIFIED:20260115T033402Z
UID:10005918-1916665200-1916676000@esrbc.org
SUMMARY:Huntington Park - After School Program (Thur.)
DESCRIPTION:
URL:https://esrbc.org/event/huntington-park-after-school-program-thur/2030-09-26/
LOCATION:ESRBC H.P. Office\, 6013 State Street\, Huntington Park\, CA\, 90255\, United States
END:VEVENT
BEGIN:VEVENT
DTSTART;TZID=America/Los_Angeles:20301001T110000
DTEND;TZID=America/Los_Angeles:20301001T120000
DTSTAMP:20260425T181439
CREATED:20260115T032221Z
LAST-MODIFIED:20260115T032628Z
UID:10004798-1917082800-1917086400@esrbc.org
SUMMARY:Watts - Food Distribution Every Tuesday
DESCRIPTION:
URL:https://esrbc.org/event/watts-food-distribution-every-tuesday/2030-10-01/
LOCATION:Watts Civic Center\, 1513\, Los Angeles\, CA\, 90002\, United States
END:VEVENT
BEGIN:VEVENT
DTSTART;TZID=America/Los_Angeles:20301001T140000
DTEND;TZID=America/Los_Angeles:20301001T180000
DTSTAMP:20260425T181439
CREATED:20260115T034104Z
LAST-MODIFIED:20260115T034140Z
UID:10007279-1917093600-1917108000@esrbc.org
SUMMARY:Huntington Park - After School Program (Tues.)
DESCRIPTION:
URL:https://esrbc.org/event/huntington-park-after-school-program-tues/2030-10-01/
LOCATION:ESRBC H.P. Office\, 6013 State Street\, Huntington Park\, CA\, 90255\, United States
END:VEVENT
BEGIN:VEVENT
DTSTART;TZID=America/Los_Angeles:20301002T150000
DTEND;TZID=America/Los_Angeles:20301002T180000
DTSTAMP:20260425T181439
CREATED:20260115T033113Z
LAST-MODIFIED:20260115T033311Z
UID:10004863-1917183600-1917194400@esrbc.org
SUMMARY:Huntington Park - After School Program (Wed.)
DESCRIPTION:
URL:https://esrbc.org/event/huntington-park-after-school-program-2-2/2030-10-02/
LOCATION:ESRBC H.P. Office\, 6013 State Street\, Huntington Park\, CA\, 90255\, United States
END:VEVENT
BEGIN:VEVENT
DTSTART;TZID=America/Los_Angeles:20301003T150000
DTEND;TZID=America/Los_Angeles:20301003T180000
DTSTAMP:20260425T181439
CREATED:20260115T033402Z
LAST-MODIFIED:20260115T033402Z
UID:10005919-1917270000-1917280800@esrbc.org
SUMMARY:Huntington Park - After School Program (Thur.)
DESCRIPTION:
URL:https://esrbc.org/event/huntington-park-after-school-program-thur/2030-10-03/
LOCATION:ESRBC H.P. Office\, 6013 State Street\, Huntington Park\, CA\, 90255\, United States
END:VEVENT
BEGIN:VEVENT
DTSTART;TZID=America/Los_Angeles:20301004T180000
DTEND;TZID=America/Los_Angeles:20301004T200000
DTSTAMP:20260425T181439
CREATED:20260115T033649Z
LAST-MODIFIED:20260115T033649Z
UID:10006509-1917367200-1917374400@esrbc.org
SUMMARY:Friday Night Bike Ride
DESCRIPTION:
URL:https://esrbc.org/event/friday-night-bike-ride-2/2030-10-04/
LOCATION:ESRBC H.P. Office\, 6013 State Street\, Huntington Park\, CA\, 90255\, United States
END:VEVENT
BEGIN:VEVENT
DTSTART;TZID=America/Los_Angeles:20301008T110000
DTEND;TZID=America/Los_Angeles:20301008T120000
DTSTAMP:20260425T181439
CREATED:20260115T032221Z
LAST-MODIFIED:20260115T032628Z
UID:10004799-1917687600-1917691200@esrbc.org
SUMMARY:Watts - Food Distribution Every Tuesday
DESCRIPTION:
URL:https://esrbc.org/event/watts-food-distribution-every-tuesday/2030-10-08/
LOCATION:Watts Civic Center\, 1513\, Los Angeles\, CA\, 90002\, United States
END:VEVENT
BEGIN:VEVENT
DTSTART;TZID=America/Los_Angeles:20301008T140000
DTEND;TZID=America/Los_Angeles:20301008T180000
DTSTAMP:20260425T181439
CREATED:20260115T034104Z
LAST-MODIFIED:20260115T034140Z
UID:10007280-1917698400-1917712800@esrbc.org
SUMMARY:Huntington Park - After School Program (Tues.)
DESCRIPTION:
URL:https://esrbc.org/event/huntington-park-after-school-program-tues/2030-10-08/
LOCATION:ESRBC H.P. Office\, 6013 State Street\, Huntington Park\, CA\, 90255\, United States
END:VEVENT
BEGIN:VEVENT
DTSTART;TZID=America/Los_Angeles:20301009T150000
DTEND;TZID=America/Los_Angeles:20301009T180000
DTSTAMP:20260425T181439
CREATED:20260115T033113Z
LAST-MODIFIED:20260115T033311Z
UID:10004865-1917788400-1917799200@esrbc.org
SUMMARY:Huntington Park - After School Program (Wed.)
DESCRIPTION:
URL:https://esrbc.org/event/huntington-park-after-school-program-2-2/2030-10-09/
LOCATION:ESRBC H.P. Office\, 6013 State Street\, Huntington Park\, CA\, 90255\, United States
END:VEVENT
BEGIN:VEVENT
DTSTART;TZID=America/Los_Angeles:20301010T150000
DTEND;TZID=America/Los_Angeles:20301010T180000
DTSTAMP:20260425T181439
CREATED:20260115T033402Z
LAST-MODIFIED:20260115T033402Z
UID:10005920-1917874800-1917885600@esrbc.org
SUMMARY:Huntington Park - After School Program (Thur.)
DESCRIPTION:
URL:https://esrbc.org/event/huntington-park-after-school-program-thur/2030-10-10/
LOCATION:ESRBC H.P. Office\, 6013 State Street\, Huntington Park\, CA\, 90255\, United States
END:VEVENT
BEGIN:VEVENT
DTSTART;TZID=America/Los_Angeles:20301015T110000
DTEND;TZID=America/Los_Angeles:20301015T120000
DTSTAMP:20260425T181439
CREATED:20260115T032221Z
LAST-MODIFIED:20260115T032628Z
UID:10004800-1918292400-1918296000@esrbc.org
SUMMARY:Watts - Food Distribution Every Tuesday
DESCRIPTION:
URL:https://esrbc.org/event/watts-food-distribution-every-tuesday/2030-10-15/
LOCATION:Watts Civic Center\, 1513\, Los Angeles\, CA\, 90002\, United States
END:VEVENT
BEGIN:VEVENT
DTSTART;TZID=America/Los_Angeles:20301015T140000
DTEND;TZID=America/Los_Angeles:20301015T180000
DTSTAMP:20260425T181439
CREATED:20260115T034104Z
LAST-MODIFIED:20260115T034140Z
UID:10007281-1918303200-1918317600@esrbc.org
SUMMARY:Huntington Park - After School Program (Tues.)
DESCRIPTION:
URL:https://esrbc.org/event/huntington-park-after-school-program-tues/2030-10-15/
LOCATION:ESRBC H.P. Office\, 6013 State Street\, Huntington Park\, CA\, 90255\, United States
END:VEVENT
BEGIN:VEVENT
DTSTART;TZID=America/Los_Angeles:20301016T150000
DTEND;TZID=America/Los_Angeles:20301016T180000
DTSTAMP:20260425T181439
CREATED:20260115T033113Z
LAST-MODIFIED:20260115T033311Z
UID:10004867-1918393200-1918404000@esrbc.org
SUMMARY:Huntington Park - After School Program (Wed.)
DESCRIPTION:
URL:https://esrbc.org/event/huntington-park-after-school-program-2-2/2030-10-16/
LOCATION:ESRBC H.P. Office\, 6013 State Street\, Huntington Park\, CA\, 90255\, United States
END:VEVENT
BEGIN:VEVENT
DTSTART;TZID=America/Los_Angeles:20301017T150000
DTEND;TZID=America/Los_Angeles:20301017T180000
DTSTAMP:20260425T181439
CREATED:20260115T033402Z
LAST-MODIFIED:20260115T033402Z
UID:10005921-1918479600-1918490400@esrbc.org
SUMMARY:Huntington Park - After School Program (Thur.)
DESCRIPTION:
URL:https://esrbc.org/event/huntington-park-after-school-program-thur/2030-10-17/
LOCATION:ESRBC H.P. Office\, 6013 State Street\, Huntington Park\, CA\, 90255\, United States
END:VEVENT
BEGIN:VEVENT
DTSTART;TZID=America/Los_Angeles:20301022T110000
DTEND;TZID=America/Los_Angeles:20301022T120000
DTSTAMP:20260425T181439
CREATED:20260115T032221Z
LAST-MODIFIED:20260115T032628Z
UID:10004801-1918897200-1918900800@esrbc.org
SUMMARY:Watts - Food Distribution Every Tuesday
DESCRIPTION:
URL:https://esrbc.org/event/watts-food-distribution-every-tuesday/2030-10-22/
LOCATION:Watts Civic Center\, 1513\, Los Angeles\, CA\, 90002\, United States
END:VEVENT
BEGIN:VEVENT
DTSTART;TZID=America/Los_Angeles:20301022T140000
DTEND;TZID=America/Los_Angeles:20301022T180000
DTSTAMP:20260425T181439
CREATED:20260115T034104Z
LAST-MODIFIED:20260115T034140Z
UID:10007282-1918908000-1918922400@esrbc.org
SUMMARY:Huntington Park - After School Program (Tues.)
DESCRIPTION:
URL:https://esrbc.org/event/huntington-park-after-school-program-tues/2030-10-22/
LOCATION:ESRBC H.P. Office\, 6013 State Street\, Huntington Park\, CA\, 90255\, United States
END:VEVENT
BEGIN:VEVENT
DTSTART;TZID=America/Los_Angeles:20301023T150000
DTEND;TZID=America/Los_Angeles:20301023T180000
DTSTAMP:20260425T181439
CREATED:20260115T033113Z
LAST-MODIFIED:20260115T033311Z
UID:10004869-1918998000-1919008800@esrbc.org
SUMMARY:Huntington Park - After School Program (Wed.)
DESCRIPTION:
URL:https://esrbc.org/event/huntington-park-after-school-program-2-2/2030-10-23/
LOCATION:ESRBC H.P. Office\, 6013 State Street\, Huntington Park\, CA\, 90255\, United States
END:VEVENT
BEGIN:VEVENT
DTSTART;TZID=America/Los_Angeles:20301024T150000
DTEND;TZID=America/Los_Angeles:20301024T180000
DTSTAMP:20260425T181439
CREATED:20260115T033402Z
LAST-MODIFIED:20260115T033402Z
UID:10005922-1919084400-1919095200@esrbc.org
SUMMARY:Huntington Park - After School Program (Thur.)
DESCRIPTION:
URL:https://esrbc.org/event/huntington-park-after-school-program-thur/2030-10-24/
LOCATION:ESRBC H.P. Office\, 6013 State Street\, Huntington Park\, CA\, 90255\, United States
END:VEVENT
BEGIN:VEVENT
DTSTART;TZID=America/Los_Angeles:20301029T110000
DTEND;TZID=America/Los_Angeles:20301029T120000
DTSTAMP:20260425T181439
CREATED:20260115T032221Z
LAST-MODIFIED:20260115T032628Z
UID:10004802-1919502000-1919505600@esrbc.org
SUMMARY:Watts - Food Distribution Every Tuesday
DESCRIPTION:
URL:https://esrbc.org/event/watts-food-distribution-every-tuesday/2030-10-29/
LOCATION:Watts Civic Center\, 1513\, Los Angeles\, CA\, 90002\, United States
END:VEVENT
END:VCALENDAR