BEGIN:VCALENDAR
VERSION:2.0
PRODID:-//East Side Riders Bike Club - ECPv6.15.20//NONSGML v1.0//EN
CALSCALE:GREGORIAN
METHOD:PUBLISH
X-ORIGINAL-URL:https://esrbc.org
X-WR-CALDESC:Events for East Side Riders Bike Club
REFRESH-INTERVAL;VALUE=DURATION:PT1H
X-Robots-Tag:noindex
X-PUBLISHED-TTL:PT1H
BEGIN:VTIMEZONE
TZID:America/Los_Angeles
BEGIN:DAYLIGHT
TZOFFSETFROM:-0800
TZOFFSETTO:-0700
TZNAME:PDT
DTSTART:20290311T100000
END:DAYLIGHT
BEGIN:STANDARD
TZOFFSETFROM:-0700
TZOFFSETTO:-0800
TZNAME:PST
DTSTART:20291104T090000
END:STANDARD
BEGIN:DAYLIGHT
TZOFFSETFROM:-0800
TZOFFSETTO:-0700
TZNAME:PDT
DTSTART:20300310T100000
END:DAYLIGHT
BEGIN:STANDARD
TZOFFSETFROM:-0700
TZOFFSETTO:-0800
TZNAME:PST
DTSTART:20301103T090000
END:STANDARD
BEGIN:DAYLIGHT
TZOFFSETFROM:-0800
TZOFFSETTO:-0700
TZNAME:PDT
DTSTART:20310309T100000
END:DAYLIGHT
BEGIN:STANDARD
TZOFFSETFROM:-0700
TZOFFSETTO:-0800
TZNAME:PST
DTSTART:20311102T090000
END:STANDARD
END:VTIMEZONE
BEGIN:VEVENT
DTSTART;TZID=America/Los_Angeles:20301008T110000
DTEND;TZID=America/Los_Angeles:20301008T120000
DTSTAMP:20260425T201034
CREATED:20260115T032221Z
LAST-MODIFIED:20260115T032628Z
UID:10004799-1917687600-1917691200@esrbc.org
SUMMARY:Watts - Food Distribution Every Tuesday
DESCRIPTION:
URL:https://esrbc.org/event/watts-food-distribution-every-tuesday/2030-10-08/
LOCATION:Watts Civic Center\, 1513\, Los Angeles\, CA\, 90002\, United States
END:VEVENT
BEGIN:VEVENT
DTSTART;TZID=America/Los_Angeles:20301008T140000
DTEND;TZID=America/Los_Angeles:20301008T180000
DTSTAMP:20260425T201034
CREATED:20260115T034104Z
LAST-MODIFIED:20260115T034140Z
UID:10007280-1917698400-1917712800@esrbc.org
SUMMARY:Huntington Park - After School Program (Tues.)
DESCRIPTION:
URL:https://esrbc.org/event/huntington-park-after-school-program-tues/2030-10-08/
LOCATION:ESRBC H.P. Office\, 6013 State Street\, Huntington Park\, CA\, 90255\, United States
END:VEVENT
BEGIN:VEVENT
DTSTART;TZID=America/Los_Angeles:20301009T150000
DTEND;TZID=America/Los_Angeles:20301009T180000
DTSTAMP:20260425T201034
CREATED:20260115T033113Z
LAST-MODIFIED:20260115T033311Z
UID:10004865-1917788400-1917799200@esrbc.org
SUMMARY:Huntington Park - After School Program (Wed.)
DESCRIPTION:
URL:https://esrbc.org/event/huntington-park-after-school-program-2-2/2030-10-09/
LOCATION:ESRBC H.P. Office\, 6013 State Street\, Huntington Park\, CA\, 90255\, United States
END:VEVENT
BEGIN:VEVENT
DTSTART;TZID=America/Los_Angeles:20301010T150000
DTEND;TZID=America/Los_Angeles:20301010T180000
DTSTAMP:20260425T201034
CREATED:20260115T033402Z
LAST-MODIFIED:20260115T033402Z
UID:10005920-1917874800-1917885600@esrbc.org
SUMMARY:Huntington Park - After School Program (Thur.)
DESCRIPTION:
URL:https://esrbc.org/event/huntington-park-after-school-program-thur/2030-10-10/
LOCATION:ESRBC H.P. Office\, 6013 State Street\, Huntington Park\, CA\, 90255\, United States
END:VEVENT
BEGIN:VEVENT
DTSTART;TZID=America/Los_Angeles:20301015T110000
DTEND;TZID=America/Los_Angeles:20301015T120000
DTSTAMP:20260425T201034
CREATED:20260115T032221Z
LAST-MODIFIED:20260115T032628Z
UID:10004800-1918292400-1918296000@esrbc.org
SUMMARY:Watts - Food Distribution Every Tuesday
DESCRIPTION:
URL:https://esrbc.org/event/watts-food-distribution-every-tuesday/2030-10-15/
LOCATION:Watts Civic Center\, 1513\, Los Angeles\, CA\, 90002\, United States
END:VEVENT
BEGIN:VEVENT
DTSTART;TZID=America/Los_Angeles:20301015T140000
DTEND;TZID=America/Los_Angeles:20301015T180000
DTSTAMP:20260425T201034
CREATED:20260115T034104Z
LAST-MODIFIED:20260115T034140Z
UID:10007281-1918303200-1918317600@esrbc.org
SUMMARY:Huntington Park - After School Program (Tues.)
DESCRIPTION:
URL:https://esrbc.org/event/huntington-park-after-school-program-tues/2030-10-15/
LOCATION:ESRBC H.P. Office\, 6013 State Street\, Huntington Park\, CA\, 90255\, United States
END:VEVENT
BEGIN:VEVENT
DTSTART;TZID=America/Los_Angeles:20301016T150000
DTEND;TZID=America/Los_Angeles:20301016T180000
DTSTAMP:20260425T201034
CREATED:20260115T033113Z
LAST-MODIFIED:20260115T033311Z
UID:10004867-1918393200-1918404000@esrbc.org
SUMMARY:Huntington Park - After School Program (Wed.)
DESCRIPTION:
URL:https://esrbc.org/event/huntington-park-after-school-program-2-2/2030-10-16/
LOCATION:ESRBC H.P. Office\, 6013 State Street\, Huntington Park\, CA\, 90255\, United States
END:VEVENT
BEGIN:VEVENT
DTSTART;TZID=America/Los_Angeles:20301017T150000
DTEND;TZID=America/Los_Angeles:20301017T180000
DTSTAMP:20260425T201034
CREATED:20260115T033402Z
LAST-MODIFIED:20260115T033402Z
UID:10005921-1918479600-1918490400@esrbc.org
SUMMARY:Huntington Park - After School Program (Thur.)
DESCRIPTION:
URL:https://esrbc.org/event/huntington-park-after-school-program-thur/2030-10-17/
LOCATION:ESRBC H.P. Office\, 6013 State Street\, Huntington Park\, CA\, 90255\, United States
END:VEVENT
BEGIN:VEVENT
DTSTART;TZID=America/Los_Angeles:20301022T110000
DTEND;TZID=America/Los_Angeles:20301022T120000
DTSTAMP:20260425T201034
CREATED:20260115T032221Z
LAST-MODIFIED:20260115T032628Z
UID:10004801-1918897200-1918900800@esrbc.org
SUMMARY:Watts - Food Distribution Every Tuesday
DESCRIPTION:
URL:https://esrbc.org/event/watts-food-distribution-every-tuesday/2030-10-22/
LOCATION:Watts Civic Center\, 1513\, Los Angeles\, CA\, 90002\, United States
END:VEVENT
BEGIN:VEVENT
DTSTART;TZID=America/Los_Angeles:20301022T140000
DTEND;TZID=America/Los_Angeles:20301022T180000
DTSTAMP:20260425T201034
CREATED:20260115T034104Z
LAST-MODIFIED:20260115T034140Z
UID:10007282-1918908000-1918922400@esrbc.org
SUMMARY:Huntington Park - After School Program (Tues.)
DESCRIPTION:
URL:https://esrbc.org/event/huntington-park-after-school-program-tues/2030-10-22/
LOCATION:ESRBC H.P. Office\, 6013 State Street\, Huntington Park\, CA\, 90255\, United States
END:VEVENT
BEGIN:VEVENT
DTSTART;TZID=America/Los_Angeles:20301023T150000
DTEND;TZID=America/Los_Angeles:20301023T180000
DTSTAMP:20260425T201034
CREATED:20260115T033113Z
LAST-MODIFIED:20260115T033311Z
UID:10004869-1918998000-1919008800@esrbc.org
SUMMARY:Huntington Park - After School Program (Wed.)
DESCRIPTION:
URL:https://esrbc.org/event/huntington-park-after-school-program-2-2/2030-10-23/
LOCATION:ESRBC H.P. Office\, 6013 State Street\, Huntington Park\, CA\, 90255\, United States
END:VEVENT
BEGIN:VEVENT
DTSTART;TZID=America/Los_Angeles:20301024T150000
DTEND;TZID=America/Los_Angeles:20301024T180000
DTSTAMP:20260425T201034
CREATED:20260115T033402Z
LAST-MODIFIED:20260115T033402Z
UID:10005922-1919084400-1919095200@esrbc.org
SUMMARY:Huntington Park - After School Program (Thur.)
DESCRIPTION:
URL:https://esrbc.org/event/huntington-park-after-school-program-thur/2030-10-24/
LOCATION:ESRBC H.P. Office\, 6013 State Street\, Huntington Park\, CA\, 90255\, United States
END:VEVENT
BEGIN:VEVENT
DTSTART;TZID=America/Los_Angeles:20301029T110000
DTEND;TZID=America/Los_Angeles:20301029T120000
DTSTAMP:20260425T201034
CREATED:20260115T032221Z
LAST-MODIFIED:20260115T032628Z
UID:10004802-1919502000-1919505600@esrbc.org
SUMMARY:Watts - Food Distribution Every Tuesday
DESCRIPTION:
URL:https://esrbc.org/event/watts-food-distribution-every-tuesday/2030-10-29/
LOCATION:Watts Civic Center\, 1513\, Los Angeles\, CA\, 90002\, United States
END:VEVENT
BEGIN:VEVENT
DTSTART;TZID=America/Los_Angeles:20301029T140000
DTEND;TZID=America/Los_Angeles:20301029T180000
DTSTAMP:20260425T201034
CREATED:20260115T034104Z
LAST-MODIFIED:20260115T034140Z
UID:10007283-1919512800-1919527200@esrbc.org
SUMMARY:Huntington Park - After School Program (Tues.)
DESCRIPTION:
URL:https://esrbc.org/event/huntington-park-after-school-program-tues/2030-10-29/
LOCATION:ESRBC H.P. Office\, 6013 State Street\, Huntington Park\, CA\, 90255\, United States
END:VEVENT
BEGIN:VEVENT
DTSTART;TZID=America/Los_Angeles:20301030T150000
DTEND;TZID=America/Los_Angeles:20301030T180000
DTSTAMP:20260425T201034
CREATED:20260115T033113Z
LAST-MODIFIED:20260115T033311Z
UID:10004871-1919602800-1919613600@esrbc.org
SUMMARY:Huntington Park - After School Program (Wed.)
DESCRIPTION:
URL:https://esrbc.org/event/huntington-park-after-school-program-2-2/2030-10-30/
LOCATION:ESRBC H.P. Office\, 6013 State Street\, Huntington Park\, CA\, 90255\, United States
END:VEVENT
BEGIN:VEVENT
DTSTART;TZID=America/Los_Angeles:20301031T150000
DTEND;TZID=America/Los_Angeles:20301031T180000
DTSTAMP:20260425T201034
CREATED:20260115T033402Z
LAST-MODIFIED:20260115T033402Z
UID:10005923-1919689200-1919700000@esrbc.org
SUMMARY:Huntington Park - After School Program (Thur.)
DESCRIPTION:
URL:https://esrbc.org/event/huntington-park-after-school-program-thur/2030-10-31/
LOCATION:ESRBC H.P. Office\, 6013 State Street\, Huntington Park\, CA\, 90255\, United States
END:VEVENT
BEGIN:VEVENT
DTSTART;TZID=America/Los_Angeles:20301101T180000
DTEND;TZID=America/Los_Angeles:20301101T200000
DTSTAMP:20260425T201034
CREATED:20260115T033649Z
LAST-MODIFIED:20260115T033649Z
UID:10006510-1919786400-1919793600@esrbc.org
SUMMARY:Friday Night Bike Ride
DESCRIPTION:
URL:https://esrbc.org/event/friday-night-bike-ride-2/2030-11-01/
LOCATION:ESRBC H.P. Office\, 6013 State Street\, Huntington Park\, CA\, 90255\, United States
END:VEVENT
BEGIN:VEVENT
DTSTART;TZID=America/Los_Angeles:20301105T110000
DTEND;TZID=America/Los_Angeles:20301105T120000
DTSTAMP:20260425T201034
CREATED:20260115T032221Z
LAST-MODIFIED:20260115T032628Z
UID:10004803-1920106800-1920110400@esrbc.org
SUMMARY:Watts - Food Distribution Every Tuesday
DESCRIPTION:
URL:https://esrbc.org/event/watts-food-distribution-every-tuesday/2030-11-05/
LOCATION:Watts Civic Center\, 1513\, Los Angeles\, CA\, 90002\, United States
END:VEVENT
BEGIN:VEVENT
DTSTART;TZID=America/Los_Angeles:20301105T140000
DTEND;TZID=America/Los_Angeles:20301105T180000
DTSTAMP:20260425T201034
CREATED:20260115T034104Z
LAST-MODIFIED:20260115T034140Z
UID:10007284-1920117600-1920132000@esrbc.org
SUMMARY:Huntington Park - After School Program (Tues.)
DESCRIPTION:
URL:https://esrbc.org/event/huntington-park-after-school-program-tues/2030-11-05/
LOCATION:ESRBC H.P. Office\, 6013 State Street\, Huntington Park\, CA\, 90255\, United States
END:VEVENT
BEGIN:VEVENT
DTSTART;TZID=America/Los_Angeles:20301106T150000
DTEND;TZID=America/Los_Angeles:20301106T180000
DTSTAMP:20260425T201034
CREATED:20260115T033113Z
LAST-MODIFIED:20260115T033311Z
UID:10004873-1920207600-1920218400@esrbc.org
SUMMARY:Huntington Park - After School Program (Wed.)
DESCRIPTION:
URL:https://esrbc.org/event/huntington-park-after-school-program-2-2/2030-11-06/
LOCATION:ESRBC H.P. Office\, 6013 State Street\, Huntington Park\, CA\, 90255\, United States
END:VEVENT
BEGIN:VEVENT
DTSTART;TZID=America/Los_Angeles:20301107T150000
DTEND;TZID=America/Los_Angeles:20301107T180000
DTSTAMP:20260425T201034
CREATED:20260115T033402Z
LAST-MODIFIED:20260115T033402Z
UID:10005924-1920294000-1920304800@esrbc.org
SUMMARY:Huntington Park - After School Program (Thur.)
DESCRIPTION:
URL:https://esrbc.org/event/huntington-park-after-school-program-thur/2030-11-07/
LOCATION:ESRBC H.P. Office\, 6013 State Street\, Huntington Park\, CA\, 90255\, United States
END:VEVENT
BEGIN:VEVENT
DTSTART;TZID=America/Los_Angeles:20301112T110000
DTEND;TZID=America/Los_Angeles:20301112T120000
DTSTAMP:20260425T201034
CREATED:20260115T032221Z
LAST-MODIFIED:20260115T032628Z
UID:10004804-1920711600-1920715200@esrbc.org
SUMMARY:Watts - Food Distribution Every Tuesday
DESCRIPTION:
URL:https://esrbc.org/event/watts-food-distribution-every-tuesday/2030-11-12/
LOCATION:Watts Civic Center\, 1513\, Los Angeles\, CA\, 90002\, United States
END:VEVENT
BEGIN:VEVENT
DTSTART;TZID=America/Los_Angeles:20301112T140000
DTEND;TZID=America/Los_Angeles:20301112T180000
DTSTAMP:20260425T201034
CREATED:20260115T034104Z
LAST-MODIFIED:20260115T034140Z
UID:10007285-1920722400-1920736800@esrbc.org
SUMMARY:Huntington Park - After School Program (Tues.)
DESCRIPTION:
URL:https://esrbc.org/event/huntington-park-after-school-program-tues/2030-11-12/
LOCATION:ESRBC H.P. Office\, 6013 State Street\, Huntington Park\, CA\, 90255\, United States
END:VEVENT
BEGIN:VEVENT
DTSTART;TZID=America/Los_Angeles:20301113T150000
DTEND;TZID=America/Los_Angeles:20301113T180000
DTSTAMP:20260425T201034
CREATED:20260115T033113Z
LAST-MODIFIED:20260115T033311Z
UID:10004875-1920812400-1920823200@esrbc.org
SUMMARY:Huntington Park - After School Program (Wed.)
DESCRIPTION:
URL:https://esrbc.org/event/huntington-park-after-school-program-2-2/2030-11-13/
LOCATION:ESRBC H.P. Office\, 6013 State Street\, Huntington Park\, CA\, 90255\, United States
END:VEVENT
BEGIN:VEVENT
DTSTART;TZID=America/Los_Angeles:20301114T150000
DTEND;TZID=America/Los_Angeles:20301114T180000
DTSTAMP:20260425T201034
CREATED:20260115T033402Z
LAST-MODIFIED:20260115T033402Z
UID:10005925-1920898800-1920909600@esrbc.org
SUMMARY:Huntington Park - After School Program (Thur.)
DESCRIPTION:
URL:https://esrbc.org/event/huntington-park-after-school-program-thur/2030-11-14/
LOCATION:ESRBC H.P. Office\, 6013 State Street\, Huntington Park\, CA\, 90255\, United States
END:VEVENT
BEGIN:VEVENT
DTSTART;TZID=America/Los_Angeles:20301119T110000
DTEND;TZID=America/Los_Angeles:20301119T120000
DTSTAMP:20260425T201034
CREATED:20260115T032221Z
LAST-MODIFIED:20260115T032628Z
UID:10004805-1921316400-1921320000@esrbc.org
SUMMARY:Watts - Food Distribution Every Tuesday
DESCRIPTION:
URL:https://esrbc.org/event/watts-food-distribution-every-tuesday/2030-11-19/
LOCATION:Watts Civic Center\, 1513\, Los Angeles\, CA\, 90002\, United States
END:VEVENT
BEGIN:VEVENT
DTSTART;TZID=America/Los_Angeles:20301119T140000
DTEND;TZID=America/Los_Angeles:20301119T180000
DTSTAMP:20260425T201034
CREATED:20260115T034104Z
LAST-MODIFIED:20260115T034140Z
UID:10007286-1921327200-1921341600@esrbc.org
SUMMARY:Huntington Park - After School Program (Tues.)
DESCRIPTION:
URL:https://esrbc.org/event/huntington-park-after-school-program-tues/2030-11-19/
LOCATION:ESRBC H.P. Office\, 6013 State Street\, Huntington Park\, CA\, 90255\, United States
END:VEVENT
BEGIN:VEVENT
DTSTART;TZID=America/Los_Angeles:20301120T150000
DTEND;TZID=America/Los_Angeles:20301120T180000
DTSTAMP:20260425T201034
CREATED:20260115T033113Z
LAST-MODIFIED:20260115T033311Z
UID:10004877-1921417200-1921428000@esrbc.org
SUMMARY:Huntington Park - After School Program (Wed.)
DESCRIPTION:
URL:https://esrbc.org/event/huntington-park-after-school-program-2-2/2030-11-20/
LOCATION:ESRBC H.P. Office\, 6013 State Street\, Huntington Park\, CA\, 90255\, United States
END:VEVENT
BEGIN:VEVENT
DTSTART;TZID=America/Los_Angeles:20301121T150000
DTEND;TZID=America/Los_Angeles:20301121T180000
DTSTAMP:20260425T201034
CREATED:20260115T033402Z
LAST-MODIFIED:20260115T033402Z
UID:10005926-1921503600-1921514400@esrbc.org
SUMMARY:Huntington Park - After School Program (Thur.)
DESCRIPTION:
URL:https://esrbc.org/event/huntington-park-after-school-program-thur/2030-11-21/
LOCATION:ESRBC H.P. Office\, 6013 State Street\, Huntington Park\, CA\, 90255\, United States
END:VEVENT
BEGIN:VEVENT
DTSTART;TZID=America/Los_Angeles:20301126T110000
DTEND;TZID=America/Los_Angeles:20301126T120000
DTSTAMP:20260425T201034
CREATED:20260115T032221Z
LAST-MODIFIED:20260115T032628Z
UID:10004806-1921921200-1921924800@esrbc.org
SUMMARY:Watts - Food Distribution Every Tuesday
DESCRIPTION:
URL:https://esrbc.org/event/watts-food-distribution-every-tuesday/2030-11-26/
LOCATION:Watts Civic Center\, 1513\, Los Angeles\, CA\, 90002\, United States
END:VEVENT
END:VCALENDAR