BEGIN:VCALENDAR
VERSION:2.0
PRODID:-//East Side Riders Bike Club - ECPv6.15.20//NONSGML v1.0//EN
CALSCALE:GREGORIAN
METHOD:PUBLISH
X-WR-CALNAME:East Side Riders Bike Club
X-ORIGINAL-URL:https://esrbc.org
X-WR-CALDESC:Events for East Side Riders Bike Club
REFRESH-INTERVAL;VALUE=DURATION:PT1H
X-Robots-Tag:noindex
X-PUBLISHED-TTL:PT1H
BEGIN:VTIMEZONE
TZID:America/Los_Angeles
BEGIN:DAYLIGHT
TZOFFSETFROM:-0800
TZOFFSETTO:-0700
TZNAME:PDT
DTSTART:20220313T100000
END:DAYLIGHT
BEGIN:STANDARD
TZOFFSETFROM:-0700
TZOFFSETTO:-0800
TZNAME:PST
DTSTART:20221106T090000
END:STANDARD
BEGIN:DAYLIGHT
TZOFFSETFROM:-0800
TZOFFSETTO:-0700
TZNAME:PDT
DTSTART:20230312T100000
END:DAYLIGHT
BEGIN:STANDARD
TZOFFSETFROM:-0700
TZOFFSETTO:-0800
TZNAME:PST
DTSTART:20231105T090000
END:STANDARD
BEGIN:DAYLIGHT
TZOFFSETFROM:-0800
TZOFFSETTO:-0700
TZNAME:PDT
DTSTART:20240310T100000
END:DAYLIGHT
BEGIN:STANDARD
TZOFFSETFROM:-0700
TZOFFSETTO:-0800
TZNAME:PST
DTSTART:20241103T090000
END:STANDARD
END:VTIMEZONE
BEGIN:VEVENT
DTSTART;TZID=America/Los_Angeles:20230423T100000
DTEND;TZID=America/Los_Angeles:20230423T140000
DTSTAMP:20260421T143744
CREATED:20230328T021725Z
LAST-MODIFIED:20230328T021725Z
UID:10001054-1682244000-1682258400@esrbc.org
SUMMARY:Family Sunday Community Bike Rides
DESCRIPTION:
URL:https://esrbc.org/event/family-sunday-community-bike-rides/2023-04-23/
LOCATION:East Riders Bike Store\, 12020 S. Central Ave.\, Los Angeles\, CA\, 90059\, United States
END:VEVENT
BEGIN:VEVENT
DTSTART;TZID=America/Los_Angeles:20230416T100000
DTEND;TZID=America/Los_Angeles:20230416T140000
DTSTAMP:20260421T143744
CREATED:20230328T021725Z
LAST-MODIFIED:20230328T021725Z
UID:10001053-1681639200-1681653600@esrbc.org
SUMMARY:Family Sunday Community Bike Rides
DESCRIPTION:
URL:https://esrbc.org/event/family-sunday-community-bike-rides/2023-04-16/
LOCATION:East Riders Bike Store\, 12020 S. Central Ave.\, Los Angeles\, CA\, 90059\, United States
END:VEVENT
BEGIN:VEVENT
DTSTART;TZID=America/Los_Angeles:20230409T100000
DTEND;TZID=America/Los_Angeles:20230409T140000
DTSTAMP:20260421T143744
CREATED:20230328T021725Z
LAST-MODIFIED:20230328T021725Z
UID:10001052-1681034400-1681048800@esrbc.org
SUMMARY:Family Sunday Community Bike Rides
DESCRIPTION:
URL:https://esrbc.org/event/family-sunday-community-bike-rides/2023-04-09/
LOCATION:East Riders Bike Store\, 12020 S. Central Ave.\, Los Angeles\, CA\, 90059\, United States
END:VEVENT
BEGIN:VEVENT
DTSTART;TZID=America/Los_Angeles:20230402T100000
DTEND;TZID=America/Los_Angeles:20230402T140000
DTSTAMP:20260421T143744
CREATED:20230328T021725Z
LAST-MODIFIED:20230328T021725Z
UID:10001051-1680429600-1680444000@esrbc.org
SUMMARY:Family Sunday Community Bike Rides
DESCRIPTION:
URL:https://esrbc.org/event/family-sunday-community-bike-rides/2023-04-02/
LOCATION:East Riders Bike Store\, 12020 S. Central Ave.\, Los Angeles\, CA\, 90059\, United States
END:VEVENT
END:VCALENDAR